From mboxrd@z Thu Jan 1 00:00:00 1970 Return-Path: Received: from mails.dpdk.org (mails.dpdk.org [217.70.189.124]) by inbox.dpdk.org (Postfix) with ESMTP id 49B9A488E2 for ; Wed, 8 Oct 2025 12:52:25 +0200 (CEST) Received: from mails.dpdk.org (localhost [127.0.0.1]) by mails.dpdk.org (Postfix) with ESMTP id 20BBF40297; Wed, 8 Oct 2025 12:52:25 +0200 (CEST) Received: from mail-pg1-f227.google.com (mail-pg1-f227.google.com [209.85.215.227]) by mails.dpdk.org (Postfix) with ESMTP id B726A40297 for ; Wed, 8 Oct 2025 12:52:23 +0200 (CEST) Received: by mail-pg1-f227.google.com with SMTP id 41be03b00d2f7-b62fcddfa21so2548605a12.1 for ; Wed, 08 Oct 2025 03:52:23 -0700 (PDT) DKIM-Signature: v=1; a=rsa-sha256; c=relaxed/relaxed; d=iol.unh.edu; s=unh-iol; t=1759920743; x=1760525543; darn=dpdk.org; h=references:in-reply-to:cc:to:from:subject:message-id:date:from:to :cc:subject:date:message-id:reply-to; bh=078CXJCfpZI5c1R3JZ0sYSEOQ3Bw+0ah4uJj7VoiNQk=; b=QlgdVmEwsdd0tdllm8bI3PZRVQnsk76ft7Sv+5JVHhl6iakaTWUJF1vmePs7OLKD43 MB3MCPNcViDKvzTF5zR/fmAqs4AqabDBpLxs8zzVzCgzN2f2wASXnQKxm0uYoNX3QcfN BshOETz4kKGA9ZPPI1tPdoT/xJri1tGF3AVrw= X-Google-DKIM-Signature: v=1; a=rsa-sha256; c=relaxed/relaxed; d=1e100.net; s=20230601; t=1759920743; x=1760525543; h=references:in-reply-to:cc:to:from:subject:message-id:date :x-gm-message-state:from:to:cc:subject:date:message-id:reply-to; bh=078CXJCfpZI5c1R3JZ0sYSEOQ3Bw+0ah4uJj7VoiNQk=; b=OMfahOCnzV8VOltRpZPnan7eGwoMyFiJM+0zlqzW/hCgJeZFzIxmweCFRV3wHvFUoh ALoHgE5jQB/TsNS5lMVn6krQ6AgghR6JVeo7St8V/hmI6wdKhezM2HgqmYpHR5UBvcFZ +16oQzALsXW9GAHA7xLmfDwSwvOnThAAJXv0AprBJEIkY3nCTD6ecc0x3WPQwV97wvn0 hlbFhzj0m23PaGtVZweyW/akz1WOIFlrbHuAomuuq5cc8zazAUSC0jVwti6ygCC0LRD2 IkDOboRaste01H9/awoVHoHN4h7K2ssO808MVOrJURELECdNAgmLrkxRizoUX7a5r0hm MFew== X-Gm-Message-State: AOJu0Yy4Ydo3l60KsalIqL3RrnJwZtb1G/7XhWevfOxyrtOYQauEv5gh 8HQs/+vRyzZX3j0pG61MURs/acN3MDP9l9HgEN5wSl1cA4XZgMRgxQT/BBhseL9bTp4eXOU4j+d FxpDzQs/HpRA5lkFKvXl9VKNlfhjCFAuARvwxQZJaqeqR X-Gm-Gg: ASbGncsZ5Po0OEVMkW2hywwevcy4gxX39chxZwHtlI8KzhPCmuJkYsO+x3LEHVVlzSs S0OtIfxpPavrCYZExSHleEbox9jYH2efa2WCuEmBR0EUMUSrbvzy/1QfJhixwLC/KfGUu4gLJCq liPKVpvEeQVqQmrVMHpDY68tDor1gO1p5xWU3/KTak/JQipMvctya7/Ry3lZ7oIYvx0Nscpeodp F9AYqqk9yMdKC/5DRCQHdTkUtuNgwM/YQWApPnmimgIfjPmhtu01B2n2zafLHjmF0B1tz4ldZA0 XyFFrUW/ynxPajfu6+lbwfJkvetvua+/8a3WSOLyzrqP1E4GFbBWyPixRwtNiA+q5EbdA4v5VzA Idw== X-Google-Smtp-Source: AGHT+IEtMGMQHgXRENnYpRRJQ800K7HjmBFhtBHSSSRIDvJ9vsEgzNdSQZxhyYCU52Ok8vUnA2IFz9TfE2uz X-Received: by 2002:a17:903:1aae:b0:273:7d52:e510 with SMTP id d9443c01a7336-290273038c3mr37369955ad.58.1759920742762; Wed, 08 Oct 2025 03:52:22 -0700 (PDT) Received: from postal.iol.unh.edu (postal.iol.unh.edu. [132.177.123.84]) by smtp-relay.gmail.com with ESMTPS id d9443c01a7336-28e8d10843fsm14345205ad.7.2025.10.08.03.52.22 (version=TLS1_2 cipher=ECDHE-ECDSA-AES128-GCM-SHA256 bits=128/128); Wed, 08 Oct 2025 03:52:22 -0700 (PDT) X-Relaying-Domain: iol.unh.edu Date: Wed, 08 Oct 2025 03:52:22 -0700 (PDT) Message-ID: <68e64266.170a0220.2487af.da90SMTPIN_ADDED_MISSING@mx.google.com> Received: from [172.21.0.2] (unknown [172.18.0.240]) by postal.iol.unh.edu (Postfix) with ESMTP id DFA6B6051830; Wed, 8 Oct 2025 06:52:21 -0400 (EDT) Subject: |SUCCESS| pw157315-157319 [PATCH] [v2,5/5] net/dpaa: Fix coverity is From: dpdklab@iol.unh.edu To: Test Report Cc: dpdk-test-reports@iol.unh.edu, Stephen Hemminger In-Reply-To: <20251008043519.2461707-6-g.singh@nxp.com> References: <20251008043519.2461707-6-g.singh@nxp.com> Content-Type: text/plain X-BeenThere: test-report@dpdk.org X-Mailman-Version: 2.1.29 Precedence: list List-Id: automatic DPDK test reports List-Unsubscribe: , List-Archive: List-Post: List-Help: List-Subscribe: , Errors-To: test-report-bounces@dpdk.org Test-Label: iol-unit-amd64-testing Test-Status: SUCCESS http://dpdk.org/patch/157319 _Testing PASS_ Submitter: Gagandeep Singh Date: Wednesday, October 08 2025 04:35:19 DPDK git baseline: Repo:dpdk-next-net Branch: master CommitID:c04bbd131b2c14b3049bf86d3ef367b34e6fdf1e 157315-157319 --> testing pass Upstream job id: Generic-Unit-Test-DPDK#379444 Test environment and result as below: +-------------------------------+----------------+ | Environment | dpdk_unit_test | +===============================+================+ | CentOS Stream 9 | PASS | +-------------------------------+----------------+ | CentOS Stream 10 | PASS | +-------------------------------+----------------+ | Fedora Linux 40 | PASS | +-------------------------------+----------------+ | Debian GNU/Linux 12 | PASS | +-------------------------------+----------------+ | Fedora Linux 41 | PASS | +-------------------------------+----------------+ | Fedora Linux 42 | PASS | +-------------------------------+----------------+ | Red Hat Enterprise Linux 9.5 | PASS | +-------------------------------+----------------+ | Red Hat Enterprise Linux 8.10 | PASS | +-------------------------------+----------------+ | Ubuntu 20.04 | PASS | +-------------------------------+----------------+ | Ubuntu 24.04 | PASS | +-------------------------------+----------------+ | Ubuntu 22.04 | PASS | +-------------------------------+----------------+ | Windows Server 2022 | PASS | +-------------------------------+----------------+ CentOS Stream 9 Kernel: 5.15 Compiler: gcc gcc (GCC) 11.5.0 20240719 (Red Hat 11.5.0-11) CentOS Stream 10 Kernel: 5.15 Compiler: gcc gcc (GCC) 14.2.1 20250110 (Red Hat 14.2.1-8) Fedora Linux 40 Kernel: 5.15 Compiler: gcc gcc (GCC) 14.2.1 20240912 (Red Hat 14.2.1-3) Debian GNU/Linux 12 Kernel: 5.15 Compiler: gcc gcc (Debian 12.2.0-14+deb12u1) 12.2.0 Fedora Linux 41 Kernel: 5.15 Compiler: gcc gcc (GCC) 14.3.1 20250523 (Red Hat 14.3.1-1) Fedora Linux 42 Kernel: 5.15 Compiler: clang gcc (GCC) 15.2.1 20250808 (Red Hat 15.2.1-1) Red Hat Enterprise Linux 9.5 Kernel: 5.15 Compiler: gcc gcc (GCC) 11.5.0 20240719 (Red Hat 11.5.0-2) Red Hat Enterprise Linux 8.10 Kernel: 5.15 Compiler: gcc gcc (GCC) 8.5.0 20210514 (Red Hat 8.5.0-22) Ubuntu 20.04 Kernel: 5.15 Compiler: gcc gcc (Ubuntu 9.4.0-1ubuntu1~20.04.2) 9.4.0 Ubuntu 24.04 Kernel: 5.15 Compiler: gcc gcc (Ubuntu 13.3.0-6ubuntu2~24.04) 13.3.0 Ubuntu 22.04 Kernel: 5.15 Compiler: gcc gcc (Ubuntu 11.4.0-1ubuntu1~22.04) 11.4.0 Windows Server 2022 Kernel: 10.0.20348.2031 Compiler: clang 15.0.7, gcc 14.1.0 (MinGW), and MSVC VS 19.39.33521 To view detailed results, visit: https://lab.dpdk.org/results/dashboard/patchsets/34232/ UNH-IOL DPDK Community Lab To manage your email subscriptions, visit: https://lab.dpdk.org/results/dashboard/preferences/subscriptions/