From mboxrd@z Thu Jan 1 00:00:00 1970 Return-Path: Received: from mails.dpdk.org (mails.dpdk.org [217.70.189.124]) by inbox.dpdk.org (Postfix) with ESMTP id 307D8488E2 for ; Wed, 8 Oct 2025 13:00:33 +0200 (CEST) Received: from mails.dpdk.org (localhost [127.0.0.1]) by mails.dpdk.org (Postfix) with ESMTP id 1728A40297; Wed, 8 Oct 2025 13:00:33 +0200 (CEST) Received: from mail-il1-f228.google.com (mail-il1-f228.google.com [209.85.166.228]) by mails.dpdk.org (Postfix) with ESMTP id 24E0640297 for ; Wed, 8 Oct 2025 13:00:32 +0200 (CEST) Received: by mail-il1-f228.google.com with SMTP id e9e14a558f8ab-4248b34fc8eso75106875ab.3 for ; Wed, 08 Oct 2025 04:00:32 -0700 (PDT) DKIM-Signature: v=1; a=rsa-sha256; c=relaxed/relaxed; d=iol.unh.edu; s=unh-iol; t=1759921231; x=1760526031; darn=dpdk.org; h=references:in-reply-to:cc:to:from:subject:message-id:date:from:to :cc:subject:date:message-id:reply-to; bh=LyeRAJDtPhTICxbn070zMvrxjGHtmVLmojS8BnfTp20=; b=ArzGoeye3ATUljDfNIoqPJA/nIGD6YHDMFb+w6zKEGSrfRiQ2qj+I2Z7iCarUv6BEz WN4ah1kiArqecPefTY6xcN5KDkQPJgVzSL7L0K1z7E452K9gqBoiNWWp/s6VF0HdLW0P xtLlZMkxaNVGfk5XMa5H1JuQ5zRmgpXjLr1Vo= X-Google-DKIM-Signature: v=1; a=rsa-sha256; c=relaxed/relaxed; d=1e100.net; s=20230601; t=1759921231; x=1760526031; h=references:in-reply-to:cc:to:from:subject:message-id:date :x-gm-message-state:from:to:cc:subject:date:message-id:reply-to; bh=LyeRAJDtPhTICxbn070zMvrxjGHtmVLmojS8BnfTp20=; b=wZpVUKWoevWE7V0hwwR+ojS0Ftx4jLepYZoBhbSUBHICYwfJQnNdNqguTgeD7k0HKY OgEpvQUDagaP9jcZEPsdz6zQ512tX88D0ma/ESVKB/n842mWSoSpOTRhsxyoNSfjoVS4 3nMp526Zq+ukQWuFZ8pv4wxS0J1vLe6W6K0+ThueR3+3xRAJA+Veo9eLoslJMtAgyasS Q1nXfd54pTMnoRx3eDndmD1zmA8Ywj1G7/+BOlM7SpMX5w2b13E0z2MO4tfxLs92Zgkg SrCjbMaGUPO9lt7BWF0uTgjqh41tpqK8cdcXAkcgsTp7WIVzOqSpfOeI6dW+LWnw2hbV UBJQ== X-Gm-Message-State: AOJu0Yxx0LwnU9PYhHnt9D7vOfrxS7zdrbBRrokdjHM8BgdHHj22iRsZ g5csehTLlAUF/rvTe/yl2JCBjUbO4ghDtvMt2TRmVNtyCnY2BrHUnpT3MPu9YFmQCU/6LVrpFtj W32OFVSF+V1d/spwTg8Emt4dGTQEaEppSSkk8FcqnPMqO X-Gm-Gg: ASbGncunMr6engu/5UkuPDC3tSA00xJcdDgQeZRUqmYGI1DXbPmXJe4cR8kScM/SHG8 m6O827FxELfS7kOvAxq9uxov/dULGD2DEPV+pC1+vgLtzh7ejOMy+xKfQAB5c1l7KuM1UbCCGbQ jCoI0RNXoKbMMG44VjjUstbgwOXEmViw4WSY+Q/efmHSfgkEJcIV9cIEjYoFuQSvo9+/UiY4+4V gUsEnjjqOJ9VBVZ15ru8OKd9vwuk6fPMtJiXitaHLs8GANYXpALNOwVWIR/z5WFYFYxxhQXuLzj ftbKQkjvMI2C+xj67Ocu1pDRS7XrDy7tzfcIljpxJA7Dy4BxN5Mt1sd4KGeK60UUHUSN87T3qLo gPw== X-Google-Smtp-Source: AGHT+IG9hMsgKK43jxtWTBnoEUowqygvM2gHeBCL2HQ4kQIhQfF3k1ggg3Q5cXHdHaZ/6yZ+9K7npiYoSowG X-Received: by 2002:a92:ca4f:0:b0:42d:84ea:b370 with SMTP id e9e14a558f8ab-42f873d1fa9mr25278715ab.16.1759921231296; Wed, 08 Oct 2025 04:00:31 -0700 (PDT) Received: from postal.iol.unh.edu (postal.iol.unh.edu. [132.177.123.84]) by smtp-relay.gmail.com with ESMTPS id e9e14a558f8ab-42f8b245c1fsm960145ab.18.2025.10.08.04.00.31 (version=TLS1_2 cipher=ECDHE-ECDSA-AES128-GCM-SHA256 bits=128/128); Wed, 08 Oct 2025 04:00:31 -0700 (PDT) X-Relaying-Domain: iol.unh.edu Date: Wed, 08 Oct 2025 04:00:31 -0700 (PDT) Message-ID: <68e6444f.050a0220.88643.4d70SMTPIN_ADDED_MISSING@mx.google.com> Received: from [172.21.0.3] (unknown [172.18.0.240]) by postal.iol.unh.edu (Postfix) with ESMTP id D28466051830; Wed, 8 Oct 2025 07:00:30 -0400 (EDT) Subject: |SUCCESS| pw157329 [PATCH] [v2] compressdev: update device ID valida From: dpdklab@iol.unh.edu To: Test Report Cc: dpdk-test-reports@iol.unh.edu, Akhil Goyal In-Reply-To: <20251008094555.3078441-1-ashishg@marvell.com> References: <20251008094555.3078441-1-ashishg@marvell.com> Content-Type: text/plain X-BeenThere: test-report@dpdk.org X-Mailman-Version: 2.1.29 Precedence: list List-Id: automatic DPDK test reports List-Unsubscribe: , List-Archive: List-Post: List-Help: List-Subscribe: , Errors-To: test-report-bounces@dpdk.org Test-Label: iol-compile-amd64-testing Test-Status: SUCCESS http://dpdk.org/patch/157329 _Testing PASS_ Submitter: Ashish Gupta Date: Wednesday, October 08 2025 09:45:24 DPDK git baseline: Repo:dpdk-next-crypto Branch: master CommitID:2aa7141a4e2c78e3cce03dbd613532a2166123c1 157329 --> testing pass Upstream job id: Windows-Compile-DPDK-Native#31495 Test environment and result as below: +---------------------+--------------------+-------------------+-------------------------+ | Environment | dpdk_meson_compile | dpdk_msvc_compile | dpdk_llvm_clang_compile | +=====================+====================+===================+=========================+ | Ubuntu 20.04 | PASS | SKIPPED | SKIPPED | +---------------------+--------------------+-------------------+-------------------------+ | FreeBSD 14.2 | PASS | SKIPPED | SKIPPED | +---------------------+--------------------+-------------------+-------------------------+ | Windows Server 2022 | SKIPPED | PASS | PASS | +---------------------+--------------------+-------------------+-------------------------+ Ubuntu 20.04 Kernel: 4.19 Compiler: gcc gcc (Ubuntu 9.4.0-1ubuntu1~20.04.2) 9.4.0 FreeBSD 14.2 Kernel: 14.2-RELEASE Compiler: clang 18.1.6 Windows Server 2022 Kernel: 10.0.20348.2031 Compiler: clang 15.0.7, gcc 14.1.0 (MinGW), and MSVC VS 19.39.33521 To view detailed results, visit: https://lab.dpdk.org/results/dashboard/patchsets/34237/ UNH-IOL DPDK Community Lab To manage your email subscriptions, visit: https://lab.dpdk.org/results/dashboard/preferences/subscriptions/