From mboxrd@z Thu Jan 1 00:00:00 1970 Return-Path: Received: from mails.dpdk.org (mails.dpdk.org [217.70.189.124]) by inbox.dpdk.org (Postfix) with ESMTP id DB1AA488E2 for ; Wed, 8 Oct 2025 13:17:53 +0200 (CEST) Received: from mails.dpdk.org (localhost [127.0.0.1]) by mails.dpdk.org (Postfix) with ESMTP id D612240297; Wed, 8 Oct 2025 13:17:53 +0200 (CEST) Received: from mail-pj1-f99.google.com (mail-pj1-f99.google.com [209.85.216.99]) by mails.dpdk.org (Postfix) with ESMTP id 5A1FA40297 for ; Wed, 8 Oct 2025 13:17:52 +0200 (CEST) Received: by mail-pj1-f99.google.com with SMTP id 98e67ed59e1d1-3304a57d842so6666386a91.3 for ; Wed, 08 Oct 2025 04:17:52 -0700 (PDT) DKIM-Signature: v=1; a=rsa-sha256; c=relaxed/relaxed; d=iol.unh.edu; s=unh-iol; t=1759922271; x=1760527071; darn=dpdk.org; h=references:in-reply-to:cc:to:from:subject:message-id:date:from:to :cc:subject:date:message-id:reply-to; bh=oW90u8TeY17+nxpPGPkC/kt4KJCIi4a1mz6+GKVAPXY=; b=AIzVcQBM3R2kb94JP1b6lauBbWNFwxnaxbKdOyKfCtHvT+0XQMhJuwbXpI7saP2J89 aIvqW03cjSzJJJ2SPQugJLtXq8kFmx/1JDKslWLB0pBJBGH4dtEHNdPZd5BzqkWPHz50 U1ZiTC4EIT/tmIZd8N5DHCH8eC87P8aeBWXCA= X-Google-DKIM-Signature: v=1; a=rsa-sha256; c=relaxed/relaxed; d=1e100.net; s=20230601; t=1759922271; x=1760527071; h=references:in-reply-to:cc:to:from:subject:message-id:date :x-gm-message-state:from:to:cc:subject:date:message-id:reply-to; bh=oW90u8TeY17+nxpPGPkC/kt4KJCIi4a1mz6+GKVAPXY=; b=dZ++gay1VHZVews29042ANPSColQsdzJwrdqAH8TNmUZTicvDjKq7w5KGyyX3QM6D7 wIlFBhAJ8eEgDmDN19FRaZDbB4BCD2/BQuEvuaNraeveE5e9f9ay5bHo8CEihZOXqpgm iNtIIFtVcmFROuknM/54TT6zB+M0PXnko+wRln6IY8P47S3QDlmIIRUswZvy7FZrYuDL nNmAh4u3ZL82hbFM0TtAUg7+Y6Zfw8E5PT/IRKnfZN/U7sUef1fGZxeVaQHbTf9BLhVV EtIsJguT2h7802NGNSVZqVGzNMba5f50BgCJ3/NdAvYfpK/XSmzQsimTkRM7xGzsQw2N Qs5A== X-Gm-Message-State: AOJu0YxqSwuvdkvKOuiS5eJUU67Go77N4hF2FwsndeBxhuZk2Fq5xRxI U5qgqXwNuBfoJo2j0+LHYJcbfHEivppl7BiHLEa4lU1FMijgGzBaletLf16dFucT3EG/0IqaCUX BU+DKm2B7isB085Tp2NrT0v7kmxJXDLfsNKK3n4dhmYdx1v/xpjpztylb4ArU X-Gm-Gg: ASbGncv5jmqT6KT9g2m7j6zB0L3QCExD5sjvTiVOhfSP57qkzKttPYSTIm+N4Pd2px4 d/HRN2ReW5PPkQFtdzTMgEibFqKDvudLLXuEY0zHbnEYeoe0kKemKhinPWGT7uG3/U+dq9ss6xh 1DDJQKVl25nVlXC+TbJYzAl3uaAlBYskEYqFeT2KNukvecHEYpgdgbAL3JQQ09RqG1bHU1VrWUK EsVtqLqsARVJ8G8YYao+xHuKwfYSCX7Urt4yfM7t/VQSoJ34NWVU2TRD0uzPtq/QzOIkeiuIlsN PgCpsU0cGwCaa2iJSEdxH58HTwR6p21S8fr0dZfPIattFOk64nhScqk= X-Google-Smtp-Source: AGHT+IH8+TEA1JvNq/0Liwf8nouyJ6E1b5g3OFFXx7eVn2HdXLd7WuKxOCgA0iK4NhchRpmRu1Sjc07B5iz+ X-Received: by 2002:a17:90b:1d09:b0:32b:bc2c:f9fd with SMTP id 98e67ed59e1d1-33b513b2e8bmr4087769a91.24.1759922271411; Wed, 08 Oct 2025 04:17:51 -0700 (PDT) Received: from postal.iol.unh.edu (postal.iol.unh.edu. [2606:4100:3880:1234::84]) by smtp-relay.gmail.com with ESMTPS id 98e67ed59e1d1-33b51156e7dsm222651a91.4.2025.10.08.04.17.51 (version=TLS1_2 cipher=ECDHE-ECDSA-AES128-GCM-SHA256 bits=128/128); Wed, 08 Oct 2025 04:17:51 -0700 (PDT) X-Relaying-Domain: iol.unh.edu Date: Wed, 08 Oct 2025 04:17:51 -0700 (PDT) Message-ID: <68e6485f.170a0220.3118f0.b82cSMTPIN_ADDED_MISSING@mx.google.com> Received: from [172.21.0.3] (unknown [172.18.0.240]) by postal.iol.unh.edu (Postfix) with ESMTP id AE44A6051830; Wed, 8 Oct 2025 07:17:50 -0400 (EDT) Subject: |SUCCESS| pw157320 [PATCH] app/crypto-perf: add ECDSA P192/P224/P521 From: dpdklab@iol.unh.edu To: Test Report Cc: dpdk-test-reports@iol.unh.edu, Akhil Goyal In-Reply-To: <20251008054059.3934959-1-rchiluka@marvell.com> References: <20251008054059.3934959-1-rchiluka@marvell.com> Content-Type: text/plain X-BeenThere: test-report@dpdk.org X-Mailman-Version: 2.1.29 Precedence: list List-Id: automatic DPDK test reports List-Unsubscribe: , List-Archive: List-Post: List-Help: List-Subscribe: , Errors-To: test-report-bounces@dpdk.org Test-Label: iol-unit-amd64-testing Test-Status: SUCCESS http://dpdk.org/patch/157320 _Testing PASS_ Submitter: Rupesh Chiluka Date: Wednesday, October 08 2025 05:40:59 DPDK git baseline: Repo:dpdk-next-crypto Branch: master CommitID:2aa7141a4e2c78e3cce03dbd613532a2166123c1 157320 --> testing pass Upstream job id: Generic-Unit-Test-DPDK#379484 Test environment and result as below: +-------------------------------+----------------+ | Environment | dpdk_unit_test | +===============================+================+ | CentOS Stream 9 | PASS | +-------------------------------+----------------+ | Debian GNU/Linux 12 | PASS | +-------------------------------+----------------+ | CentOS Stream 10 | PASS | +-------------------------------+----------------+ | Fedora Linux 40 | PASS | +-------------------------------+----------------+ | Fedora Linux 41 | PASS | +-------------------------------+----------------+ | Fedora Linux 42 | PASS | +-------------------------------+----------------+ | Ubuntu 24.04 | PASS | +-------------------------------+----------------+ | Red Hat Enterprise Linux 8.10 | PASS | +-------------------------------+----------------+ | Ubuntu 20.04 | PASS | +-------------------------------+----------------+ | Red Hat Enterprise Linux 9.5 | PASS | +-------------------------------+----------------+ | Windows Server 2022 | PASS | +-------------------------------+----------------+ | Ubuntu 22.04 | PASS | +-------------------------------+----------------+ CentOS Stream 9 Kernel: 5.15 Compiler: gcc gcc (GCC) 11.5.0 20240719 (Red Hat 11.5.0-11) Debian GNU/Linux 12 Kernel: 5.15 Compiler: gcc gcc (Debian 12.2.0-14+deb12u1) 12.2.0 CentOS Stream 10 Kernel: 5.15 Compiler: gcc gcc (GCC) 14.2.1 20250110 (Red Hat 14.2.1-8) Fedora Linux 40 Kernel: 5.15 Compiler: gcc gcc (GCC) 14.2.1 20240912 (Red Hat 14.2.1-3) Fedora Linux 41 Kernel: 5.15 Compiler: gcc gcc (GCC) 14.3.1 20250523 (Red Hat 14.3.1-1) Fedora Linux 42 Kernel: 5.15 Compiler: gcc gcc (GCC) 15.2.1 20250808 (Red Hat 15.2.1-1) Ubuntu 24.04 Kernel: 5.15 Compiler: gcc gcc (Ubuntu 13.3.0-6ubuntu2~24.04) 13.3.0 Red Hat Enterprise Linux 8.10 Kernel: 5.15 Compiler: gcc gcc (GCC) 8.5.0 20210514 (Red Hat 8.5.0-22) Ubuntu 20.04 Kernel: 5.15 Compiler: gcc gcc (Ubuntu 9.4.0-1ubuntu1~20.04.2) 9.4.0 Red Hat Enterprise Linux 9.5 Kernel: 5.15 Compiler: gcc gcc (GCC) 11.5.0 20240719 (Red Hat 11.5.0-2) Windows Server 2022 Kernel: 10.0.20348.2031 Compiler: clang 15.0.7, gcc 14.1.0 (MinGW), and MSVC VS 19.39.33521 Ubuntu 22.04 Kernel: 5.15 Compiler: gcc gcc (Ubuntu 11.4.0-1ubuntu1~22.04) 11.4.0 To view detailed results, visit: https://lab.dpdk.org/results/dashboard/patchsets/34233/ UNH-IOL DPDK Community Lab To manage your email subscriptions, visit: https://lab.dpdk.org/results/dashboard/preferences/subscriptions/