From mboxrd@z Thu Jan 1 00:00:00 1970 Return-Path: Received: from mails.dpdk.org (mails.dpdk.org [217.70.189.124]) by inbox.dpdk.org (Postfix) with ESMTP id 9F019488E2 for ; Wed, 8 Oct 2025 13:40:01 +0200 (CEST) Received: from mails.dpdk.org (localhost [127.0.0.1]) by mails.dpdk.org (Postfix) with ESMTP id 9653E40297; Wed, 8 Oct 2025 13:40:01 +0200 (CEST) Received: from mail-il1-f227.google.com (mail-il1-f227.google.com [209.85.166.227]) by mails.dpdk.org (Postfix) with ESMTP id 7B94740297 for ; Wed, 8 Oct 2025 13:40:00 +0200 (CEST) Received: by mail-il1-f227.google.com with SMTP id e9e14a558f8ab-42e6df6fe53so31266065ab.2 for ; Wed, 08 Oct 2025 04:40:00 -0700 (PDT) DKIM-Signature: v=1; a=rsa-sha256; c=relaxed/relaxed; d=iol.unh.edu; s=unh-iol; t=1759923600; x=1760528400; darn=dpdk.org; h=references:in-reply-to:cc:to:from:subject:message-id:date:from:to :cc:subject:date:message-id:reply-to; bh=yg1FebFuvoQfUrorsFUKyFA4cqd6H0P3KpL3T610x8A=; b=erCPwUOXn0Gb0GVDAf3TBv2iT6feD0RAtwUsPq5qGwk+ftJHmSFM/ZmGRMdBPNnxO4 MDZysQcdy0yJhv0U8emDjl8X3u4vN+X7pUCiItpFQlK/1cRHxDFFDqspgD0TwffSHVtu fRsHqReZ6yQi5Pbgjq16LC66wmnU8xPczVxSY= X-Google-DKIM-Signature: v=1; a=rsa-sha256; c=relaxed/relaxed; d=1e100.net; s=20230601; t=1759923600; x=1760528400; h=references:in-reply-to:cc:to:from:subject:message-id:date :x-gm-message-state:from:to:cc:subject:date:message-id:reply-to; bh=yg1FebFuvoQfUrorsFUKyFA4cqd6H0P3KpL3T610x8A=; b=WPH5eV/+Rlctnlz7ZPk9ct0vp/2cCrUjIwePGIymP518td/l16ynIAxVVsxPI11r33 t5wO+C6tToNGUtSY89UO25RvLDHUWE4QBitOdZaUIQ/DCxyM02VxopXVxCjca9Jypj2W PNvNVNN04yt/59ng7M18WqWV2Qpgqsexf2MOdKD7blMR1Ez50h0q3iCG1UPbO6m1jNZ4 rrOVEq/ztV+XpmuIIn0cnDtgKTQsxI0v/FcgZpEJ7frzVKliJnd4OxrCun84Qm2SSlSu EzpK2tR4Y2dquklzx/b33IDirxU1qsP/67B+E8rL0alW6VyvFUN4mqpn1CA/PRIce6in RM0A== X-Gm-Message-State: AOJu0YxwKcYgZMCwSTB0De7e2A8aRH3gPO6nrpjEPEVq8KiQK4qiLF0V I4Y1pa2YRi1WmHJExEVwChid+3/yAZkdRrEYnOguWk8EEZzOKJhD/T2xHCtPhSAs75jNhPbHCY7 Bt57uZemgd0+cAo9Y6UJc9AgA6+SdAbSjDDL9XbGEnNNErbfKYWwZZiG/Ppey X-Gm-Gg: ASbGnctJ0ZrM6nBSJZ6Jiy2qT7Gg93IaDUFpEF5+wzz2rz8VOYVtd817bWn3bTZMCCs WSRwO/2HKslPaSg8H2lru6BmxwNM6NSyNl61xJFVy59GKQd3yK5kbb5lrUKlnlejVCYnmTvIqC8 w+gFo6duic9cvNU/W2BMDY8U5QM0CHuLJtg4NG0Uq5kRFMX2KFGhbwCTIyIiKt0kJk3JDEKwGqI NkkByUhQrFeGSGlz65rXg4xEpU3mk4j8E97MDxhbSLvMAwioAVr8r7sY2xpRxfN+6m+ocuVRGS+ 8Bgsa32JEYmBV3VqVYNYsV8wx5tRQdjetx+M1bVO+b21PB6DJJCi9T8= X-Google-Smtp-Source: AGHT+IF7bLDQe5Z6O91/nufE7xz1OsHttXEXEHfCB+EgK4qllEEkh6KrHd7OhGZPucs+9N/UGMRc80/X191t X-Received: by 2002:a05:6e02:198a:b0:428:7ace:e591 with SMTP id e9e14a558f8ab-42f87403db4mr24988325ab.16.1759923599500; Wed, 08 Oct 2025 04:39:59 -0700 (PDT) Received: from postal.iol.unh.edu (postal.iol.unh.edu. [2606:4100:3880:1234::84]) by smtp-relay.gmail.com with ESMTPS id e9e14a558f8ab-42d8b29c125sm14153125ab.38.2025.10.08.04.39.59 (version=TLS1_2 cipher=ECDHE-ECDSA-AES128-GCM-SHA256 bits=128/128); Wed, 08 Oct 2025 04:39:59 -0700 (PDT) X-Relaying-Domain: iol.unh.edu Date: Wed, 08 Oct 2025 04:39:59 -0700 (PDT) Message-ID: <68e64d8f.050a0220.88385.c746SMTPIN_ADDED_MISSING@mx.google.com> Received: from [172.21.0.2] (unknown [172.18.0.240]) by postal.iol.unh.edu (Postfix) with ESMTP id 0C5F060003EA; Wed, 8 Oct 2025 07:39:59 -0400 (EDT) Subject: |SUCCESS| pw157321 [PATCH] [v6] net/intel: add IDPF PCI class ID sup From: dpdklab@iol.unh.edu To: Test Report Cc: dpdk-test-reports@iol.unh.edu, Bruce Richardson In-Reply-To: <20251006181239.362664-1-venkatesh.vemula@intel.com> References: <20251006181239.362664-1-venkatesh.vemula@intel.com> Content-Type: text/plain X-BeenThere: test-report@dpdk.org X-Mailman-Version: 2.1.29 Precedence: list List-Id: automatic DPDK test reports List-Unsubscribe: , List-Archive: List-Post: List-Help: List-Subscribe: , Errors-To: test-report-bounces@dpdk.org Test-Label: iol-unit-amd64-testing Test-Status: SUCCESS http://dpdk.org/patch/157321 _Testing PASS_ Submitter: Venkatesh Vemula Date: Monday, October 06 2025 18:12:39 DPDK git baseline: Repo:dpdk-next-net-intel Branch: master CommitID:e7d8cc7ef4df3552575525697079d3c957cfcdaf 157321 --> testing pass Upstream job id: Generic-Unit-Test-DPDK#379521 Test environment and result as below: +-------------------------------+----------------+ | Environment | dpdk_unit_test | +===============================+================+ | CentOS Stream 9 | PASS | +-------------------------------+----------------+ | CentOS Stream 10 | PASS | +-------------------------------+----------------+ | Debian GNU/Linux 12 | PASS | +-------------------------------+----------------+ | Fedora Linux 40 | PASS | +-------------------------------+----------------+ | Fedora Linux 41 | PASS | +-------------------------------+----------------+ | Fedora Linux 42 | PASS | +-------------------------------+----------------+ | Red Hat Enterprise Linux 8.10 | PASS | +-------------------------------+----------------+ | Red Hat Enterprise Linux 9.5 | PASS | +-------------------------------+----------------+ | Ubuntu 20.04 | PASS | +-------------------------------+----------------+ | Ubuntu 24.04 | PASS | +-------------------------------+----------------+ | Ubuntu 22.04 | PASS | +-------------------------------+----------------+ | Windows Server 2022 | PASS | +-------------------------------+----------------+ CentOS Stream 9 Kernel: 5.15 Compiler: gcc gcc (GCC) 11.5.0 20240719 (Red Hat 11.5.0-11) CentOS Stream 10 Kernel: 5.15 Compiler: gcc gcc (GCC) 14.2.1 20250110 (Red Hat 14.2.1-8) Debian GNU/Linux 12 Kernel: 5.15 Compiler: gcc gcc (Debian 12.2.0-14+deb12u1) 12.2.0 Fedora Linux 40 Kernel: 5.15 Compiler: gcc gcc (GCC) 14.2.1 20240912 (Red Hat 14.2.1-3) Fedora Linux 41 Kernel: 5.15 Compiler: gcc gcc (GCC) 14.3.1 20250523 (Red Hat 14.3.1-1) Fedora Linux 42 Kernel: 5.15 Compiler: gcc gcc (GCC) 15.2.1 20250808 (Red Hat 15.2.1-1) Red Hat Enterprise Linux 8.10 Kernel: 5.15 Compiler: gcc gcc (GCC) 8.5.0 20210514 (Red Hat 8.5.0-22) Red Hat Enterprise Linux 9.5 Kernel: 5.15 Compiler: gcc gcc (GCC) 11.5.0 20240719 (Red Hat 11.5.0-2) Ubuntu 20.04 Kernel: 5.15 Compiler: gcc gcc (Ubuntu 9.4.0-1ubuntu1~20.04.2) 9.4.0 Ubuntu 24.04 Kernel: 5.15 Compiler: gcc gcc (Ubuntu 13.3.0-6ubuntu2~24.04) 13.3.0 Ubuntu 22.04 Kernel: 5.15 Compiler: gcc gcc (Ubuntu 11.4.0-1ubuntu1~22.04) 11.4.0 Windows Server 2022 Kernel: 10.0.20348.2031 Compiler: clang 15.0.7, gcc 14.1.0 (MinGW), and MSVC VS 19.39.33521 To view detailed results, visit: https://lab.dpdk.org/results/dashboard/patchsets/34234/ UNH-IOL DPDK Community Lab To manage your email subscriptions, visit: https://lab.dpdk.org/results/dashboard/preferences/subscriptions/