From mboxrd@z Thu Jan 1 00:00:00 1970 Return-Path: Received: from mails.dpdk.org (mails.dpdk.org [217.70.189.124]) by inbox.dpdk.org (Postfix) with ESMTP id 9E3F9488E2 for ; Wed, 8 Oct 2025 13:50:21 +0200 (CEST) Received: from mails.dpdk.org (localhost [127.0.0.1]) by mails.dpdk.org (Postfix) with ESMTP id 99B8F4025F; Wed, 8 Oct 2025 13:50:21 +0200 (CEST) Received: from mail-io1-f98.google.com (mail-io1-f98.google.com [209.85.166.98]) by mails.dpdk.org (Postfix) with ESMTP id D6F6B4025F for ; Wed, 8 Oct 2025 13:50:19 +0200 (CEST) Received: by mail-io1-f98.google.com with SMTP id ca18e2360f4ac-92c781fd73aso627858439f.1 for ; Wed, 08 Oct 2025 04:50:19 -0700 (PDT) DKIM-Signature: v=1; a=rsa-sha256; c=relaxed/relaxed; d=iol.unh.edu; s=unh-iol; t=1759924219; x=1760529019; darn=dpdk.org; h=references:in-reply-to:cc:to:from:subject:message-id:date:from:to :cc:subject:date:message-id:reply-to; bh=kDvlQD4OodSPzhCG7zBzCX2noebepcnIUwnRsH5C55I=; b=TGTM86wYZqscqLlz/l3V2qN9oxIItQEit09Je6laT4+YTC4y6LDwAifZwbiJMkwyax dS/dPgTO9lU/dLtG0o0CkxV2oNZZHt2V71KFkxigz+8r+7Vu/UmBr4BsfeDwBjDBYfTS EHUqOa7KsC9Lo+BjlRU1jY1sQhxY6IYHPftA4= X-Google-DKIM-Signature: v=1; a=rsa-sha256; c=relaxed/relaxed; d=1e100.net; s=20230601; t=1759924219; x=1760529019; h=references:in-reply-to:cc:to:from:subject:message-id:date :x-gm-message-state:from:to:cc:subject:date:message-id:reply-to; bh=kDvlQD4OodSPzhCG7zBzCX2noebepcnIUwnRsH5C55I=; b=cg4U7+McQ7GO/ktrRPjVcEhkyhBHKEnkXXxex6csNyJrNW6LHRXctatlL/uWTg6oN3 kflJjlifjYsczAs3hM7SA+ln6VNB3RtOWEgnH+DqxyrcR3n7KpnVK8d+Egez0A3q8E48 pKqjaOavwF94jyOggNX8lM2P7sfvfyvpvxNx+uXJ00vvMUa5VZpIMYN92jm6xTs+resu Iywbistxu6EzBKxodiaJQ7spQd6PyEZiemFECtt5FomF2MZjP7skw0lM9ZisCoz2h95i hFFcLJMLnPIzxzO5FVnuwtdZU23unxOH9H3OAgtHEw+HoQmqmfzLfAHdTXZuQcNR/QVh 5HQQ== X-Gm-Message-State: AOJu0YxRkGc3EOdsNLmFstkFIgmNOSvyOKkyNo9TUBiqtvAHUfhtRy/G TbVdCXUVyXuSmp8Ol2oT62az/1DXCxIxtcgdowiucVqUVQC4v50qpv4srxzndebk/GM+EjQ0Vw4 nKX7CQO0z3tYr7Tss8khM5tKPnKzLr1L2hDuNOMBWGdim/FmmSGIjMId56DfM X-Gm-Gg: ASbGncurfTftorgjXribq+FxlGDhltJZGmrzsm4nMmC7R+5up7le90jPQwxtMNyq85m 7dV6XcMlIY41ibu6pEI4AxfXxjTkoMspyqCpq5Je+9jiKbF8meeBt+aMqwhtB6DszPbf148Cftn lmpBqu+UzZh2qd3EvTwNYxlMWSINN++9vsoF/gZsmNKmz3q9S8QhH+hmJVkzaSEUTYp6zT1oo6/ p5QarpfCWoZN5FDrkQnqsOWU16KGrn8fyM2joSCPjnNcQZr5ZjiZYveh0TMWllUHYkcdHzGnfwC ujdMbmC2Jtbhr3Hrf7eWK02ePPm+pgNB+DydfHN3BtIuAN0lvd8La8I= X-Google-Smtp-Source: AGHT+IGApjZcrSYT4pw8enhcwzVJrOUCdipqvYvlWUN/xwztTrWcfYAAbmh7kjDJzEtqOBteHQNLTMQ/ndGh X-Received: by 2002:a05:6602:6215:b0:93b:d412:e191 with SMTP id ca18e2360f4ac-93bd412e4c5mr137047739f.2.1759924219135; Wed, 08 Oct 2025 04:50:19 -0700 (PDT) Received: from postal.iol.unh.edu (postal.iol.unh.edu. [2606:4100:3880:1234::84]) by smtp-relay.gmail.com with ESMTPS id 8926c6da1cb9f-57b5eddf6ebsm1464972173.46.2025.10.08.04.50.19 (version=TLS1_2 cipher=ECDHE-ECDSA-AES128-GCM-SHA256 bits=128/128); Wed, 08 Oct 2025 04:50:19 -0700 (PDT) X-Relaying-Domain: iol.unh.edu Date: Wed, 08 Oct 2025 04:50:19 -0700 (PDT) Message-ID: <68e64ffb.050a0220.366dad.e82bSMTPIN_ADDED_MISSING@mx.google.com> Received: from [172.21.0.2] (unknown [172.18.0.240]) by postal.iol.unh.edu (Postfix) with ESMTP id A8EC36051830; Wed, 8 Oct 2025 07:50:18 -0400 (EDT) Subject: |SUCCESS| pw157330 [PATCH] [v2] compressdev: update device ID valida From: dpdklab@iol.unh.edu To: Test Report Cc: dpdk-test-reports@iol.unh.edu, Akhil Goyal In-Reply-To: <20251008095950.3078552-1-ashishg@marvell.com> References: <20251008095950.3078552-1-ashishg@marvell.com> Content-Type: text/plain X-BeenThere: test-report@dpdk.org X-Mailman-Version: 2.1.29 Precedence: list List-Id: automatic DPDK test reports List-Unsubscribe: , List-Archive: List-Post: List-Help: List-Subscribe: , Errors-To: test-report-bounces@dpdk.org Test-Label: iol-compile-amd64-testing Test-Status: SUCCESS http://dpdk.org/patch/157330 _Testing PASS_ Submitter: Ashish Gupta Date: Wednesday, October 08 2025 09:59:41 DPDK git baseline: Repo:dpdk-next-crypto Branch: master CommitID:2aa7141a4e2c78e3cce03dbd613532a2166123c1 157330 --> testing pass Upstream job id: Windows-Compile-DPDK-VS#7139 Test environment and result as below: +---------------------+--------------------+-------------------+ | Environment | dpdk_meson_compile | dpdk_msvc_compile | +=====================+====================+===================+ | FreeBSD 14.2 | PASS | SKIPPED | +---------------------+--------------------+-------------------+ | Ubuntu 20.04 | PASS | SKIPPED | +---------------------+--------------------+-------------------+ | Windows Server 2022 | SKIPPED | PASS | +---------------------+--------------------+-------------------+ FreeBSD 14.2 Kernel: 14.2-RELEASE Compiler: clang 18.1.6 Ubuntu 20.04 Kernel: 4.19 Compiler: gcc gcc (Ubuntu 9.4.0-1ubuntu1~20.04.2) 9.4.0 Windows Server 2022 Kernel: 10.0.20348.2031 Compiler: clang 15.0.7, gcc 14.1.0 (MinGW), and MSVC VS 19.39.33521 To view detailed results, visit: https://lab.dpdk.org/results/dashboard/patchsets/34238/ UNH-IOL DPDK Community Lab To manage your email subscriptions, visit: https://lab.dpdk.org/results/dashboard/preferences/subscriptions/