From mboxrd@z Thu Jan 1 00:00:00 1970 Return-Path: Received: from mails.dpdk.org (mails.dpdk.org [217.70.189.124]) by inbox.dpdk.org (Postfix) with ESMTP id D46C6488E2 for ; Wed, 8 Oct 2025 13:51:59 +0200 (CEST) Received: from mails.dpdk.org (localhost [127.0.0.1]) by mails.dpdk.org (Postfix) with ESMTP id CF9154025F; Wed, 8 Oct 2025 13:51:59 +0200 (CEST) Received: from mail-qv1-f100.google.com (mail-qv1-f100.google.com [209.85.219.100]) by mails.dpdk.org (Postfix) with ESMTP id D29874025F for ; Wed, 8 Oct 2025 13:51:57 +0200 (CEST) Received: by mail-qv1-f100.google.com with SMTP id 6a1803df08f44-78ed682e9d3so65573606d6.0 for ; Wed, 08 Oct 2025 04:51:57 -0700 (PDT) DKIM-Signature: v=1; a=rsa-sha256; c=relaxed/relaxed; d=iol.unh.edu; s=unh-iol; t=1759924317; x=1760529117; darn=dpdk.org; h=references:in-reply-to:cc:to:from:subject:message-id:date:from:to :cc:subject:date:message-id:reply-to; bh=RgNMUW5tzjUtmtjatPV/JpwFYJd60hXwd5YZuJ1kmWI=; b=d/Z8MRH/jkObnB86MqoJx21KB06Sl2XOFrMRCGOTFOdyu9TWhd0I81m2Gieg99lCFE UtQT6yb1TmJEfFTS3h0OFMngQ/Wjtr97xgkDCEJOJuTp+QyYI80s5EYzDxGVM1Ka8PCa +NhZn3yHP70PEtidEcSALAtQqYq1c6RnXP+cw= X-Google-DKIM-Signature: v=1; a=rsa-sha256; c=relaxed/relaxed; d=1e100.net; s=20230601; t=1759924317; x=1760529117; h=references:in-reply-to:cc:to:from:subject:message-id:date :x-gm-message-state:from:to:cc:subject:date:message-id:reply-to; bh=RgNMUW5tzjUtmtjatPV/JpwFYJd60hXwd5YZuJ1kmWI=; b=M59Z/+hJwSjodBxXpekAXZmjr5qQp0aqkSU019zUPiJjPUjEJeE5aDdSqbb4CTS8Ur bn2RX9E/2y9MaRa10sZ0FYZ5u1Pmjsr+i8TUiYaKbTlxi4WYdqk6cWLI0wJJi2d6HJ1p mXBO6Lu8MKtH0wiMWdJO7eiJm/Fgawp9CeAqtZxt6blpRqZMh23WZlD4r+Qt/nTb3VNp DEs3AjBjbHGW7Y3dI4EockTILT3G9qPs50y5loFR+PXGliSflg5jcdxASkb+ijyh2eUw GB9ZZzCsFSEw4suEGpinTOPT3QDka5RmyU9j1dN03DgajE/fVBxPigpHzDCyhURaOSJq HR9g== X-Gm-Message-State: AOJu0YwoO1Iz/6wpCYtN7meoaJRrlcFEvFuHTP0p1rnZcFneXnglCPSu tgdyKLzh/hAfi4viFKUvapC5FtLlDFnUPMckUwQ8LXFCAUdOa7JjWEi5pvagnU74u9ZoCC8n3Ah RwiEW3lREX2mQpB0I0l8p11dg832IpamV0uWaTzoksOX/ X-Gm-Gg: ASbGncvYu/ZpZXEbBkZMWnXhyVLivuX2nCZUYT8pzey0xfdFeEVYRzeKURGFMuxpqm7 68BufTaEN2IR+en543/yG3fBRaRxo34/XdY0jQ5/Zv4RhD5x4XGe+4DeWA9Jq4UuR7wgRB1jxAg Yk0Ezk8MJeZZv3tKJrRnpBBxhzcoYowbrDm0y4KuvhPluVyiT68g56rCXGPBz/Zy0RXqCQgTaAR aWRMmNqaD8i/hOYTZuH5/vdJQ4aVXUccwvr9NiWxHZ7GhZf4ydL0BT5e7DauzC0/0oFyR97VCRO maAuFSUL5seRDY23I7w18zGAf1nXU5tFYptXtgeaW6TdE9h85+nTDi7jOTVfdPg5NnyLFmmARd8 bWA== X-Google-Smtp-Source: AGHT+IHvWUYHivzQnlMtAmDZSDxodwUrCSuaUVTZvs2xx8SOojrpptIa9mLKNoWG1WArXO2LPWEXxH0han92 X-Received: by 2002:a05:6214:d0a:b0:7f1:3094:306d with SMTP id 6a1803df08f44-87b2ef93676mr35850146d6.47.1759924317216; Wed, 08 Oct 2025 04:51:57 -0700 (PDT) Received: from postal.iol.unh.edu (postal.iol.unh.edu. [132.177.123.84]) by smtp-relay.gmail.com with ESMTPS id 6a1803df08f44-878bda7380csm15432686d6.22.2025.10.08.04.51.57 (version=TLS1_2 cipher=ECDHE-ECDSA-AES128-GCM-SHA256 bits=128/128); Wed, 08 Oct 2025 04:51:57 -0700 (PDT) X-Relaying-Domain: iol.unh.edu Date: Wed, 08 Oct 2025 04:51:57 -0700 (PDT) Message-ID: <68e6505d.050a0220.3d7593.37efSMTPIN_ADDED_MISSING@mx.google.com> Received: from [172.21.0.2] (unknown [172.18.0.240]) by postal.iol.unh.edu (Postfix) with ESMTP id EA7966051830; Wed, 8 Oct 2025 07:51:56 -0400 (EDT) Subject: |SUCCESS| pw157329 [PATCH] [v2] compressdev: update device ID valida From: dpdklab@iol.unh.edu To: Test Report Cc: dpdk-test-reports@iol.unh.edu, Akhil Goyal In-Reply-To: <20251008094555.3078441-1-ashishg@marvell.com> References: <20251008094555.3078441-1-ashishg@marvell.com> Content-Type: text/plain X-BeenThere: test-report@dpdk.org X-Mailman-Version: 2.1.29 Precedence: list List-Id: automatic DPDK test reports List-Unsubscribe: , List-Archive: List-Post: List-Help: List-Subscribe: , Errors-To: test-report-bounces@dpdk.org Test-Label: iol-compile-amd64-testing Test-Status: SUCCESS http://dpdk.org/patch/157329 _Testing PASS_ Submitter: Ashish Gupta Date: Wednesday, October 08 2025 09:45:24 DPDK git baseline: Repo:dpdk-next-crypto Branch: master CommitID:2aa7141a4e2c78e3cce03dbd613532a2166123c1 157329 --> testing pass Upstream job id: Windows-Compile-DPDK-Native#31496 Test environment and result as below: +---------------------+--------------------+-------------------+-------------------------+----------------------+ | Environment | dpdk_meson_compile | dpdk_msvc_compile | dpdk_llvm_clang_compile | dpdk_mingw64_compile | +=====================+====================+===================+=========================+======================+ | Ubuntu 20.04 | PASS | SKIPPED | SKIPPED | SKIPPED | +---------------------+--------------------+-------------------+-------------------------+----------------------+ | FreeBSD 14.2 | PASS | SKIPPED | SKIPPED | SKIPPED | +---------------------+--------------------+-------------------+-------------------------+----------------------+ | Windows Server 2022 | SKIPPED | PASS | PASS | PASS | +---------------------+--------------------+-------------------+-------------------------+----------------------+ Ubuntu 20.04 Kernel: 4.19 Compiler: gcc gcc (Ubuntu 9.4.0-1ubuntu1~20.04.2) 9.4.0 FreeBSD 14.2 Kernel: 14.2-RELEASE Compiler: clang 18.1.6 Windows Server 2022 Kernel: 10.0.20348.2031 Compiler: clang 15.0.7, gcc 14.1.0 (MinGW), and MSVC VS 19.39.33521 To view detailed results, visit: https://lab.dpdk.org/results/dashboard/patchsets/34237/ UNH-IOL DPDK Community Lab To manage your email subscriptions, visit: https://lab.dpdk.org/results/dashboard/preferences/subscriptions/