From mboxrd@z Thu Jan 1 00:00:00 1970 Return-Path: Received: from mails.dpdk.org (mails.dpdk.org [217.70.189.124]) by inbox.dpdk.org (Postfix) with ESMTP id 8CB2C488E2 for ; Wed, 8 Oct 2025 14:10:49 +0200 (CEST) Received: from mails.dpdk.org (localhost [127.0.0.1]) by mails.dpdk.org (Postfix) with ESMTP id 6F3B24026F; Wed, 8 Oct 2025 14:10:49 +0200 (CEST) Received: from mail-oa1-f100.google.com (mail-oa1-f100.google.com [209.85.160.100]) by mails.dpdk.org (Postfix) with ESMTP id CD6324026F for ; Wed, 8 Oct 2025 14:10:47 +0200 (CEST) Received: by mail-oa1-f100.google.com with SMTP id 586e51a60fabf-30cce5be7d0so2481355fac.0 for ; Wed, 08 Oct 2025 05:10:47 -0700 (PDT) DKIM-Signature: v=1; a=rsa-sha256; c=relaxed/relaxed; d=iol.unh.edu; s=unh-iol; t=1759925447; x=1760530247; darn=dpdk.org; h=references:in-reply-to:cc:to:from:subject:message-id:date:from:to :cc:subject:date:message-id:reply-to; bh=zB2o8213b6WgWK11n+hak+i7YSWzSi0enNujqwik2as=; b=ZXGO8wVh0ADJNn3f3bPxMZ6QCwZ2uHLYcnhh8GiMAAESDir0DVf6Qk6qqH7v68z7Ux 62iiGcTN0msc/syJjigcL9hCXfwXAwg9RcZb5vCZ84C/co08UhouBlBx93gqMbYf9js+ 0KXZjxfTmmUJd8w1H84Dm5u7iQnNZhNmb9rak= X-Google-DKIM-Signature: v=1; a=rsa-sha256; c=relaxed/relaxed; d=1e100.net; s=20230601; t=1759925447; x=1760530247; h=references:in-reply-to:cc:to:from:subject:message-id:date :x-gm-message-state:from:to:cc:subject:date:message-id:reply-to; bh=zB2o8213b6WgWK11n+hak+i7YSWzSi0enNujqwik2as=; b=QegidhalPwzfcb3XXsaMyqsaBGTsF+YJ/ivGUvTRM2UPiVLQ/spAkYH9jmY/Nq2UW6 KIvVHTZ+98Tqq8ZYBWq9kznvKPCvPoeeoDYeHEuCdaWpMpwzfP7NMDua2jzYeV9DVQ+z QNOnp3NdaVk1gxoFzWGOU8geBBlyisPd2i8PPBQyI9PgWBcvjjEOScv98r+4mRTyTCMD oMEavqNrJ8ftIPgca2zBppCq4w9ysRdFQ7vrTSH91KTihRESxZsrTPnh4nMlyp3A1mhW 6v6Gg3+nk9fh8xc8XLkmFvd+b44NLsJc56sPl7vl3MBNYAT+rbTMff/HtKCnriZboTbl 83lA== X-Gm-Message-State: AOJu0YytIzqN5F4G3mY+l3zc/iK8VFovJ6wUYQO4e8XBlu7ejXrAII8b FLPmFSpMie82ggv65ZRM+RmbeELLe5Aq4qW9PDAT1aRqKJqJocGb3y8nLeEQa0CWKKv1E1Wy6RQ Zq3n45ZLoEfhRJ2PmVVOaFmwH6/ctHsoYIdrpiPBx6rX8 X-Gm-Gg: ASbGncvwKmIB9lhswU5ifvD2oPD1xwdfJ2H2lBXX/kF71PyaLmUcJIyEwPbL2F9tdlc Tr3UdR32fXHhI2ehcitSBjSZmN4BoXfzWF2uy0MW9asHKrwkOx3jbuZLMP0tbEFFB3zPdxtPXiu e2qCwwIyIJXr6bQTNJxA648YNUbu7+mhKLYTLGts2N2Em8WB6z4iNStfL4lD9sOj6fuVjpSFdpa vtTiIDjTC9eoG4VYLZ6a4R/RSz2JEct37ajaUSbfxj+5EYuT07o0DNQD/oG4o4gMo5rMsYSKalz sil2mXWXc6UP0uKOSROTw41cP7rQ2wJw1sgUC9CuHYM36OVVaDUT109nvizSF5Y9tmMPRIAWajN Jrw== X-Google-Smtp-Source: AGHT+IF3xruir4XCrkAQAxEtaRTvgCvmM3eqsdbCTyuPBLCAXZY1/OVYF6n8zgVc85+wk7fOaPn/eLGl+XMj X-Received: by 2002:a05:6870:658f:b0:358:ecec:aa with SMTP id 586e51a60fabf-3c0f3dae98bmr1748407fac.5.1759925446917; Wed, 08 Oct 2025 05:10:46 -0700 (PDT) Received: from postal.iol.unh.edu (postal.iol.unh.edu. [132.177.123.84]) by smtp-relay.gmail.com with ESMTPS id 586e51a60fabf-3ab917b5adbsm1580974fac.13.2025.10.08.05.10.46 (version=TLS1_2 cipher=ECDHE-ECDSA-AES128-GCM-SHA256 bits=128/128); Wed, 08 Oct 2025 05:10:46 -0700 (PDT) X-Relaying-Domain: iol.unh.edu Date: Wed, 08 Oct 2025 05:10:46 -0700 (PDT) Message-ID: <68e654c6.050a0220.d0ac0.56e6SMTPIN_ADDED_MISSING@mx.google.com> Received: from [172.21.0.2] (unknown [172.18.0.240]) by postal.iol.unh.edu (Postfix) with ESMTP id 636C36051830; Wed, 8 Oct 2025 08:10:46 -0400 (EDT) Subject: |SUCCESS| pw157322 [PATCH] compressdev: fix device ID validation che From: dpdklab@iol.unh.edu To: Test Report Cc: dpdk-test-reports@iol.unh.edu, Akhil Goyal In-Reply-To: <20251008074532.3066685-1-ashishg@marvell.com> References: <20251008074532.3066685-1-ashishg@marvell.com> Content-Type: text/plain X-BeenThere: test-report@dpdk.org X-Mailman-Version: 2.1.29 Precedence: list List-Id: automatic DPDK test reports List-Unsubscribe: , List-Archive: List-Post: List-Help: List-Subscribe: , Errors-To: test-report-bounces@dpdk.org Test-Label: iol-unit-amd64-testing Test-Status: SUCCESS http://dpdk.org/patch/157322 _Testing PASS_ Submitter: Ashish Gupta Date: Wednesday, October 08 2025 07:45:23 DPDK git baseline: Repo:dpdk-next-crypto Branch: master CommitID:2aa7141a4e2c78e3cce03dbd613532a2166123c1 157322 --> testing pass Upstream job id: Generic-Unit-Test-DPDK#379544 Test environment and result as below: +-------------------------------+----------------+ | Environment | dpdk_unit_test | +===============================+================+ | CentOS Stream 9 | PASS | +-------------------------------+----------------+ | CentOS Stream 10 | PASS | +-------------------------------+----------------+ | Debian GNU/Linux 12 | PASS | +-------------------------------+----------------+ | Fedora Linux 40 | PASS | +-------------------------------+----------------+ | Fedora Linux 41 | PASS | +-------------------------------+----------------+ | Red Hat Enterprise Linux 9.5 | PASS | +-------------------------------+----------------+ | Red Hat Enterprise Linux 8.10 | PASS | +-------------------------------+----------------+ | Ubuntu 24.04 | PASS | +-------------------------------+----------------+ | Fedora Linux 42 | PASS | +-------------------------------+----------------+ | Ubuntu 20.04 | PASS | +-------------------------------+----------------+ | Ubuntu 22.04 | PASS | +-------------------------------+----------------+ | Windows Server 2022 | PASS | +-------------------------------+----------------+ CentOS Stream 9 Kernel: 5.15 Compiler: gcc gcc (GCC) 11.5.0 20240719 (Red Hat 11.5.0-11) CentOS Stream 10 Kernel: 5.15 Compiler: gcc gcc (GCC) 14.2.1 20250110 (Red Hat 14.2.1-8) Debian GNU/Linux 12 Kernel: 5.15 Compiler: gcc gcc (Debian 12.2.0-14+deb12u1) 12.2.0 Fedora Linux 40 Kernel: 5.15 Compiler: gcc gcc (GCC) 14.2.1 20240912 (Red Hat 14.2.1-3) Fedora Linux 41 Kernel: 5.15 Compiler: clang gcc (GCC) 14.3.1 20250523 (Red Hat 14.3.1-1) Red Hat Enterprise Linux 9.5 Kernel: 5.15 Compiler: gcc gcc (GCC) 11.5.0 20240719 (Red Hat 11.5.0-2) Red Hat Enterprise Linux 8.10 Kernel: 5.15 Compiler: gcc gcc (GCC) 8.5.0 20210514 (Red Hat 8.5.0-22) Ubuntu 24.04 Kernel: 5.15 Compiler: gcc gcc (Ubuntu 13.3.0-6ubuntu2~24.04) 13.3.0 Fedora Linux 42 Kernel: 5.15 Compiler: clang gcc (GCC) 15.2.1 20250808 (Red Hat 15.2.1-1) Ubuntu 20.04 Kernel: 5.15 Compiler: gcc gcc (Ubuntu 9.4.0-1ubuntu1~20.04.2) 9.4.0 Ubuntu 22.04 Kernel: 5.15 Compiler: gcc gcc (Ubuntu 11.4.0-1ubuntu1~22.04) 11.4.0 Windows Server 2022 Kernel: 10.0.20348.2031 Compiler: clang 15.0.7, gcc 14.1.0 (MinGW), and MSVC VS 19.39.33521 To view detailed results, visit: https://lab.dpdk.org/results/dashboard/patchsets/34235/ UNH-IOL DPDK Community Lab To manage your email subscriptions, visit: https://lab.dpdk.org/results/dashboard/preferences/subscriptions/