From mboxrd@z Thu Jan 1 00:00:00 1970 Return-Path: Received: from mails.dpdk.org (mails.dpdk.org [217.70.189.124]) by inbox.dpdk.org (Postfix) with ESMTP id 6A2A4488E2 for ; Wed, 8 Oct 2025 14:37:47 +0200 (CEST) Received: from mails.dpdk.org (localhost [127.0.0.1]) by mails.dpdk.org (Postfix) with ESMTP id 63DAE40285; Wed, 8 Oct 2025 14:37:47 +0200 (CEST) Received: from mail-pg1-f225.google.com (mail-pg1-f225.google.com [209.85.215.225]) by mails.dpdk.org (Postfix) with ESMTP id 0A6D940285 for ; Wed, 8 Oct 2025 14:37:46 +0200 (CEST) Received: by mail-pg1-f225.google.com with SMTP id 41be03b00d2f7-b5515eaefceso6854803a12.2 for ; Wed, 08 Oct 2025 05:37:45 -0700 (PDT) DKIM-Signature: v=1; a=rsa-sha256; c=relaxed/relaxed; d=iol.unh.edu; s=unh-iol; t=1759927065; x=1760531865; darn=dpdk.org; h=references:in-reply-to:cc:to:from:subject:message-id:date:from:to :cc:subject:date:message-id:reply-to; bh=4x2b6mpjs3FDNoEC8HXzi8Zig9IlOCV1uEgs58bQImw=; b=YXTy4wUUYfIjINWl6YA/m9cF3e6XB+miEXiKECpaJ/yJIQ+SUjZrxtzBccNbaHyukA TXMt1nB8be7QVXOcyQZadcoQxfmJd4i04zdVBqK1J1Ey6cAv3elXnXFKrvy6PbtDNc46 3sTBzLym8LGHB5netv1sgLZe0OFx1OzM/Pwwk= X-Google-DKIM-Signature: v=1; a=rsa-sha256; c=relaxed/relaxed; d=1e100.net; s=20230601; t=1759927065; x=1760531865; h=references:in-reply-to:cc:to:from:subject:message-id:date :x-gm-message-state:from:to:cc:subject:date:message-id:reply-to; bh=4x2b6mpjs3FDNoEC8HXzi8Zig9IlOCV1uEgs58bQImw=; b=BR5BUc8qOdvLkQULisF4icm+ffVt5J8mzxWATaThMSeOOUHz0Qh94A8dfl/nnf9XML zF6lQsAoG6v4u3QGcDiAyC2j1X1A4CpE+8uG1ITubxBwnwI6ZlN7Pb+X8d1HmmP6yI5d 6+4yUH4JgUi13Yzb4LnociJ5meJkyB9Eg7vvxs24p6OFxysSdV3AcKYXLiGA/sSd7AR0 Z5QuG9XgAuRXT97pt4P6WzaUsZ3a3scmiIwhIgvSCuJ9wH3nzl5Ib1cB+QHiSgDffR5g Ww20e4zsNfgif8jaVQqLaZELAiRBFXBnl2jgntN+yyqD74H+fntgNiiopbls4GOh2JfB Q8MA== X-Gm-Message-State: AOJu0YwwsWwurxJvknBzlfELfkGjZY0PSLIYaJjCl+k7A3Dnt9buwmg3 EbIe/fPDN6+dvZ8nkIqX6oIGZZRA3FV4FsZAJVMo+haMlAnJ0hqqUK2qlVeviJ0+v+zw+fuiadz 1Ft+QUbk+2x25eBsIf1JqNyf0gq+Hhb0T6vI3prRVfwgN X-Gm-Gg: ASbGnctrdsCy22qc9lezInpxc+RtlJzGReJszPMDczxhFatwUHTmm/5a1FsdRSucMnZ D8dhnfP8iE7g1f+osVB2rbjmaMTwgd1RLzAJEggqIE1go/rGT6euTRQkUwwCPxe696Pin1JJChE 5gTuZGb6NpwVIp8yR/xlkiW7rmwI7ccrdCl85z8lKvu4qCChE7erMpTx+4Baj3t3YLC7DY6Fu9E veaBjMLm1pI30biLeJDbtIaDPBuECKYB8zQOZ+pf5z4+IlYVk7LVZpIfNtXob93IR2q2fpKDGfT mazl/sKbLyKaH7t8+bBXsPJGM1DnY9HcDIlX7KwXFpUorWNJPiRXv74c6OFxCUwut9FeBp5hkp3 AwA== X-Google-Smtp-Source: AGHT+IEhStKiXTvEPD4qcdjicXVDmMSwm14G/rqSw6PrqALLNiCmRbc03B1ENVm+wunLErbausoYmsQWqvNL X-Received: by 2002:a17:903:2c0d:b0:269:b2ff:5c0e with SMTP id d9443c01a7336-290273ffa54mr41856705ad.46.1759927065207; Wed, 08 Oct 2025 05:37:45 -0700 (PDT) Received: from postal.iol.unh.edu (postal.iol.unh.edu. [132.177.123.84]) by smtp-relay.gmail.com with ESMTPS id d9443c01a7336-28e8d108405sm15213025ad.5.2025.10.08.05.37.45 (version=TLS1_2 cipher=ECDHE-ECDSA-AES128-GCM-SHA256 bits=128/128); Wed, 08 Oct 2025 05:37:45 -0700 (PDT) X-Relaying-Domain: iol.unh.edu Date: Wed, 08 Oct 2025 05:37:45 -0700 (PDT) Message-ID: <68e65b19.170a0220.389ad4.2ac6SMTPIN_ADDED_MISSING@mx.google.com> Received: from [172.21.0.2] (unknown [172.18.0.240]) by postal.iol.unh.edu (Postfix) with ESMTP id 77F86604D420; Wed, 8 Oct 2025 08:37:44 -0400 (EDT) Subject: |SUCCESS| pw157323-157328 [PATCH] [v2,6/6] vhost: changes to functio From: dpdklab@iol.unh.edu To: Test Report Cc: dpdk-test-reports@iol.unh.edu, Chenbo Xia , Maxime Coquelin In-Reply-To: <20251008090444.2689652-7-pravin.bathija@dell.com> References: <20251008090444.2689652-7-pravin.bathija@dell.com> Content-Type: text/plain X-BeenThere: test-report@dpdk.org X-Mailman-Version: 2.1.29 Precedence: list List-Id: automatic DPDK test reports List-Unsubscribe: , List-Archive: List-Post: List-Help: List-Subscribe: , Errors-To: test-report-bounces@dpdk.org Test-Label: iol-unit-amd64-testing Test-Status: SUCCESS http://dpdk.org/patch/157328 _Testing PASS_ Submitter: Bathija, Pravin Date: Wednesday, October 08 2025 09:04:44 DPDK git baseline: Repo:dpdk-next-virtio Branch: master CommitID:4159ea62922ce41566c7bab44655ad78bee85458 157323-157328 --> testing pass Upstream job id: Generic-Unit-Test-DPDK#379577 Test environment and result as below: +-------------------------------+----------------+ | Environment | dpdk_unit_test | +===============================+================+ | Windows Server 2022 | PASS | +-------------------------------+----------------+ | CentOS Stream 9 | PASS | +-------------------------------+----------------+ | Debian GNU/Linux 12 | PASS | +-------------------------------+----------------+ | CentOS Stream 10 | PASS | +-------------------------------+----------------+ | Fedora Linux 40 | PASS | +-------------------------------+----------------+ | Fedora Linux 41 | PASS | +-------------------------------+----------------+ | Fedora Linux 42 | PASS | +-------------------------------+----------------+ | Ubuntu 20.04 | PASS | +-------------------------------+----------------+ | Red Hat Enterprise Linux 9.5 | PASS | +-------------------------------+----------------+ | Ubuntu 22.04 | PASS | +-------------------------------+----------------+ | Red Hat Enterprise Linux 8.10 | PASS | +-------------------------------+----------------+ | Ubuntu 24.04 | PASS | +-------------------------------+----------------+ Windows Server 2022 Kernel: 10.0.20348.2031 Compiler: clang 15.0.7, gcc 14.1.0 (MinGW), and MSVC VS 19.39.33521 CentOS Stream 9 Kernel: 5.15 Compiler: gcc gcc (GCC) 11.5.0 20240719 (Red Hat 11.5.0-11) Debian GNU/Linux 12 Kernel: 5.15 Compiler: gcc gcc (Debian 12.2.0-14+deb12u1) 12.2.0 CentOS Stream 10 Kernel: 5.15 Compiler: gcc gcc (GCC) 14.2.1 20250110 (Red Hat 14.2.1-8) Fedora Linux 40 Kernel: 5.15 Compiler: gcc gcc (GCC) 14.2.1 20240912 (Red Hat 14.2.1-3) Fedora Linux 41 Kernel: 5.15 Compiler: gcc gcc (GCC) 14.3.1 20250523 (Red Hat 14.3.1-1) Fedora Linux 42 Kernel: 5.15 Compiler: gcc gcc (GCC) 15.2.1 20250808 (Red Hat 15.2.1-1) Ubuntu 20.04 Kernel: 5.15 Compiler: gcc gcc (Ubuntu 9.4.0-1ubuntu1~20.04.2) 9.4.0 Red Hat Enterprise Linux 9.5 Kernel: 5.15 Compiler: gcc gcc (GCC) 11.5.0 20240719 (Red Hat 11.5.0-2) Ubuntu 22.04 Kernel: 5.15 Compiler: gcc gcc (Ubuntu 11.4.0-1ubuntu1~22.04) 11.4.0 Red Hat Enterprise Linux 8.10 Kernel: 5.15 Compiler: gcc gcc (GCC) 8.5.0 20210514 (Red Hat 8.5.0-22) Ubuntu 24.04 Kernel: 5.15 Compiler: gcc gcc (Ubuntu 13.3.0-6ubuntu2~24.04) 13.3.0 To view detailed results, visit: https://lab.dpdk.org/results/dashboard/patchsets/34236/ UNH-IOL DPDK Community Lab To manage your email subscriptions, visit: https://lab.dpdk.org/results/dashboard/preferences/subscriptions/