From mboxrd@z Thu Jan 1 00:00:00 1970 Return-Path: Received: from mails.dpdk.org (mails.dpdk.org [217.70.189.124]) by inbox.dpdk.org (Postfix) with ESMTP id C96B2488E2 for ; Wed, 8 Oct 2025 14:41:03 +0200 (CEST) Received: from mails.dpdk.org (localhost [127.0.0.1]) by mails.dpdk.org (Postfix) with ESMTP id B0AF640285; Wed, 8 Oct 2025 14:41:03 +0200 (CEST) Received: from mail-pl1-f226.google.com (mail-pl1-f226.google.com [209.85.214.226]) by mails.dpdk.org (Postfix) with ESMTP id 402A540285 for ; Wed, 8 Oct 2025 14:41:02 +0200 (CEST) Received: by mail-pl1-f226.google.com with SMTP id d9443c01a7336-28a5b8b12a1so73652845ad.0 for ; Wed, 08 Oct 2025 05:41:02 -0700 (PDT) DKIM-Signature: v=1; a=rsa-sha256; c=relaxed/relaxed; d=iol.unh.edu; s=unh-iol; t=1759927261; x=1760532061; darn=dpdk.org; h=cc:to:from:subject:message-id:date:from:to:cc:subject:date :message-id:reply-to; bh=/X/eKryN1H+PoJWSNugnAWdq9HqJ1J3oDjRkNjh29Qw=; b=ITV5Osu8wPvCgaA6pRYNzU2lgOWqRNs1kRmmi0NtJ7Q8Ve2v2gi9QOZ2mT9DjQ1VhN 17nwQ2liDK9aLBXuNUdu1fmx1sf8SPDywc9OfebXrYEqhvGJnhWEXX/3ZKmVyQgkUBFs VhicdvcCtCXp7J60kVrHXs9enA+vqLwo1pncc= X-Google-DKIM-Signature: v=1; a=rsa-sha256; c=relaxed/relaxed; d=1e100.net; s=20230601; t=1759927261; x=1760532061; h=cc:to:from:subject:message-id:date:x-gm-message-state:from:to:cc :subject:date:message-id:reply-to; bh=/X/eKryN1H+PoJWSNugnAWdq9HqJ1J3oDjRkNjh29Qw=; b=R178jwD1PsDunnAU9Gv77jkmj2l8/blquHcAa2bI/v2Jm89CIfLQhmmQmHyjsD9ofk ASP2p8Npd5WR21old54dU6B2OJJAzkcW6c66KfDOGIKgEaLwaarH+wvVjoQkaSHBrvO+ ecpJkj6do1xrqRlY4KLhtyM96x0tCIa5RyONhq16xPnC9Z/8XpKcu+UIfwozBGLwJdXw 1FtdProjc5aPeREL6dES3T0JjoF309gKnFGijzr0NDETj5lXmWy5NNbKmDLu1mVUftFx kc0RQMeoft133KGIXyRckoMIywWQQoCYrgLwh9wpI6zn4C25UAg1rvOtcxjFgxWqTvg9 SsVg== X-Gm-Message-State: AOJu0Yw1P2TT848FTBwmeeTo3FNLC5VYp6x3qjaYLnk9Sww8c1dmUnz4 5hIJj3dcwvqvYP9yHsktCYCT14zMw75ZTRs9H1251rtQFeNv0wmL0ragZaP2GdGpqVVYvHbjPaS zCpN27GCQsWgKE5/Jk84QD8B4nKcTXhiFHNjjtK+d3rCZ X-Gm-Gg: ASbGncteBvHOrNE9+dIKD/5GLnvqC7+GMjMI6BVptYB3hbhsCkPEVXlpiRBS5Nc7BcY YA3rMFcWuXUevw8iSBPrOOLG/+psJibK+QCnxZR7uNQ1YVVsCLOo0E4kP6dfoGWXc8WkoHZSy8i HXRV0YUeVxvC/JyFG/isp+WNvKTdE+pQPBMXe+wu1nXPr58PX0S3SbHnpEFxgcJKBI0CvtLbtSJ fjfYWC5jW7hViQD0KZ50v5MQ00HJy8nitQk5TWWEszUQVZaTNj7/wij2QICchJJK39stGvqtEFb svDN6B7J1qNOfNz87Uq9mysNXfn20DhaTjA88J1XKI3Wp97H42El4kPkE5ZJwmt+4Vy1X0QWd0O FIg== X-Google-Smtp-Source: AGHT+IFNeSN6W+jl5l+OlFwdqD1qKtGYCAI41j8bk2Rfb7FI8Gyzgl3S75RJDWlDIEpYWjttjethRNnU0u/9 X-Received: by 2002:a17:903:19e8:b0:283:c950:a76f with SMTP id d9443c01a7336-290273ffc69mr43839295ad.43.1759927261351; Wed, 08 Oct 2025 05:41:01 -0700 (PDT) Received: from postal.iol.unh.edu (postal.iol.unh.edu. [132.177.123.84]) by smtp-relay.gmail.com with ESMTPS id d9443c01a7336-28e8d19ce8fsm13258845ad.54.2025.10.08.05.41.01 (version=TLS1_2 cipher=ECDHE-ECDSA-AES128-GCM-SHA256 bits=128/128); Wed, 08 Oct 2025 05:41:01 -0700 (PDT) X-Relaying-Domain: iol.unh.edu Date: Wed, 08 Oct 2025 05:41:01 -0700 (PDT) Message-ID: <68e65bdd.170a0220.1644b0.72e3SMTPIN_ADDED_MISSING@mx.google.com> Received: from [172.21.0.2] (unknown [172.18.0.240]) by postal.iol.unh.edu (Postfix) with ESMTP id 9798A604D420; Wed, 8 Oct 2025 08:41:00 -0400 (EDT) Subject: |SUCCESS| [GIT MASTER] 2aa7141a4e2c78e3cce03dbd613532a2166123c1 From: dpdklab@iol.unh.edu To: Test Report Cc: dpdk-test-reports@iol.unh.edu, Akhil Goyal Content-Type: text/plain X-BeenThere: test-report@dpdk.org X-Mailman-Version: 2.1.29 Precedence: list List-Id: automatic DPDK test reports List-Unsubscribe: , List-Archive: List-Post: List-Help: List-Subscribe: , Errors-To: test-report-bounces@dpdk.org _Testing PASS_ Branch: dpdk-next-crypto 2aa7141a4e2c78e3cce03dbd613532a2166123c1 --> testing pass Upstream job id: Generic-Unit-Test-DPDK#379298 Test environment and result as below: +------------------------------+----------------+---------------------------+------------------------------+--------------+ | Environment | dpdk_unit_test | cryptodev_sw_zuc_autotest | cryptodev_sw_snow3g_autotest | lpm_autotest | +==============================+================+===========================+==============================+==============+ | Fedora Linux 42 | PASS | SKIPPED | SKIPPED | SKIPPED | +------------------------------+----------------+---------------------------+------------------------------+--------------+ | Ubuntu 22.04 | PASS | SKIPPED | SKIPPED | SKIPPED | +------------------------------+----------------+---------------------------+------------------------------+--------------+ | Fedora Linux 40 | PASS | SKIPPED | SKIPPED | SKIPPED | +------------------------------+----------------+---------------------------+------------------------------+--------------+ | Ubuntu 20.04 | PASS | SKIPPED | SKIPPED | PASS | +------------------------------+----------------+---------------------------+------------------------------+--------------+ | Ubuntu 24.04 | PASS | SKIPPED | SKIPPED | SKIPPED | +------------------------------+----------------+---------------------------+------------------------------+--------------+ | Debian GNU/Linux 12 | PASS | SKIPPED | SKIPPED | SKIPPED | +------------------------------+----------------+---------------------------+------------------------------+--------------+ | Fedora Linux 41 | PASS | SKIPPED | SKIPPED | SKIPPED | +------------------------------+----------------+---------------------------+------------------------------+--------------+ | Red Hat Enterprise Linux 9.5 | PASS | SKIPPED | SKIPPED | SKIPPED | +------------------------------+----------------+---------------------------+------------------------------+--------------+ | CentOS Stream 10 | PASS | SKIPPED | SKIPPED | SKIPPED | +------------------------------+----------------+---------------------------+------------------------------+--------------+ | CentOS Stream 9 | PASS | SKIPPED | SKIPPED | SKIPPED | +------------------------------+----------------+---------------------------+------------------------------+--------------+ | Debian 12 (arm) | SKIPPED | PASS | PASS | SKIPPED | +------------------------------+----------------+---------------------------+------------------------------+--------------+ Fedora Linux 42 Kernel: 5.4 Compiler: gcc gcc (GCC) 15.2.1 20250808 (Red Hat 15.2.1-1) Ubuntu 22.04 Kernel: 5.4 Compiler: gcc gcc (Ubuntu 11.4.0-1ubuntu1~22.04) 11.4.0 Fedora Linux 40 Kernel: 5.4 Compiler: clang gcc (GCC) 14.2.1 20240912 (Red Hat 14.2.1-3) Ubuntu 20.04 Kernel: 5.4 Compiler: gcc gcc (Ubuntu 9.4.0-1ubuntu1~20.04.2) 9.4.0 Ubuntu 24.04 Kernel: 5.4 Compiler: gcc gcc (Ubuntu 13.3.0-6ubuntu2~24.04) 13.3.0 Debian GNU/Linux 12 Kernel: 5.4 Compiler: gcc gcc (Debian 12.2.0-14+deb12u1) 12.2.0 Fedora Linux 41 Kernel: 5.4 Compiler: gcc gcc (GCC) 14.3.1 20250523 (Red Hat 14.3.1-1) Red Hat Enterprise Linux 9.5 Kernel: 5.4 Compiler: gcc gcc (GCC) 11.5.0 20240719 (Red Hat 11.5.0-2) CentOS Stream 10 Kernel: 5.4 Compiler: gcc gcc (GCC) 14.2.1 20250110 (Red Hat 14.2.1-8) CentOS Stream 9 Kernel: 5.4 Compiler: gcc gcc (GCC) 11.5.0 20240719 (Red Hat 11.5.0-11) Debian 12 (arm) Kernel: Depends on container host Compiler: gcc (Debian 12.2.0-14) 12.2.0 To view detailed results, visit: https://lab.dpdk.org/results/dashboard/tarballs/35135/ UNH-IOL DPDK Community Lab To manage your email subscriptions, visit: https://lab.dpdk.org/results/dashboard/preferences/subscriptions/