From mboxrd@z Thu Jan 1 00:00:00 1970 Return-Path: Received: from mails.dpdk.org (mails.dpdk.org [217.70.189.124]) by inbox.dpdk.org (Postfix) with ESMTP id 10422488E2 for ; Wed, 8 Oct 2025 14:43:35 +0200 (CEST) Received: from mails.dpdk.org (localhost [127.0.0.1]) by mails.dpdk.org (Postfix) with ESMTP id 08D944026F; Wed, 8 Oct 2025 14:43:35 +0200 (CEST) Received: from mail-qk1-f226.google.com (mail-qk1-f226.google.com [209.85.222.226]) by mails.dpdk.org (Postfix) with ESMTP id 2D54E4026F for ; Wed, 8 Oct 2025 14:43:34 +0200 (CEST) Received: by mail-qk1-f226.google.com with SMTP id af79cd13be357-869ecba3bd2so749743585a.0 for ; Wed, 08 Oct 2025 05:43:34 -0700 (PDT) DKIM-Signature: v=1; a=rsa-sha256; c=relaxed/relaxed; d=iol.unh.edu; s=unh-iol; t=1759927413; x=1760532213; darn=dpdk.org; h=cc:to:from:subject:message-id:date:from:to:cc:subject:date :message-id:reply-to; bh=O4B5PhrdAru3VLXZVuZGXIrpKItMcNoklfGl9qs2i6w=; b=EDml9a3gUz2jpoL4YNWS4RKfGVAUZ/Gvt5PkdrsrZ6yh9/eoJzWeiARq276DH8J4My BhizEYfqdhec+8Ji/t1A1fxyYrejW65jBBy8fydKlT7ExPvrq+QrpGVP8FaLmNOn24xR ZsfoRijz1CIERJABoQnWNWihAwTo2HLjgu7+Q= X-Google-DKIM-Signature: v=1; a=rsa-sha256; c=relaxed/relaxed; d=1e100.net; s=20230601; t=1759927413; x=1760532213; h=cc:to:from:subject:message-id:date:x-gm-message-state:from:to:cc :subject:date:message-id:reply-to; bh=O4B5PhrdAru3VLXZVuZGXIrpKItMcNoklfGl9qs2i6w=; b=KfcmiUFETrRMbDBqrD1PapC8xfQCOJw+Jg+djkkT+7YMK81bEGOOdUi+NrRCAsQgzJ fqtJLVj/jYuIZ2MbUqIZhY6pgkdVoRmLWmyE0P+zUwRPwlC1BTn0u/C8NvpUU47Wd3+J OZ0ijrzxpXJfNRlLSsPP2JPCL/DoSIWmFAFlohWVS2Mx0hiNObYlDSeJufIKZmK588I5 ZTYyiyvSYX91HsQGwGKPufEjr5W8rEX5M3luR8tTc/DenbGYEJGhOf5UsFIglVQbnCMs xSP1nkCGZLF0FqC1pIfuP0xJSi4nPOyfsBTjdJ3r7AEXossl5oQoGfyY3ftFehPcitIo tDfw== X-Gm-Message-State: AOJu0Yw7wYaRvJSKN7NOhZyS0eFCbjTZ32qzN3GIobXTjMe/r/GCjn9S koEFkE+qoVnARbeuDurwBAIQFy1mkiAkOKRMDxKp5xNuepO0FAXCSR7jc0ocLxd1oKUbT6nENrq wMtbpE8iHz/i2/FpBogRD01l6NSxVyS4uRwPZBg2F5kxR X-Gm-Gg: ASbGncvOVct7BLBEOSUbcCB1xPHKKXRVi4DYrGycG8Gq+ryK0onMy7Wb+waPQ3ha35N kPM9rRg1/DMrJi4h5ivsgmMz4VAg+6ipV/3MwMSGVY8QLtMZhR4z1v0MqONvBx5iOG6HHostRle FnedKL57ul9oz8xOnsZ2bFdCl4J1vkJa23fEFDWTQP4Za++pXRGOZOodAU1OSm//Kgm4/dkLq7F pVinKXXwomxftPqpsF+zpewUUY3M2NH76h2zKFnuwJCanRr1Rf7Th2VA0kMi4fW3FHkDfU9aTM7 XHqLB6brQpMp4FBqXfYGaaEekG7HTDmgwyRqZ2EJq3ORNORvtK9C8rq2hB2mVHm6J3VeXqTfoAz HCw== X-Google-Smtp-Source: AGHT+IGg5PHAtcCwVmXB3j31cvdN+3nJ4Z79WLrxIXnv7WLojWuEQX7WA7TJmrk7yNnaLCbCZ8LtdbDjBzty X-Received: by 2002:a05:6214:416:b0:7f1:62a9:ea2f with SMTP id 6a1803df08f44-87b2ef941eemr39128236d6.52.1759927413549; Wed, 08 Oct 2025 05:43:33 -0700 (PDT) Received: from postal.iol.unh.edu (postal.iol.unh.edu. [132.177.123.84]) by smtp-relay.gmail.com with ESMTPS id 6a1803df08f44-878bda734c1sm15157106d6.24.2025.10.08.05.43.33 (version=TLS1_2 cipher=ECDHE-ECDSA-AES128-GCM-SHA256 bits=128/128); Wed, 08 Oct 2025 05:43:33 -0700 (PDT) X-Relaying-Domain: iol.unh.edu Date: Wed, 08 Oct 2025 05:43:33 -0700 (PDT) Message-ID: <68e65c75.050a0220.76fa0.2142SMTPIN_ADDED_MISSING@mx.google.com> Received: from [172.21.0.2] (unknown [172.18.0.240]) by postal.iol.unh.edu (Postfix) with ESMTP id 48AD06051830; Wed, 8 Oct 2025 08:43:33 -0400 (EDT) Subject: |SUCCESS| [GIT MASTER] 21c1fe280a2480dcd7edbb3e51cc2f9a37c1c6e0 From: dpdklab@iol.unh.edu To: Test Report Cc: dpdk-test-reports@iol.unh.edu, Bruce Richardson Content-Type: text/plain X-BeenThere: test-report@dpdk.org X-Mailman-Version: 2.1.29 Precedence: list List-Id: automatic DPDK test reports List-Unsubscribe: , List-Archive: List-Post: List-Help: List-Subscribe: , Errors-To: test-report-bounces@dpdk.org _Testing PASS_ Branch: dpdk-next-net-intel 21c1fe280a2480dcd7edbb3e51cc2f9a37c1c6e0 --> testing pass Upstream job id: Windows-Compile-DPDK-VS#7140 Test environment and result as below: +---------------------+--------------------+-------------------+ | Environment | dpdk_meson_compile | dpdk_msvc_compile | +=====================+====================+===================+ | Ubuntu 20.04 | PASS | SKIPPED | +---------------------+--------------------+-------------------+ | FreeBSD 14.2 | PASS | SKIPPED | +---------------------+--------------------+-------------------+ | Windows Server 2022 | SKIPPED | PASS | +---------------------+--------------------+-------------------+ Ubuntu 20.04 Kernel: 4.19 Compiler: gcc gcc (Ubuntu 9.4.0-1ubuntu1~20.04.2) 9.4.0 FreeBSD 14.2 Kernel: 14.2-RELEASE Compiler: clang 18.1.6 Windows Server 2022 Kernel: 10.0.20348.2031 Compiler: clang 15.0.7, gcc 14.1.0 (MinGW), and MSVC VS 19.39.33521 To view detailed results, visit: https://lab.dpdk.org/results/dashboard/tarballs/35147/ UNH-IOL DPDK Community Lab To manage your email subscriptions, visit: https://lab.dpdk.org/results/dashboard/preferences/subscriptions/