automatic DPDK test reports
 help / color / mirror / Atom feed
* |SUCCESS| [GIT MASTER] 21c1fe280a2480dcd7edbb3e51cc2f9a37c1c6e0
@ 2025-10-08 12:43 dpdklab
  0 siblings, 0 replies; 14+ messages in thread
From: dpdklab @ 2025-10-08 12:43 UTC (permalink / raw)
  To: Test Report; +Cc: dpdk-test-reports, Bruce Richardson

_Performance Testing PASS_

Branch: dpdk-next-net-intel

21c1fe280a2480dcd7edbb3e51cc2f9a37c1c6e0 --> performance testing pass

Upstream job id: Template-DTS-Pipeline#248509

Test environment and result as below:

Ubuntu 22.04
Kernel: 5.15
Compiler: gcc gcc (Ubuntu 11.4.0-1ubuntu1~22.04) 11.4.0
NIC: Broadcom Inc. and subsidiaries BCM57414 NetXtreme-E 10Gb/25Gb RDMA Ethernet Controller 16d7 25 Mbps
Fail/Total: 0/3

Detail performance results: 
+------------+---------+----------+-------------+------------------------------+
| frame_size | txd/rxd | num_cpus | num_threads |  throughput difference from  |
|            |         |          |             |           expected           |
+============+=========+==========+=============+==============================+
| 64         | 128     | 1        | 1           | 0.5%                         |
+------------+---------+----------+-------------+------------------------------+
| 64         | 512     | 1        | 1           | 0.7%                         |
+------------+---------+----------+-------------+------------------------------+
| 64         | 2048    | 1        | 1           | -2.5%                        |
+------------+---------+----------+-------------+------------------------------+

Ubuntu 22.04
Kernel: 5.15
Compiler: gcc gcc (Ubuntu 11.4.0-1ubuntu1~22.04.2) 11.4.0
NIC: Arm Broadcom Inc. brcm_57414 25000 Mbps
Fail/Total: 0/2

Detail performance results: 
+------------+---------+----------+-------------+------------------------------+
| frame_size | txd/rxd | num_cpus | num_threads |  throughput difference from  |
|            |         |          |             |           expected           |
+============+=========+==========+=============+==============================+
| 64         | 512     | 1        | 1           | -0.3%                        |
+------------+---------+----------+-------------+------------------------------+
| 64         | 2048    | 1        | 1           | -0.3%                        |
+------------+---------+----------+-------------+------------------------------+

To view detailed results, visit:
https://lab.dpdk.org/results/dashboard/tarballs/35147/

UNH-IOL DPDK Community Lab

To manage your email subscriptions, visit: 
https://lab.dpdk.org/results/dashboard/preferences/subscriptions/

^ permalink raw reply	[flat|nested] 14+ messages in thread
* |SUCCESS| [GIT MASTER] 21c1fe280a2480dcd7edbb3e51cc2f9a37c1c6e0
@ 2025-10-08 13:49 dpdklab
  0 siblings, 0 replies; 14+ messages in thread
From: dpdklab @ 2025-10-08 13:49 UTC (permalink / raw)
  To: Test Report; +Cc: dpdk-test-reports, Bruce Richardson

_Testing PASS_

Branch: dpdk-next-net-intel

21c1fe280a2480dcd7edbb3e51cc2f9a37c1c6e0 --> testing pass

Upstream job id: Generic-Unit-Test-DPDK#379673

Test environment and result as below:

+-------------------------------+----------------+
|          Environment          | dpdk_unit_test |
+===============================+================+
| CentOS Stream 10              | PASS           |
+-------------------------------+----------------+
| CentOS Stream 9               | PASS           |
+-------------------------------+----------------+
| Debian GNU/Linux 12           | PASS           |
+-------------------------------+----------------+
| Fedora Linux 40               | PASS           |
+-------------------------------+----------------+
| Fedora Linux 41               | PASS           |
+-------------------------------+----------------+
| Fedora Linux 42               | PASS           |
+-------------------------------+----------------+
| Red Hat Enterprise Linux 8.10 | PASS           |
+-------------------------------+----------------+
| Ubuntu 22.04                  | PASS           |
+-------------------------------+----------------+
| Red Hat Enterprise Linux 9.5  | PASS           |
+-------------------------------+----------------+
| Ubuntu 20.04                  | PASS           |
+-------------------------------+----------------+
| Ubuntu 24.04                  | PASS           |
+-------------------------------+----------------+
| Windows Server 2022           | PASS           |
+-------------------------------+----------------+


CentOS Stream 10
	Kernel: 5.15
	Compiler: gcc gcc (GCC) 14.2.1 20250110 (Red Hat 14.2.1-8)

CentOS Stream 9
	Kernel: 5.15
	Compiler: gcc gcc (GCC) 11.5.0 20240719 (Red Hat 11.5.0-11)

Debian GNU/Linux 12
	Kernel: 5.15
	Compiler: gcc gcc (Debian 12.2.0-14+deb12u1) 12.2.0

Fedora Linux 40
	Kernel: 5.15
	Compiler: gcc gcc (GCC) 14.2.1 20240912 (Red Hat 14.2.1-3)

Fedora Linux 41
	Kernel: 5.15
	Compiler: clang gcc (GCC) 14.3.1 20250523 (Red Hat 14.3.1-1)

Fedora Linux 42
	Kernel: 5.15
	Compiler: clang gcc (GCC) 15.2.1 20250808 (Red Hat 15.2.1-1)

Red Hat Enterprise Linux 8.10
	Kernel: 5.15
	Compiler: gcc gcc (GCC) 8.5.0 20210514 (Red Hat 8.5.0-22)

Ubuntu 22.04
	Kernel: 5.15
	Compiler: gcc gcc (Ubuntu 11.4.0-1ubuntu1~22.04) 11.4.0

Red Hat Enterprise Linux 9.5
	Kernel: 5.15
	Compiler: gcc gcc (GCC) 11.5.0 20240719 (Red Hat 11.5.0-2)

Ubuntu 20.04
	Kernel: 5.15
	Compiler: gcc gcc (Ubuntu 9.4.0-1ubuntu1~20.04.2) 9.4.0

Ubuntu 24.04
	Kernel: 5.15
	Compiler: gcc gcc (Ubuntu 13.3.0-6ubuntu2~24.04) 13.3.0

Windows Server 2022
	Kernel: 10.0.20348.2031
	Compiler: clang 15.0.7, gcc 14.1.0 (MinGW), and MSVC VS 19.39.33521

To view detailed results, visit:
https://lab.dpdk.org/results/dashboard/tarballs/35147/

UNH-IOL DPDK Community Lab

To manage your email subscriptions, visit: 
https://lab.dpdk.org/results/dashboard/preferences/subscriptions/

^ permalink raw reply	[flat|nested] 14+ messages in thread
* |SUCCESS| [GIT MASTER] 21c1fe280a2480dcd7edbb3e51cc2f9a37c1c6e0
@ 2025-10-08 13:36 dpdklab
  0 siblings, 0 replies; 14+ messages in thread
From: dpdklab @ 2025-10-08 13:36 UTC (permalink / raw)
  To: Test Report; +Cc: dpdk-test-reports, Bruce Richardson

_Testing PASS_

Branch: dpdk-next-net-intel

21c1fe280a2480dcd7edbb3e51cc2f9a37c1c6e0 --> testing pass

Upstream job id: ACVP-FIPS-testing#11363

Test environment and result as below:

+--------------+----------------------+----------------------+
| Environment  | compressdev_zlib_pmd | dpdk_fips_validation |
+==============+======================+======================+
| Ubuntu 22.04 | PASS                 | SKIPPED              |
+--------------+----------------------+----------------------+
| Ubuntu 20.04 | SKIPPED              | PASS                 |
+--------------+----------------------+----------------------+


Ubuntu 22.04
	Kernel: 5.15
	Compiler: gcc gcc (Ubuntu 11.4.0-1ubuntu1~22.04.2) 11.4.0

Ubuntu 20.04
	Kernel: 5.15
	Compiler: gcc gcc (Ubuntu 9.4.0-1ubuntu1~20.04.2) 9.4.0

To view detailed results, visit:
https://lab.dpdk.org/results/dashboard/tarballs/35147/

UNH-IOL DPDK Community Lab

To manage your email subscriptions, visit: 
https://lab.dpdk.org/results/dashboard/preferences/subscriptions/

^ permalink raw reply	[flat|nested] 14+ messages in thread
* |SUCCESS| [GIT MASTER] 21c1fe280a2480dcd7edbb3e51cc2f9a37c1c6e0
@ 2025-10-08 13:07 dpdklab
  0 siblings, 0 replies; 14+ messages in thread
From: dpdklab @ 2025-10-08 13:07 UTC (permalink / raw)
  To: Test Report; +Cc: dpdk-test-reports, Bruce Richardson

_Testing PASS_

Branch: dpdk-next-net-intel

21c1fe280a2480dcd7edbb3e51cc2f9a37c1c6e0 --> testing pass

Upstream job id: Windows-Compile-DPDK-Native#31500

Test environment and result as below:

+---------------------+--------------------+-------------------+-------------------------+----------------------+
|     Environment     | dpdk_meson_compile | dpdk_msvc_compile | dpdk_llvm_clang_compile | dpdk_mingw64_compile |
+=====================+====================+===================+=========================+======================+
| Ubuntu 20.04        | PASS               | SKIPPED           | SKIPPED                 | SKIPPED              |
+---------------------+--------------------+-------------------+-------------------------+----------------------+
| FreeBSD 14.2        | PASS               | SKIPPED           | SKIPPED                 | SKIPPED              |
+---------------------+--------------------+-------------------+-------------------------+----------------------+
| Windows Server 2022 | SKIPPED            | PASS              | PASS                    | PASS                 |
+---------------------+--------------------+-------------------+-------------------------+----------------------+


Ubuntu 20.04
	Kernel: 4.19
	Compiler: gcc gcc (Ubuntu 9.4.0-1ubuntu1~20.04.2) 9.4.0

FreeBSD 14.2
	Kernel: 14.2-RELEASE
	Compiler: clang 18.1.6

Windows Server 2022
	Kernel: 10.0.20348.2031
	Compiler: clang 15.0.7, gcc 14.1.0 (MinGW), and MSVC VS 19.39.33521

To view detailed results, visit:
https://lab.dpdk.org/results/dashboard/tarballs/35147/

UNH-IOL DPDK Community Lab

To manage your email subscriptions, visit: 
https://lab.dpdk.org/results/dashboard/preferences/subscriptions/

^ permalink raw reply	[flat|nested] 14+ messages in thread
* |SUCCESS| [GIT MASTER] 21c1fe280a2480dcd7edbb3e51cc2f9a37c1c6e0
@ 2025-10-08 13:06 dpdklab
  0 siblings, 0 replies; 14+ messages in thread
From: dpdklab @ 2025-10-08 13:06 UTC (permalink / raw)
  To: Test Report; +Cc: dpdk-test-reports, Bruce Richardson

_Functional Testing PASS_

Branch: dpdk-next-net-intel

21c1fe280a2480dcd7edbb3e51cc2f9a37c1c6e0 --> functional testing pass

Upstream job id: Template-DTS-Pipeline#248513

Test environment and result as below:

Ubuntu 24.04
Kernel: 6.8
Compiler: gcc gcc (Ubuntu 13.3.0-6ubuntu2~24.04) 13.3.0
NIC: Intel Corporation 4xxx Series QAT 0 Mbps

Aggregate Results by Test Suite
+----------------------------+--------+
|         Test Suite         | Result |
+============================+========+
| crypto_perf_cryptodev_perf |  PASS  |
+----------------------------+--------+


Ubuntu 22.04
Kernel: 5.15
Compiler: gcc gcc (Ubuntu 11.4.0-1ubuntu1~22.04.2) 11.4.0
NIC: Intel Corporation QAT 8970 0 Mbps

Aggregate Results by Test Suite
+----------------------------+--------+
|         Test Suite         | Result |
+============================+========+
| crypto_perf_cryptodev_perf |  PASS  |
+----------------------------+--------+


Ubuntu 20.04
Kernel: 5.4
Compiler: gcc gcc (Ubuntu 9.4.0-1ubuntu1~20.04.1) 9.4.0
NIC: Intel Corporation Ethernet Converged Network Adapter XL710-QDA2 40000 Mbps

Aggregate Results by Test Suite
+-----------------------------+--------+
|         Test Suite          | Result |
+=============================+========+
| unit_tests_mbuf             |  PASS  |
+-----------------------------+--------+
| vhost_virtio_user_interrupt |  PASS  |
+-----------------------------+--------+
| virtio_smoke                |  PASS  |
+-----------------------------+--------+


To view detailed results, visit:
https://lab.dpdk.org/results/dashboard/tarballs/35147/

UNH-IOL DPDK Community Lab

To manage your email subscriptions, visit: 
https://lab.dpdk.org/results/dashboard/preferences/subscriptions/

^ permalink raw reply	[flat|nested] 14+ messages in thread
* |SUCCESS| [GIT MASTER] 21c1fe280a2480dcd7edbb3e51cc2f9a37c1c6e0
@ 2025-10-08 13:05 dpdklab
  0 siblings, 0 replies; 14+ messages in thread
From: dpdklab @ 2025-10-08 13:05 UTC (permalink / raw)
  To: Test Report; +Cc: dpdk-test-reports, Bruce Richardson

_Testing PASS_

Branch: dpdk-next-net-intel

21c1fe280a2480dcd7edbb3e51cc2f9a37c1c6e0 --> testing pass

Upstream job id: Windows-Compile-DPDK-Native#31499

Test environment and result as below:

+---------------------+--------------------+-------------------+-------------------------+
|     Environment     | dpdk_meson_compile | dpdk_msvc_compile | dpdk_llvm_clang_compile |
+=====================+====================+===================+=========================+
| Ubuntu 20.04        | PASS               | SKIPPED           | SKIPPED                 |
+---------------------+--------------------+-------------------+-------------------------+
| FreeBSD 14.2        | PASS               | SKIPPED           | SKIPPED                 |
+---------------------+--------------------+-------------------+-------------------------+
| Windows Server 2022 | SKIPPED            | PASS              | PASS                    |
+---------------------+--------------------+-------------------+-------------------------+


Ubuntu 20.04
	Kernel: 4.19
	Compiler: gcc gcc (Ubuntu 9.4.0-1ubuntu1~20.04.2) 9.4.0

FreeBSD 14.2
	Kernel: 14.2-RELEASE
	Compiler: clang 18.1.6

Windows Server 2022
	Kernel: 10.0.20348.2031
	Compiler: clang 15.0.7, gcc 14.1.0 (MinGW), and MSVC VS 19.39.33521

To view detailed results, visit:
https://lab.dpdk.org/results/dashboard/tarballs/35147/

UNH-IOL DPDK Community Lab

To manage your email subscriptions, visit: 
https://lab.dpdk.org/results/dashboard/preferences/subscriptions/

^ permalink raw reply	[flat|nested] 14+ messages in thread
* |SUCCESS| [GIT MASTER] 21c1fe280a2480dcd7edbb3e51cc2f9a37c1c6e0
@ 2025-10-08 12:43 dpdklab
  0 siblings, 0 replies; 14+ messages in thread
From: dpdklab @ 2025-10-08 12:43 UTC (permalink / raw)
  To: Test Report; +Cc: dpdk-test-reports, Bruce Richardson

_Testing PASS_

Branch: dpdk-next-net-intel

21c1fe280a2480dcd7edbb3e51cc2f9a37c1c6e0 --> testing pass

Upstream job id: Windows-Compile-DPDK-VS#7140

Test environment and result as below:

+---------------------+--------------------+-------------------+
|     Environment     | dpdk_meson_compile | dpdk_msvc_compile |
+=====================+====================+===================+
| Ubuntu 20.04        | PASS               | SKIPPED           |
+---------------------+--------------------+-------------------+
| FreeBSD 14.2        | PASS               | SKIPPED           |
+---------------------+--------------------+-------------------+
| Windows Server 2022 | SKIPPED            | PASS              |
+---------------------+--------------------+-------------------+


Ubuntu 20.04
	Kernel: 4.19
	Compiler: gcc gcc (Ubuntu 9.4.0-1ubuntu1~20.04.2) 9.4.0

FreeBSD 14.2
	Kernel: 14.2-RELEASE
	Compiler: clang 18.1.6

Windows Server 2022
	Kernel: 10.0.20348.2031
	Compiler: clang 15.0.7, gcc 14.1.0 (MinGW), and MSVC VS 19.39.33521

To view detailed results, visit:
https://lab.dpdk.org/results/dashboard/tarballs/35147/

UNH-IOL DPDK Community Lab

To manage your email subscriptions, visit: 
https://lab.dpdk.org/results/dashboard/preferences/subscriptions/

^ permalink raw reply	[flat|nested] 14+ messages in thread
* |SUCCESS| [GIT MASTER] 21c1fe280a2480dcd7edbb3e51cc2f9a37c1c6e0
@ 2025-10-08 12:33 dpdklab
  0 siblings, 0 replies; 14+ messages in thread
From: dpdklab @ 2025-10-08 12:33 UTC (permalink / raw)
  To: Test Report; +Cc: dpdk-test-reports, Bruce Richardson

_Testing PASS_

Branch: dpdk-next-net-intel

21c1fe280a2480dcd7edbb3e51cc2f9a37c1c6e0 --> testing pass

Upstream job id: Template-DTS-Pipeline#248515

Test environment and result as below:

+--------------+----------------------+
| Environment  | compressdev_zlib_pmd |
+==============+======================+
| Ubuntu 22.04 | PASS                 |
+--------------+----------------------+


Ubuntu 22.04
	Kernel: 5.15
	Compiler: gcc gcc (Ubuntu 11.4.0-1ubuntu1~22.04.2) 11.4.0

To view detailed results, visit:
https://lab.dpdk.org/results/dashboard/tarballs/35147/

UNH-IOL DPDK Community Lab

To manage your email subscriptions, visit: 
https://lab.dpdk.org/results/dashboard/preferences/subscriptions/

^ permalink raw reply	[flat|nested] 14+ messages in thread
* |SUCCESS| [GIT MASTER] 21c1fe280a2480dcd7edbb3e51cc2f9a37c1c6e0
@ 2025-10-08 11:34 dpdklab
  0 siblings, 0 replies; 14+ messages in thread
From: dpdklab @ 2025-10-08 11:34 UTC (permalink / raw)
  To: Test Report; +Cc: dpdk-test-reports, Bruce Richardson

_Functional Testing PASS_

Branch: dpdk-next-net-intel

21c1fe280a2480dcd7edbb3e51cc2f9a37c1c6e0 --> functional testing pass

Upstream job id: Template-DTS-Pipeline#248511

Test environment and result as below:

Ubuntu 24.04
Kernel: 6.8
Compiler: gcc gcc (Ubuntu 13.3.0-6ubuntu2~24.04) 13.3.0
NIC: Intel Corporation 4xxx Series QAT 0 Mbps

Aggregate Results by Test Suite
+----------------------------+--------+
|         Test Suite         | Result |
+============================+========+
| crypto_perf_cryptodev_perf |  PASS  |
+----------------------------+--------+


Ubuntu 20.04
Kernel: 5.4
Compiler: gcc gcc (Ubuntu 9.4.0-1ubuntu1~20.04.1) 9.4.0
NIC: Intel Corporation Ethernet Converged Network Adapter XL710-QDA2 40000 Mbps

Aggregate Results by Test Suite
+-----------------------------+--------+
|         Test Suite          | Result |
+=============================+========+
| unit_tests_mbuf             |  PASS  |
+-----------------------------+--------+
| vhost_virtio_user_interrupt |  PASS  |
+-----------------------------+--------+
| virtio_smoke                |  PASS  |
+-----------------------------+--------+


To view detailed results, visit:
https://lab.dpdk.org/results/dashboard/tarballs/35147/

UNH-IOL DPDK Community Lab

To manage your email subscriptions, visit: 
https://lab.dpdk.org/results/dashboard/preferences/subscriptions/

^ permalink raw reply	[flat|nested] 14+ messages in thread
* |SUCCESS| [GIT MASTER] 21c1fe280a2480dcd7edbb3e51cc2f9a37c1c6e0
@ 2025-10-08 11:27 dpdklab
  0 siblings, 0 replies; 14+ messages in thread
From: dpdklab @ 2025-10-08 11:27 UTC (permalink / raw)
  To: Ali Alnubani, Test Report; +Cc: dpdk-test-reports, Bruce Richardson

_Performance Testing PASS_

Branch: dpdk-next-net-intel

21c1fe280a2480dcd7edbb3e51cc2f9a37c1c6e0 --> performance testing pass

Upstream job id: Template-DTS-Pipeline#248505

Test environment and result as below:

Ubuntu 24.04
Kernel: 6.8
Compiler: gcc gcc (Ubuntu 13.3.0-6ubuntu2~24.04) 13.3.0
NIC: NVIDIA Mellanox ConnectX-7 100000 Mbps
Fail/Total: 0/6

Detail performance results: 
+------------+---------+----------+-------------+------------------------------+
| frame_size | txd/rxd | num_cpus | num_threads |  throughput difference from  |
|            |         |          |             |           expected           |
+============+=========+==========+=============+==============================+
| 64         | 1024    | 1        | 1           | 0.3%                         |
+------------+---------+----------+-------------+------------------------------+
| 128        | 1024    | 1        | 1           | 0.4%                         |
+------------+---------+----------+-------------+------------------------------+
| 256        | 1024    | 1        | 1           | -1.7%                        |
+------------+---------+----------+-------------+------------------------------+
| 512        | 1024    | 1        | 1           | 0.3%                         |
+------------+---------+----------+-------------+------------------------------+
| 1024       | 1024    | 1        | 1           | -0.1%                        |
+------------+---------+----------+-------------+------------------------------+
| 1518       | 1024    | 1        | 1           | -0.1%                        |
+------------+---------+----------+-------------+------------------------------+

Ubuntu 24.04
Kernel: 6.8
Compiler: gcc gcc (Ubuntu 13.3.0-6ubuntu2~24.04) 13.3.0
NIC: Mellanox ConnectX-6 Lx 25000 Mbps
Fail/Total: 0/6

Detail performance results: 
+------------+---------+----------+-------------+------------------------------+
| frame_size | txd/rxd | num_cpus | num_threads |  throughput difference from  |
|            |         |          |             |           expected           |
+============+=========+==========+=============+==============================+
| 64         | 1024    | 1        | 1           | 0.1%                         |
+------------+---------+----------+-------------+------------------------------+
| 128        | 1024    | 1        | 1           | 0.2%                         |
+------------+---------+----------+-------------+------------------------------+
| 256        | 1024    | 1        | 1           | 0.2%                         |
+------------+---------+----------+-------------+------------------------------+
| 512        | 1024    | 1        | 1           | 0.1%                         |
+------------+---------+----------+-------------+------------------------------+
| 1024       | 1024    | 1        | 1           | 0.2%                         |
+------------+---------+----------+-------------+------------------------------+
| 1518       | 1024    | 1        | 1           | 0.0%                         |
+------------+---------+----------+-------------+------------------------------+

To view detailed results, visit:
https://lab.dpdk.org/results/dashboard/tarballs/35147/

UNH-IOL DPDK Community Lab

To manage your email subscriptions, visit: 
https://lab.dpdk.org/results/dashboard/preferences/subscriptions/

^ permalink raw reply	[flat|nested] 14+ messages in thread
* |SUCCESS| [GIT MASTER] 21c1fe280a2480dcd7edbb3e51cc2f9a37c1c6e0
@ 2025-10-08 11:14 dpdklab
  0 siblings, 0 replies; 14+ messages in thread
From: dpdklab @ 2025-10-08 11:14 UTC (permalink / raw)
  To: Test Report; +Cc: dpdk-test-reports, Bruce Richardson

_Functional Testing PASS_

Branch: dpdk-next-net-intel

21c1fe280a2480dcd7edbb3e51cc2f9a37c1c6e0 --> functional testing pass

Upstream job id: Template-DTS-Pipeline#248517

Test environment and result as below:

Ubuntu 24.04
Kernel: 6.8
Compiler: gcc gcc (Ubuntu 13.3.0-6ubuntu2~24.04) 13.3.0
NIC: Intel Corporation 4xxx Series QAT 0 Mbps

Aggregate Results by Test Suite
+----------------------------+--------+
|         Test Suite         | Result |
+============================+========+
| crypto_perf_cryptodev_perf |  PASS  |
+----------------------------+--------+


To view detailed results, visit:
https://lab.dpdk.org/results/dashboard/tarballs/35147/

UNH-IOL DPDK Community Lab

To manage your email subscriptions, visit: 
https://lab.dpdk.org/results/dashboard/preferences/subscriptions/

^ permalink raw reply	[flat|nested] 14+ messages in thread
* |SUCCESS| [GIT MASTER] 21c1fe280a2480dcd7edbb3e51cc2f9a37c1c6e0
@ 2025-10-08 11:04 dpdklab
  0 siblings, 0 replies; 14+ messages in thread
From: dpdklab @ 2025-10-08 11:04 UTC (permalink / raw)
  To: Test Report; +Cc: dpdk-test-reports, Bruce Richardson

_Functional Testing PASS_

Branch: dpdk-next-net-intel

21c1fe280a2480dcd7edbb3e51cc2f9a37c1c6e0 --> functional testing pass

Upstream job id: Template-DTS-Pipeline#248514

Test environment and result as below:

Ubuntu 20.04.6
Kernel: 5.4.105
Compiler: gcc 9.4
NIC: Marvell CN106XX 50000 Mbps
Target: arm64-native-linuxapp-gcc

Aggregate Results by Test Suite
+----------------+--------+
|   Test Suite   | Result |
+================+========+
| cmdline        |  PASS  |
+----------------+--------+
| dynamic_queue  |  PASS  |
+----------------+--------+
| rxtx_callbacks |  PASS  |
+----------------+--------+


To view detailed results, visit:
https://lab.dpdk.org/results/dashboard/tarballs/35147/

UNH-IOL DPDK Community Lab

To manage your email subscriptions, visit: 
https://lab.dpdk.org/results/dashboard/preferences/subscriptions/

^ permalink raw reply	[flat|nested] 14+ messages in thread
* |SUCCESS| [GIT MASTER] 21c1fe280a2480dcd7edbb3e51cc2f9a37c1c6e0
@ 2025-10-08 11:04 dpdklab
  0 siblings, 0 replies; 14+ messages in thread
From: dpdklab @ 2025-10-08 11:04 UTC (permalink / raw)
  To: Test Report; +Cc: dpdk-test-reports, Bruce Richardson

_Testing PASS_

Branch: dpdk-next-net-intel

21c1fe280a2480dcd7edbb3e51cc2f9a37c1c6e0 --> testing pass

Upstream job id: Template-DTS-Pipeline#248516

Test environment and result as below:

+--------------+----------------------+
| Environment  | compressdev_zlib_pmd |
+==============+======================+
| Ubuntu 22.04 | PASS                 |
+--------------+----------------------+


Ubuntu 22.04
	Kernel: 5.15
	Compiler: gcc gcc (Ubuntu 11.4.0-1ubuntu1~22.04.2) 11.4.0

To view detailed results, visit:
https://lab.dpdk.org/results/dashboard/tarballs/35147/

UNH-IOL DPDK Community Lab

To manage your email subscriptions, visit: 
https://lab.dpdk.org/results/dashboard/preferences/subscriptions/

^ permalink raw reply	[flat|nested] 14+ messages in thread
* |SUCCESS| [GIT MASTER] 21c1fe280a2480dcd7edbb3e51cc2f9a37c1c6e0
@ 2025-10-08 10:58 dpdklab
  0 siblings, 0 replies; 14+ messages in thread
From: dpdklab @ 2025-10-08 10:58 UTC (permalink / raw)
  To: Test Report; +Cc: dpdk-test-reports, Bruce Richardson

_Testing PASS_

Branch: dpdk-next-net-intel

21c1fe280a2480dcd7edbb3e51cc2f9a37c1c6e0 --> testing pass

Upstream job id: Generic-VM-DPDK-Compile-Meson#38865

Test environment and result as below:

+--------------+--------------------+
| Environment  | dpdk_meson_compile |
+==============+====================+
| Ubuntu 20.04 | PASS               |
+--------------+--------------------+
| FreeBSD 14.2 | PASS               |
+--------------+--------------------+


Ubuntu 20.04
	Kernel: 4.19
	Compiler: gcc gcc (Ubuntu 9.4.0-1ubuntu1~20.04.2) 9.4.0

FreeBSD 14.2
	Kernel: 14.2-RELEASE
	Compiler: clang 18.1.6

To view detailed results, visit:
https://lab.dpdk.org/results/dashboard/tarballs/35147/

UNH-IOL DPDK Community Lab

To manage your email subscriptions, visit: 
https://lab.dpdk.org/results/dashboard/preferences/subscriptions/

^ permalink raw reply	[flat|nested] 14+ messages in thread

end of thread, other threads:[~2025-10-08 13:50 UTC | newest]

Thread overview: 14+ messages (download: mbox.gz / follow: Atom feed)
-- links below jump to the message on this page --
2025-10-08 12:43 |SUCCESS| [GIT MASTER] 21c1fe280a2480dcd7edbb3e51cc2f9a37c1c6e0 dpdklab
  -- strict thread matches above, loose matches on Subject: below --
2025-10-08 13:49 dpdklab
2025-10-08 13:36 dpdklab
2025-10-08 13:07 dpdklab
2025-10-08 13:06 dpdklab
2025-10-08 13:05 dpdklab
2025-10-08 12:43 dpdklab
2025-10-08 12:33 dpdklab
2025-10-08 11:34 dpdklab
2025-10-08 11:27 dpdklab
2025-10-08 11:14 dpdklab
2025-10-08 11:04 dpdklab
2025-10-08 11:04 dpdklab
2025-10-08 10:58 dpdklab

This is a public inbox, see mirroring instructions
for how to clone and mirror all data and code used for this inbox;
as well as URLs for NNTP newsgroup(s).