From mboxrd@z Thu Jan 1 00:00:00 1970 Return-Path: Received: from mails.dpdk.org (mails.dpdk.org [217.70.189.124]) by inbox.dpdk.org (Postfix) with ESMTP id 9870C488E2 for ; Wed, 8 Oct 2025 14:48:07 +0200 (CEST) Received: from mails.dpdk.org (localhost [127.0.0.1]) by mails.dpdk.org (Postfix) with ESMTP id 71D774026F; Wed, 8 Oct 2025 14:48:07 +0200 (CEST) Received: from mail-pl1-f225.google.com (mail-pl1-f225.google.com [209.85.214.225]) by mails.dpdk.org (Postfix) with ESMTP id 7284F4026F for ; Wed, 8 Oct 2025 14:48:06 +0200 (CEST) Received: by mail-pl1-f225.google.com with SMTP id d9443c01a7336-267f0fe72a1so57314435ad.2 for ; Wed, 08 Oct 2025 05:48:06 -0700 (PDT) DKIM-Signature: v=1; a=rsa-sha256; c=relaxed/relaxed; d=iol.unh.edu; s=unh-iol; t=1759927685; x=1760532485; darn=dpdk.org; h=references:in-reply-to:cc:to:from:subject:message-id:date:from:to :cc:subject:date:message-id:reply-to; bh=BAVBG2CmAtO6gyLaZJcKMppa29OE+QrPBfPO6j4sC4c=; b=Sutfb3PDfp5+XFvpY4cG3H1niwxoq6DpNHmpbvrm50isUicGyNZ/BBwbKIrQ8zg4hJ F0oKVoXEYg1MjOJU3/tW0XMqRaRwAjf9SAsgime4qllDWMpqUR086EUp5SrtDtdWE5Jt qsRgAtIIxWMUx+461NY96KBrS0R+uFwPNeM90= X-Google-DKIM-Signature: v=1; a=rsa-sha256; c=relaxed/relaxed; d=1e100.net; s=20230601; t=1759927685; x=1760532485; h=references:in-reply-to:cc:to:from:subject:message-id:date :x-gm-message-state:from:to:cc:subject:date:message-id:reply-to; bh=BAVBG2CmAtO6gyLaZJcKMppa29OE+QrPBfPO6j4sC4c=; b=adHk1LYqRspjUrbXeF9wWqZlEK99APq9Gs90NconseJzG3Gc+9M/OMbYBina+QVO4a GambfmLi+Ao31kf4dpcuDC7UL2HYRTP6hAlOnIbZMAV/gcjyCweYsQ6GTQl69XwuNvLL MaccRnMGfcmjJmv1YQmrZNUc+hbIs5dysC9MDxQUnviR28gnSjL82ZgBhsO8zekpjKFK fG9+b6bdE6BtZHz1SfawonE23Lsgm9/NTtMC8CahTErPrds6UjxvYPaVfKPgx+PWT72a kyU7RVGsEhFsXIsfKEATmQ0rA2LwyHt9dDkpb1J0rx/ozRGphHXmraITXCZIkk16Q3Gf 1fiw== X-Gm-Message-State: AOJu0YxgUr62uoiJfj6lsxaUN7Zh99LwEyLgktTtDbAN5PFERiy4u/rm U4q2FUEQqVbl6RqOEgbx1vwgizEQ5tWvPiJqB2hwQ02vKkqg8wZYbn1MPSeN6jAGUKyuCFEwfCd 8mAAwjqHZ3sXBiMKqWwFNwIzodtkc08ZYks+XVPiwh3QaseCs3lKiYNB/oHXC X-Gm-Gg: ASbGncsSNNRq3xwkMWCzkjfqUb0iIzALn/3QpitFQX49cR1zn7Q1g0yc4+zZMR+Jvhd +8e/RMa7TUFe60BD5rxdzgUI3hKip4PpDG/B3ILF1NiYHPOixBDEC32Z6SqgsmlyvDoN+HKAVit sG83tAOyGJJz9eUAQ06idTHhOT70GFXkzbv4J82P6V/kMoxIIKH9sxZ4e39fzRAHfGsYarLetH5 8WdrsWypLgJqsYUOFJ3woWP/KajIiW6y0VgSH1FfpW/Vrj3DDsBqd1kcjpjcLjAwsx+4pVQcT69 FHOWHWMu2M8qQkph/mCDaN+ANO3c7EbFEkx7QLoR5SjW2FQgAWa5BV4= X-Google-Smtp-Source: AGHT+IFmi/cZrSh4OUcwJI0lRZ6H7GrSy17nl8nOHBkULWMMZRZgrvl/YGallDwuUXVOjR04hnq98N9F/N4b X-Received: by 2002:a17:902:e888:b0:267:ba92:4d19 with SMTP id d9443c01a7336-29027119eb1mr52315545ad.0.1759927685525; Wed, 08 Oct 2025 05:48:05 -0700 (PDT) Received: from postal.iol.unh.edu (postal.iol.unh.edu. [2606:4100:3880:1234::84]) by smtp-relay.gmail.com with ESMTPS id d9443c01a7336-28e8d18127esm14899505ad.47.2025.10.08.05.48.05 (version=TLS1_2 cipher=ECDHE-ECDSA-AES128-GCM-SHA256 bits=128/128); Wed, 08 Oct 2025 05:48:05 -0700 (PDT) X-Relaying-Domain: iol.unh.edu Date: Wed, 08 Oct 2025 05:48:05 -0700 (PDT) Message-ID: <68e65d85.170a0220.3d391d.1ed5SMTPIN_ADDED_MISSING@mx.google.com> Received: from [172.21.0.2] (unknown [172.18.0.240]) by postal.iol.unh.edu (Postfix) with ESMTP id 05F2A6051830; Wed, 8 Oct 2025 08:48:05 -0400 (EDT) Subject: |SUCCESS| pw157330 [PATCH] [v2] compressdev: update device ID valida From: dpdklab@iol.unh.edu To: Test Report Cc: dpdk-test-reports@iol.unh.edu, Akhil Goyal In-Reply-To: <20251008095950.3078552-1-ashishg@marvell.com> References: <20251008095950.3078552-1-ashishg@marvell.com> Content-Type: text/plain X-BeenThere: test-report@dpdk.org X-Mailman-Version: 2.1.29 Precedence: list List-Id: automatic DPDK test reports List-Unsubscribe: , List-Archive: List-Post: List-Help: List-Subscribe: , Errors-To: test-report-bounces@dpdk.org Test-Label: iol-compile-amd64-testing Test-Status: SUCCESS http://dpdk.org/patch/157330 _Testing PASS_ Submitter: Ashish Gupta Date: Wednesday, October 08 2025 09:59:41 DPDK git baseline: Repo:dpdk-next-crypto Branch: master CommitID:2aa7141a4e2c78e3cce03dbd613532a2166123c1 157330 --> testing pass Upstream job id: Windows-Compile-DPDK-Native#31497 Test environment and result as below: +---------------------+--------------------+-------------------+-------------------------+ | Environment | dpdk_meson_compile | dpdk_msvc_compile | dpdk_llvm_clang_compile | +=====================+====================+===================+=========================+ | FreeBSD 14.2 | PASS | SKIPPED | SKIPPED | +---------------------+--------------------+-------------------+-------------------------+ | Ubuntu 20.04 | PASS | SKIPPED | SKIPPED | +---------------------+--------------------+-------------------+-------------------------+ | Windows Server 2022 | SKIPPED | PASS | PASS | +---------------------+--------------------+-------------------+-------------------------+ FreeBSD 14.2 Kernel: 14.2-RELEASE Compiler: clang 18.1.6 Ubuntu 20.04 Kernel: 4.19 Compiler: gcc gcc (Ubuntu 9.4.0-1ubuntu1~20.04.2) 9.4.0 Windows Server 2022 Kernel: 10.0.20348.2031 Compiler: clang 15.0.7, gcc 14.1.0 (MinGW), and MSVC VS 19.39.33521 To view detailed results, visit: https://lab.dpdk.org/results/dashboard/patchsets/34238/ UNH-IOL DPDK Community Lab To manage your email subscriptions, visit: https://lab.dpdk.org/results/dashboard/preferences/subscriptions/