From mboxrd@z Thu Jan 1 00:00:00 1970 Return-Path: Received: from mails.dpdk.org (mails.dpdk.org [217.70.189.124]) by inbox.dpdk.org (Postfix) with ESMTP id 849D2488E2 for ; Wed, 8 Oct 2025 14:59:12 +0200 (CEST) Received: from mails.dpdk.org (localhost [127.0.0.1]) by mails.dpdk.org (Postfix) with ESMTP id 645704026F; Wed, 8 Oct 2025 14:59:12 +0200 (CEST) Received: from mail-qv1-f97.google.com (mail-qv1-f97.google.com [209.85.219.97]) by mails.dpdk.org (Postfix) with ESMTP id A25AA4026F for ; Wed, 8 Oct 2025 14:59:10 +0200 (CEST) Received: by mail-qv1-f97.google.com with SMTP id 6a1803df08f44-79a7d439efbso68073816d6.0 for ; Wed, 08 Oct 2025 05:59:10 -0700 (PDT) DKIM-Signature: v=1; a=rsa-sha256; c=relaxed/relaxed; d=iol.unh.edu; s=unh-iol; t=1759928350; x=1760533150; darn=dpdk.org; h=references:in-reply-to:cc:to:from:subject:message-id:date:from:to :cc:subject:date:message-id:reply-to; bh=s1yrdwinSQw3/Z1xPbbnz780ZKJYOOCetbOpYNeUDSI=; b=elwmkA/RVB/DVQHLrdL9Ez9JDdDrPClurnPmQ6ccT9qzZr/W+vTCk206fc+UUOPscz jyVNYRXsqXBbg18DfNDfw/6QLhW3UYQ03IV/KYV4y6ZfQQBMJ6mKMPWup3Idme3Et5He vnmLrnCF5f5i8ZVkUJn9TTTD/xIIp64/XyHi4= X-Google-DKIM-Signature: v=1; a=rsa-sha256; c=relaxed/relaxed; d=1e100.net; s=20230601; t=1759928350; x=1760533150; h=references:in-reply-to:cc:to:from:subject:message-id:date :x-gm-message-state:from:to:cc:subject:date:message-id:reply-to; bh=s1yrdwinSQw3/Z1xPbbnz780ZKJYOOCetbOpYNeUDSI=; b=T4tQp0dR1t/o9nalOsH/jBeZOaZZyJzxRlPtz2UbKJXDvlGSfBb3ef8fIUFVsqy3rx BboHf5P6mfp/LT4M75y9OgqBBg3bezV0P2GQrR2rhplk3UB/kXSguoa/BqwdsoZL8mFG LCmEqxlG/9pEEesIe7rJzzYSyvutMsxKSEoA8gsFSr5LPv6fYbcQQuPyjArIKx7Q5tM3 FwSKcb25O7cIcxF6iwmzus4g0O1JREusxOr0Sdqkx0uYl7Ye5BfZNotcsCnY9t+TqWPM 5eGruNQ/phBK+V1ahWbjTgF/um2JcIfcsEO965IscqKWcVAYEmAb+0FLdRSHUeFiIgN8 /zBQ== X-Gm-Message-State: AOJu0YzTLyvG1Inbb/aNMfjffihYMuOsHUAKFN6OwuU4BskAjUjVIsTf oqITu+237n6M/1YE9ad7t4M6e0AkJ3C4mxKGCdDaR3Q2sjU015+xEmx6IXy6FccYf2/IRE5FMiW EnB+Kgx9hUmjyVXgh9y22+KaBqXnPeQJyZMBp17EriytR X-Gm-Gg: ASbGnctvCI0TMfsg8IEyCLI2LWZJ6jgoXsdZJHLpzAkkzPgQJjWINTM+KhTpS5CmBVu PXP5hcEDX+zvbG6Awin5MbuBYUf8EXCip2PXyGtJzK9v/NW7pjeR3juy+Mu1oKG4hMtSBHy5Y9D aO2Rh7UfU+61hQA8MFr/SpYVEwJJszsjrr1WZhK/LAeyud7L9W+/SLbH8r6Bgbbfd17PdkBiFqT W2PZfLHfxhztYAWN/KNGT3F+12lEES503zcK5tJaaX6UkMCX5DP9UBMCFGouXjdzgCU+oQ5/bQ6 U5bK8jh51AATeUTH0HPcho/jxurChIvRNAhA2PXcBfkEx1g1Olmhd1b2KmIadZNCYXVx5vP/kTU s6A== X-Google-Smtp-Source: AGHT+IFl5P6OOr/I6SfDcfUgk6rCCEPosatU1wvVd4ZkiizKdoksOFlIn6kHGi7KPLVbnF0I61gzYd4LZghM X-Received: by 2002:ad4:5945:0:b0:7f9:5850:70fa with SMTP id 6a1803df08f44-87b21057be2mr33368506d6.6.1759928349804; Wed, 08 Oct 2025 05:59:09 -0700 (PDT) Received: from postal.iol.unh.edu (postal.iol.unh.edu. [132.177.123.84]) by smtp-relay.gmail.com with ESMTPS id 6a1803df08f44-878be71d05esm15388146d6.37.2025.10.08.05.59.09 (version=TLS1_2 cipher=ECDHE-ECDSA-AES128-GCM-SHA256 bits=128/128); Wed, 08 Oct 2025 05:59:09 -0700 (PDT) X-Relaying-Domain: iol.unh.edu Date: Wed, 08 Oct 2025 05:59:09 -0700 (PDT) Message-ID: <68e6601d.050a0220.1a1ecd.2890SMTPIN_ADDED_MISSING@mx.google.com> Received: from [172.21.0.3] (unknown [172.18.0.240]) by postal.iol.unh.edu (Postfix) with ESMTP id 874DC6051830; Wed, 8 Oct 2025 08:59:09 -0400 (EDT) Subject: |SUCCESS| pw157330 [PATCH] [v2] compressdev: update device ID valida From: dpdklab@iol.unh.edu To: Test Report Cc: dpdk-test-reports@iol.unh.edu, Akhil Goyal In-Reply-To: <20251008095950.3078552-1-ashishg@marvell.com> References: <20251008095950.3078552-1-ashishg@marvell.com> Content-Type: text/plain X-BeenThere: test-report@dpdk.org X-Mailman-Version: 2.1.29 Precedence: list List-Id: automatic DPDK test reports List-Unsubscribe: , List-Archive: List-Post: List-Help: List-Subscribe: , Errors-To: test-report-bounces@dpdk.org Test-Label: iol-compile-amd64-testing Test-Status: SUCCESS http://dpdk.org/patch/157330 _Testing PASS_ Submitter: Ashish Gupta Date: Wednesday, October 08 2025 09:59:41 DPDK git baseline: Repo:dpdk-next-crypto Branch: master CommitID:2aa7141a4e2c78e3cce03dbd613532a2166123c1 157330 --> testing pass Upstream job id: Windows-Compile-DPDK-Native#31498 Test environment and result as below: +---------------------+--------------------+-------------------+-------------------------+----------------------+ | Environment | dpdk_meson_compile | dpdk_msvc_compile | dpdk_llvm_clang_compile | dpdk_mingw64_compile | +=====================+====================+===================+=========================+======================+ | FreeBSD 14.2 | PASS | SKIPPED | SKIPPED | SKIPPED | +---------------------+--------------------+-------------------+-------------------------+----------------------+ | Ubuntu 20.04 | PASS | SKIPPED | SKIPPED | SKIPPED | +---------------------+--------------------+-------------------+-------------------------+----------------------+ | Windows Server 2022 | SKIPPED | PASS | PASS | PASS | +---------------------+--------------------+-------------------+-------------------------+----------------------+ FreeBSD 14.2 Kernel: 14.2-RELEASE Compiler: clang 18.1.6 Ubuntu 20.04 Kernel: 4.19 Compiler: gcc gcc (Ubuntu 9.4.0-1ubuntu1~20.04.2) 9.4.0 Windows Server 2022 Kernel: 10.0.20348.2031 Compiler: clang 15.0.7, gcc 14.1.0 (MinGW), and MSVC VS 19.39.33521 To view detailed results, visit: https://lab.dpdk.org/results/dashboard/patchsets/34238/ UNH-IOL DPDK Community Lab To manage your email subscriptions, visit: https://lab.dpdk.org/results/dashboard/preferences/subscriptions/