From mboxrd@z Thu Jan 1 00:00:00 1970 Return-Path: Received: from mails.dpdk.org (mails.dpdk.org [217.70.189.124]) by inbox.dpdk.org (Postfix) with ESMTP id 37043488E2 for ; Wed, 8 Oct 2025 15:05:34 +0200 (CEST) Received: from mails.dpdk.org (localhost [127.0.0.1]) by mails.dpdk.org (Postfix) with ESMTP id 1658C4026F; Wed, 8 Oct 2025 15:05:34 +0200 (CEST) Received: from mail-pl1-f225.google.com (mail-pl1-f225.google.com [209.85.214.225]) by mails.dpdk.org (Postfix) with ESMTP id 23B204026F for ; Wed, 8 Oct 2025 15:05:32 +0200 (CEST) Received: by mail-pl1-f225.google.com with SMTP id d9443c01a7336-26d0fbe238bso53372995ad.3 for ; Wed, 08 Oct 2025 06:05:32 -0700 (PDT) DKIM-Signature: v=1; a=rsa-sha256; c=relaxed/relaxed; d=iol.unh.edu; s=unh-iol; t=1759928731; x=1760533531; darn=dpdk.org; h=cc:to:from:subject:message-id:date:from:to:cc:subject:date :message-id:reply-to; bh=4I8/bO76GMVcH1tmA2P6nZWtd5f5eqDgwsuTqE7Z/5g=; b=efHyuaP27D705R8fohGIM6PPO1ryPe1tOm9d8ad1v7d/nI0YEhHrzef0Rusn/bgBe3 qzjhZxlRKYmEhi5g/fEaC370DTc0m1LyMd1olLXbbIkQXAuhvgASTB6BG4uk3Gv1OUYm RH/d1FUrJbiscTqMskGbsAPh88X7iOSPEW9Ho= X-Google-DKIM-Signature: v=1; a=rsa-sha256; c=relaxed/relaxed; d=1e100.net; s=20230601; t=1759928731; x=1760533531; h=cc:to:from:subject:message-id:date:x-gm-message-state:from:to:cc :subject:date:message-id:reply-to; bh=4I8/bO76GMVcH1tmA2P6nZWtd5f5eqDgwsuTqE7Z/5g=; b=WuUqUaAQy/L1CHPI0u/J68Xypfzs3QVu8UEy0/R41Bc24Zk4SckW7EK5KJezkVikmB GpyDIelnO48W5NhwZqaOIZrgD2vR68RGyk0PXVB9puLPFk2sjccX89yAjsupkSxu0ppu FHAfE1WRtiPDFrsxcyc+lFklB3ogr4v/x4KYaQMsRnTDsfIeN4hfHLR3xUL55OCHM6U7 1RGYgMmFdtCvTx7WOhOf7eWCBnjF2R577lvk7H+Vrfxea0UqT9UWZd4HmwkF0OLcF6jL znJY8Y9kM9ZXu41nJtWMp6iqapUBDXE0myFWw71D6n8auOWg2CXbXYLbIOIezUadLlpC vyfg== X-Gm-Message-State: AOJu0Yz9o9QPlG3xL3cksNp3J0K1psbGoBI86cmKmz9aVSGpgqPhKgp6 er8JT6sx6BCwqaMCxJQlWEkEpS5MfAUPeipb33hs+O5FJJ8gu4cnqu9KBFtdBNtvu9HkxEkeRLp dCrJ5C5In6IyWeUh/lS/PQCtRe8woG3X8EJMZpx4c7pzMeOYD9pQX1BF2/O0Y X-Gm-Gg: ASbGncsjVGeW1Tnf9cMoV8PPvL5A86HWOivJ9Xwkb1lGgosGo2gukmNZtnqPgDcOsCg K7sv8gKkT9o7GGQEGEa349uHS6gMEzK3wLKPtFHiud7y3d3KlqMFXAC8Ks3TF67dmfaf4Kq5HED WF7ieXfmAA35io1+eBFtfapcnm3hzrr4AREl5CPPeHGiMAAToDGQhD7lATMtYG6qSiKvgM6329D rCoKWqS5zcxoQylvKLQ749KJUsT8E8aH6tMtCyZwBLKLJhDqBsMjyvqJris8PoTxcvV5E6bH4Tl 3EmoplfFtZ0UifOxF0aaYoe6YhBFHsUtT131gtzbZtcXHedS7GYIrKk= X-Google-Smtp-Source: AGHT+IHfMDvvKuwFrIEdOwjFgbrykQu98mDUm9Azyf/LuUWGiix5uO4/Fqpe7n3Xv1526QEAHDyimsf3Sx4f X-Received: by 2002:a17:902:d483:b0:28e:78b9:5780 with SMTP id d9443c01a7336-29027402cfbmr46663825ad.47.1759928731243; Wed, 08 Oct 2025 06:05:31 -0700 (PDT) Received: from postal.iol.unh.edu (postal.iol.unh.edu. [2606:4100:3880:1234::84]) by smtp-relay.gmail.com with ESMTPS id d9443c01a7336-28e8d107a94sm13700345ad.13.2025.10.08.06.05.31 (version=TLS1_2 cipher=ECDHE-ECDSA-AES128-GCM-SHA256 bits=128/128); Wed, 08 Oct 2025 06:05:31 -0700 (PDT) X-Relaying-Domain: iol.unh.edu Date: Wed, 08 Oct 2025 06:05:31 -0700 (PDT) Message-ID: <68e6619b.170a0220.7993b.ad1eSMTPIN_ADDED_MISSING@mx.google.com> Received: from [172.21.0.2] (unknown [172.18.0.240]) by postal.iol.unh.edu (Postfix) with ESMTP id 9C2DB604D420; Wed, 8 Oct 2025 09:05:30 -0400 (EDT) Subject: |SUCCESS| [GIT MASTER] 21c1fe280a2480dcd7edbb3e51cc2f9a37c1c6e0 From: dpdklab@iol.unh.edu To: Test Report Cc: dpdk-test-reports@iol.unh.edu, Bruce Richardson Content-Type: text/plain X-BeenThere: test-report@dpdk.org X-Mailman-Version: 2.1.29 Precedence: list List-Id: automatic DPDK test reports List-Unsubscribe: , List-Archive: List-Post: List-Help: List-Subscribe: , Errors-To: test-report-bounces@dpdk.org _Testing PASS_ Branch: dpdk-next-net-intel 21c1fe280a2480dcd7edbb3e51cc2f9a37c1c6e0 --> testing pass Upstream job id: Windows-Compile-DPDK-Native#31499 Test environment and result as below: +---------------------+--------------------+-------------------+-------------------------+ | Environment | dpdk_meson_compile | dpdk_msvc_compile | dpdk_llvm_clang_compile | +=====================+====================+===================+=========================+ | Ubuntu 20.04 | PASS | SKIPPED | SKIPPED | +---------------------+--------------------+-------------------+-------------------------+ | FreeBSD 14.2 | PASS | SKIPPED | SKIPPED | +---------------------+--------------------+-------------------+-------------------------+ | Windows Server 2022 | SKIPPED | PASS | PASS | +---------------------+--------------------+-------------------+-------------------------+ Ubuntu 20.04 Kernel: 4.19 Compiler: gcc gcc (Ubuntu 9.4.0-1ubuntu1~20.04.2) 9.4.0 FreeBSD 14.2 Kernel: 14.2-RELEASE Compiler: clang 18.1.6 Windows Server 2022 Kernel: 10.0.20348.2031 Compiler: clang 15.0.7, gcc 14.1.0 (MinGW), and MSVC VS 19.39.33521 To view detailed results, visit: https://lab.dpdk.org/results/dashboard/tarballs/35147/ UNH-IOL DPDK Community Lab To manage your email subscriptions, visit: https://lab.dpdk.org/results/dashboard/preferences/subscriptions/