From mboxrd@z Thu Jan 1 00:00:00 1970 Return-Path: Received: from mails.dpdk.org (mails.dpdk.org [217.70.189.124]) by inbox.dpdk.org (Postfix) with ESMTP id 67FCD488E2 for ; Wed, 8 Oct 2025 15:07:34 +0200 (CEST) Received: from mails.dpdk.org (localhost [127.0.0.1]) by mails.dpdk.org (Postfix) with ESMTP id 5E3034026F; Wed, 8 Oct 2025 15:07:34 +0200 (CEST) Received: from mail-yw1-f228.google.com (mail-yw1-f228.google.com [209.85.128.228]) by mails.dpdk.org (Postfix) with ESMTP id 5AF004026F for ; Wed, 8 Oct 2025 15:07:32 +0200 (CEST) Received: by mail-yw1-f228.google.com with SMTP id 00721157ae682-723ad237d1eso77296327b3.1 for ; Wed, 08 Oct 2025 06:07:32 -0700 (PDT) DKIM-Signature: v=1; a=rsa-sha256; c=relaxed/relaxed; d=iol.unh.edu; s=unh-iol; t=1759928851; x=1760533651; darn=dpdk.org; h=cc:to:from:subject:message-id:date:from:to:cc:subject:date :message-id:reply-to; bh=FAZoJshdqM5wyEVTLxdtiTx6A8Y9lwVaOQLPPc4KAlc=; b=FqSIzk2sp8RFGsBE/PSIPZpIE59VbTy+xc5QKZbj55eNbEWoQQpJHaPWmbzDLa4fmR 9/kdbmwoA/7eTVjEsi8qmUn7OoaFYQ66bDYrWs8uD41udUjmReMPfFjYTchK68e3CYiQ a2RA0hiHSytzDtuFkqCPJg1sK1PUfeI1Jy6vA= X-Google-DKIM-Signature: v=1; a=rsa-sha256; c=relaxed/relaxed; d=1e100.net; s=20230601; t=1759928851; x=1760533651; h=cc:to:from:subject:message-id:date:x-gm-message-state:from:to:cc :subject:date:message-id:reply-to; bh=FAZoJshdqM5wyEVTLxdtiTx6A8Y9lwVaOQLPPc4KAlc=; b=u/0ztuqT48vDvnyx7mxC4SAWMRcAE0fl+utwxjizvPEcsusAGofk6lkLKkExLnygqz nbMy8MAMOd22Ur01agLwHGI/7pOr2IkyEG7w2vJ7z56LtNmkG4AWBkri58IUN9XUhhbp awxovjw7ggNV8F0NKSa16VIeN9MjfCtB1oAghKFTgt4yB8bElPAiP/zbHqFkkEWqXVb8 EBX45bXgOzMxod51utlbzwCTLbhlecjiuq5gkOGChKga1QP0OekKssf+bJJ9bN5Rn806 F+DZMa3syDt1+pGX6OMZYYse77UnzbX9Q141EMhhDqWVURkDhREa3uImwBmQjqXTUy8Y QV/A== X-Gm-Message-State: AOJu0YyKPQvpVcxt/9rpTT5PCnnrGMuGmy3zxTxnCDRBi8DyVedKCv8D 5mZ5UAoHgcVcJXj1HhptRCdzOddW0csAKER4jN/SruKeLSspIyKuSPcvEt0iNia8jaGB8FrOTxW ++2xiFyzwhdJnKRGzgPh/zJfm/3cE4JOp2ytrMneTz4SF X-Gm-Gg: ASbGncuvnYuJqFmdo+AA+lbOxuGztITmdFs9rZNIDjVPxe20QeiSK+JktZBDSGFJ8DG mlpKmqAUc4aSnLCwdDidiZ8BNmKuJsBifm6prj6F3+WhZAZtckAznC+NRXOrLTA8Qswrh/nf8rf jsfyshzaXQ/oX8zTtUxfCQg5Pb2lPm2duVGLDD4y/nJB4k2hzBv7WE+jdIktKibwKJ6TNCrrTxM aQq5Ef22koc/rMmClnus0IndtXKDaVyiHzDqrwW3FuTuzqlNsT0qDeNCR9N4yIbd0JiavFLEvTN tKlobvAC3EU5CW33lg8D431g4y8dX+BX8mXsOg0WcVzSE4tPwZwLggZhURpqD5/7JDyd93Wqao+ o5g== X-Google-Smtp-Source: AGHT+IHdtVbs7qbJ3H0r7ODPmcIXtmIirleBnfR1qJ02izuKL7CL5X20CwOoDstNBdWEQIjW8NP9OzFAtEYK X-Received: by 2002:a05:690e:c1:b0:636:e0b:7b9f with SMTP id 956f58d0204a3-63ccb90ae3cmr2216774d50.27.1759928851373; Wed, 08 Oct 2025 06:07:31 -0700 (PDT) Received: from postal.iol.unh.edu (postal.iol.unh.edu. [132.177.123.84]) by smtp-relay.gmail.com with ESMTPS id 956f58d0204a3-63b8466fbcasm1115918d50.10.2025.10.08.06.07.31 (version=TLS1_2 cipher=ECDHE-ECDSA-AES128-GCM-SHA256 bits=128/128); Wed, 08 Oct 2025 06:07:31 -0700 (PDT) X-Relaying-Domain: iol.unh.edu Date: Wed, 08 Oct 2025 06:07:31 -0700 (PDT) Message-ID: <68e66213.530a0220.2f974f.c23aSMTPIN_ADDED_MISSING@mx.google.com> Received: from [172.21.0.2] (unknown [172.18.0.240]) by postal.iol.unh.edu (Postfix) with ESMTP id 0E0E6604D420; Wed, 8 Oct 2025 09:07:31 -0400 (EDT) Subject: |SUCCESS| [GIT MASTER] 21c1fe280a2480dcd7edbb3e51cc2f9a37c1c6e0 From: dpdklab@iol.unh.edu To: Test Report Cc: dpdk-test-reports@iol.unh.edu, Bruce Richardson Content-Type: text/plain X-BeenThere: test-report@dpdk.org X-Mailman-Version: 2.1.29 Precedence: list List-Id: automatic DPDK test reports List-Unsubscribe: , List-Archive: List-Post: List-Help: List-Subscribe: , Errors-To: test-report-bounces@dpdk.org _Testing PASS_ Branch: dpdk-next-net-intel 21c1fe280a2480dcd7edbb3e51cc2f9a37c1c6e0 --> testing pass Upstream job id: Windows-Compile-DPDK-Native#31500 Test environment and result as below: +---------------------+--------------------+-------------------+-------------------------+----------------------+ | Environment | dpdk_meson_compile | dpdk_msvc_compile | dpdk_llvm_clang_compile | dpdk_mingw64_compile | +=====================+====================+===================+=========================+======================+ | Ubuntu 20.04 | PASS | SKIPPED | SKIPPED | SKIPPED | +---------------------+--------------------+-------------------+-------------------------+----------------------+ | FreeBSD 14.2 | PASS | SKIPPED | SKIPPED | SKIPPED | +---------------------+--------------------+-------------------+-------------------------+----------------------+ | Windows Server 2022 | SKIPPED | PASS | PASS | PASS | +---------------------+--------------------+-------------------+-------------------------+----------------------+ Ubuntu 20.04 Kernel: 4.19 Compiler: gcc gcc (Ubuntu 9.4.0-1ubuntu1~20.04.2) 9.4.0 FreeBSD 14.2 Kernel: 14.2-RELEASE Compiler: clang 18.1.6 Windows Server 2022 Kernel: 10.0.20348.2031 Compiler: clang 15.0.7, gcc 14.1.0 (MinGW), and MSVC VS 19.39.33521 To view detailed results, visit: https://lab.dpdk.org/results/dashboard/tarballs/35147/ UNH-IOL DPDK Community Lab To manage your email subscriptions, visit: https://lab.dpdk.org/results/dashboard/preferences/subscriptions/