From mboxrd@z Thu Jan 1 00:00:00 1970 Return-Path: Received: from mails.dpdk.org (mails.dpdk.org [217.70.189.124]) by inbox.dpdk.org (Postfix) with ESMTP id 22144488E2 for ; Wed, 8 Oct 2025 15:25:01 +0200 (CEST) Received: from mails.dpdk.org (localhost [127.0.0.1]) by mails.dpdk.org (Postfix) with ESMTP id E01C140267; Wed, 8 Oct 2025 15:25:00 +0200 (CEST) Received: from mail-qt1-f225.google.com (mail-qt1-f225.google.com [209.85.160.225]) by mails.dpdk.org (Postfix) with ESMTP id 9393940267 for ; Wed, 8 Oct 2025 15:24:59 +0200 (CEST) Received: by mail-qt1-f225.google.com with SMTP id d75a77b69052e-4e56cd8502aso79370211cf.0 for ; Wed, 08 Oct 2025 06:24:59 -0700 (PDT) DKIM-Signature: v=1; a=rsa-sha256; c=relaxed/relaxed; d=iol.unh.edu; s=unh-iol; t=1759929899; x=1760534699; darn=dpdk.org; h=references:in-reply-to:cc:to:from:subject:message-id:date:from:to :cc:subject:date:message-id:reply-to; bh=VJxIyrsqbapX8L8O0Gs17Txj8kBRvEf9ftsQ53IFeBo=; b=SmY+51ginI/xBBwJLX8ap8vBzZWz8RpShWDZl6BpxlH2RxCcwz6JbGYj3sRapAwgR8 GMHWQH9YTvkLs3zOsyP/ZKKvWJTA2kWFRaGAsaitzFz4xY2MkF1tbg/01aHDT0ElaRAA usQATkIgjrvDZua5X0PBicpklTezJA3f7EA2I= X-Google-DKIM-Signature: v=1; a=rsa-sha256; c=relaxed/relaxed; d=1e100.net; s=20230601; t=1759929899; x=1760534699; h=references:in-reply-to:cc:to:from:subject:message-id:date :x-gm-message-state:from:to:cc:subject:date:message-id:reply-to; bh=VJxIyrsqbapX8L8O0Gs17Txj8kBRvEf9ftsQ53IFeBo=; b=JjROUDCIOfDaOmj9uWmc9kJr6BKq5eRy7tnvn/xdHN5f3HmATHIAoIfBPNt3VTaXW0 483glJ7Bgivl+dmHpdtoJPOjJsxtjL2zXXGz6fBp9D3N+xtRy9ryOhfxQu0yWaj55nNr dxOiUe6egbk3VpjpUcN0xk4tgG88be85CyjPtgzCtvHZKjfxicppdLXCmXEAfVGdKJ3m 1tLRQ7YLkInBDfapgZmjXeTD6O08xHtA0L4TjpVyYP7rwKNb5zLXE7YmqEFlbZmN9MoW e9cWBAf+0qFM+bOjV9JsYnro0xE01Q84nj9JMmMT3kk9RuUouKU0z2FiQ/SYaC6/RdQQ KjOA== X-Gm-Message-State: AOJu0YxfbC7G9bHWplWifa/RSf6Vcs3re6A74jRpHgivCNAn5uWk5JJ3 VwhHpF6o05ZydyP+st7JJRtSgTK1QKf2qv9kbl+tbCE+nUL1hQ/XW2higgOLEALkgBiXMW+BMQ4 /0uwJ3jdG/fswUZScZHeuSRt8o79d+diQdybjNHznJ0DT X-Gm-Gg: ASbGncuh83+wCN8dTQtXB/ayluUDO/WZhbJ23UUtAWcWiPXgZ+h+vj2OiGz1loqC8fv LFzvpTTfaTasmaZD2JIvK5HbfuguTKWS+QiSrQUOEdI2I/2m2zX6Y4Ko8mnWefDSCLkcJM7lLYZ qbBxJKwnXskKmngjREhfMBILgJlxPvf+RemMcVpCck2Hx+bPvmMWdsONLyw70n+Ujr2sKFB5sqj xXuwZRS2SyTnaIm1BSiGKieF1Us/698WHeGPTlWaowTDYzUHy7GzgvlY0LvNIzpqFiJa0HR3V0M 4Ss0Ul4JhIzKGhs6FQyQcSLY72wAoGNjYiy2cZsaSG+G9t4ji2kesp1hIxRY9iCJ1rTNnH2xj7d qcg== X-Google-Smtp-Source: AGHT+IHMUxxeS1gN8NHpIULpNgh3Jtrq4ArL/3VIwWbsSVLYpBYE0aw1+G0s5ApJ6np5i3H4ClxlExbJaDft X-Received: by 2002:ac8:7f50:0:b0:4b6:35e7:1746 with SMTP id d75a77b69052e-4e6ead67b6bmr47516681cf.71.1759929898777; Wed, 08 Oct 2025 06:24:58 -0700 (PDT) Received: from postal.iol.unh.edu (postal.iol.unh.edu. [132.177.123.84]) by smtp-relay.gmail.com with ESMTPS id d75a77b69052e-4e55a2439f0sm7390541cf.3.2025.10.08.06.24.58 (version=TLS1_2 cipher=ECDHE-ECDSA-AES128-GCM-SHA256 bits=128/128); Wed, 08 Oct 2025 06:24:58 -0700 (PDT) X-Relaying-Domain: iol.unh.edu Date: Wed, 08 Oct 2025 06:24:58 -0700 (PDT) Message-ID: <68e6662a.c80a0220.30bc5a.bae6SMTPIN_ADDED_MISSING@mx.google.com> Received: from [172.21.0.2] (unknown [172.18.0.240]) by postal.iol.unh.edu (Postfix) with ESMTP id 733F26050A61; Wed, 8 Oct 2025 09:24:58 -0400 (EDT) Subject: |SUCCESS| pw157330 [PATCH] [v2] compressdev: update device ID valida From: dpdklab@iol.unh.edu To: Test Report Cc: dpdk-test-reports@iol.unh.edu, Akhil Goyal In-Reply-To: <20251008095950.3078552-1-ashishg@marvell.com> References: <20251008095950.3078552-1-ashishg@marvell.com> Content-Type: text/plain X-BeenThere: test-report@dpdk.org X-Mailman-Version: 2.1.29 Precedence: list List-Id: automatic DPDK test reports List-Unsubscribe: , List-Archive: List-Post: List-Help: List-Subscribe: , Errors-To: test-report-bounces@dpdk.org Test-Label: iol-unit-amd64-testing Test-Status: SUCCESS http://dpdk.org/patch/157330 _Testing PASS_ Submitter: Ashish Gupta Date: Wednesday, October 08 2025 09:59:41 DPDK git baseline: Repo:dpdk-next-crypto Branch: master CommitID:2aa7141a4e2c78e3cce03dbd613532a2166123c1 157330 --> testing pass Upstream job id: Generic-Unit-Test-DPDK#379634 Test environment and result as below: +-------------------------------+----------------+ | Environment | dpdk_unit_test | +===============================+================+ | CentOS Stream 10 | PASS | +-------------------------------+----------------+ | CentOS Stream 9 | PASS | +-------------------------------+----------------+ | Fedora Linux 40 | PASS | +-------------------------------+----------------+ | Debian GNU/Linux 12 | PASS | +-------------------------------+----------------+ | Fedora Linux 41 | PASS | +-------------------------------+----------------+ | Fedora Linux 42 | PASS | +-------------------------------+----------------+ | Ubuntu 20.04 | PASS | +-------------------------------+----------------+ | Red Hat Enterprise Linux 8.10 | PASS | +-------------------------------+----------------+ | Ubuntu 22.04 | PASS | +-------------------------------+----------------+ | Red Hat Enterprise Linux 9.5 | PASS | +-------------------------------+----------------+ | Ubuntu 24.04 | PASS | +-------------------------------+----------------+ | Windows Server 2022 | PASS | +-------------------------------+----------------+ CentOS Stream 10 Kernel: 5.15 Compiler: gcc gcc (GCC) 14.2.1 20250110 (Red Hat 14.2.1-8) CentOS Stream 9 Kernel: 5.15 Compiler: gcc gcc (GCC) 11.5.0 20240719 (Red Hat 11.5.0-11) Fedora Linux 40 Kernel: 5.15 Compiler: gcc gcc (GCC) 14.2.1 20240912 (Red Hat 14.2.1-3) Debian GNU/Linux 12 Kernel: 5.15 Compiler: gcc gcc (Debian 12.2.0-14+deb12u1) 12.2.0 Fedora Linux 41 Kernel: 5.15 Compiler: gcc gcc (GCC) 14.3.1 20250523 (Red Hat 14.3.1-1) Fedora Linux 42 Kernel: 5.15 Compiler: gcc gcc (GCC) 15.2.1 20250808 (Red Hat 15.2.1-1) Ubuntu 20.04 Kernel: 5.15 Compiler: gcc gcc (Ubuntu 9.4.0-1ubuntu1~20.04.2) 9.4.0 Red Hat Enterprise Linux 8.10 Kernel: 5.15 Compiler: gcc gcc (GCC) 8.5.0 20210514 (Red Hat 8.5.0-22) Ubuntu 22.04 Kernel: 5.15 Compiler: gcc gcc (Ubuntu 11.4.0-1ubuntu1~22.04) 11.4.0 Red Hat Enterprise Linux 9.5 Kernel: 5.15 Compiler: gcc gcc (GCC) 11.5.0 20240719 (Red Hat 11.5.0-2) Ubuntu 24.04 Kernel: 5.15 Compiler: gcc gcc (Ubuntu 13.3.0-6ubuntu2~24.04) 13.3.0 Windows Server 2022 Kernel: 10.0.20348.2031 Compiler: clang 15.0.7, gcc 14.1.0 (MinGW), and MSVC VS 19.39.33521 To view detailed results, visit: https://lab.dpdk.org/results/dashboard/patchsets/34238/ UNH-IOL DPDK Community Lab To manage your email subscriptions, visit: https://lab.dpdk.org/results/dashboard/preferences/subscriptions/