From mboxrd@z Thu Jan 1 00:00:00 1970 Return-Path: Received: from mails.dpdk.org (mails.dpdk.org [217.70.189.124]) by inbox.dpdk.org (Postfix) with ESMTP id 232DB488E2 for ; Wed, 8 Oct 2025 15:50:01 +0200 (CEST) Received: from mails.dpdk.org (localhost [127.0.0.1]) by mails.dpdk.org (Postfix) with ESMTP id 00C4D40267; Wed, 8 Oct 2025 15:50:01 +0200 (CEST) Received: from mail-pj1-f98.google.com (mail-pj1-f98.google.com [209.85.216.98]) by mails.dpdk.org (Postfix) with ESMTP id 109A540267 for ; Wed, 8 Oct 2025 15:50:00 +0200 (CEST) Received: by mail-pj1-f98.google.com with SMTP id 98e67ed59e1d1-33067909400so5587038a91.2 for ; Wed, 08 Oct 2025 06:49:59 -0700 (PDT) DKIM-Signature: v=1; a=rsa-sha256; c=relaxed/relaxed; d=iol.unh.edu; s=unh-iol; t=1759931399; x=1760536199; darn=dpdk.org; h=cc:to:from:subject:message-id:date:from:to:cc:subject:date :message-id:reply-to; bh=Ipn+/u2PwL7Dv4o/C1lyiVyqPklpZKCiMvsLvgOh+G8=; b=i/vi/G0vZiTdqYOL1GqLZeWaoh0zVtFL4RCJkE70CrR3u8HjhWeK/rUl1IJ0D9X4W7 uXESXfbh7Dg7KwLwX56WJOTphRpAwuJbKFhfX1vRyUln5ZTb/gq49Q0UAb48uORYkC9j DDrOJQ0kVVRa3BuRNxQuPTqXZvCaIiQwGbuxc= X-Google-DKIM-Signature: v=1; a=rsa-sha256; c=relaxed/relaxed; d=1e100.net; s=20230601; t=1759931399; x=1760536199; h=cc:to:from:subject:message-id:date:x-gm-message-state:from:to:cc :subject:date:message-id:reply-to; bh=Ipn+/u2PwL7Dv4o/C1lyiVyqPklpZKCiMvsLvgOh+G8=; b=ETi1IPxfo/F7JWMS2N7g0i0k6hppwm8dCjeLsbcyTFGlkZ1KWEs+fDrzMtSKcYixkX hrMHGWEb3Rk6PK37Z1F6RlXbwQPX5LW3RJns4sNSLb0gFXwxhEwPahxPcJf/bSXK9ZxM cJLqG2liR9lIK2IJmHOX2ia14tl8pv3UUzwY7MJ2XLpyOp+TcG+1HlkU+8OzixdE9B2w NEuJAytaiyIUdWOYPR5VtpaQ1YPwRu2UX2AFvNJqUWfQ4WTc5rH9g3hbBHrhhd22pg32 X/Wi3WLNbhpPe1JgnU2MVz/DnvZeOGUanrZjDNWbPjhT+CvCY2eQ2vFHs659ZMznSAgU yhEQ== X-Gm-Message-State: AOJu0Yz5F0QP6uFEaXezGAYlpUgUaUMRtribMXHOczwD3WJtpWT8WWwB X4dmsy+mALqXgDlDYPulYcjlgKejY8dfvgIMQGrk9kYW9mlr1KP6ATwigAcrRU/N0P2eYSXlGba bR1IeKOinpxLfnqCMkB4fOJY29Ur76RRyCspHwB9gVrvtF6v+iXh6ika+62oe X-Gm-Gg: ASbGncu56z+T8l9NG5l1fTI8FVthN9SHZZ1QHBRDalYvcGOQy3E6O7V/s6OstfJuHvq 6dOSvsZtpaF3+Xz4dZW/HVUZNUmyZwNTOF5uJHJDcg04YvGo0bh+kIKQHLHs3oTJekmVA9zCBBT vN1dtFAoE788E7gsARNqtZmAF6r9RmNsAaODSX8ZTCmjDBS1RgFKUTTBf5DXHFfORQ42pekVixc 4BtRBX5uugPiK9epnsoH3uSFgN6/g0nUjI/VP/RuYFUQy1XwYMeN1m3+Hd3gxhjLCKnAXyr7mQH gbbqNlxI1vnUKOMr9SLwTbeDQN8/Pz3267QARDg7xRVnhW5NwePBuA0= X-Google-Smtp-Source: AGHT+IGS035hxJD1D+oKrwHIvfZbvTkn0nDzeNE1EdjRNj6n/s5Dq1FgzCHqnIbv8vVaZ4Ku3N9Kjq3vY0AH X-Received: by 2002:a17:902:f642:b0:250:999f:31c6 with SMTP id d9443c01a7336-290272b4764mr40432505ad.32.1759931399073; Wed, 08 Oct 2025 06:49:59 -0700 (PDT) Received: from postal.iol.unh.edu (postal.iol.unh.edu. [2606:4100:3880:1234::84]) by smtp-relay.gmail.com with ESMTPS id d9443c01a7336-28e8d18127esm15045025ad.47.2025.10.08.06.49.58 (version=TLS1_2 cipher=ECDHE-ECDSA-AES128-GCM-SHA256 bits=128/128); Wed, 08 Oct 2025 06:49:59 -0700 (PDT) X-Relaying-Domain: iol.unh.edu Date: Wed, 08 Oct 2025 06:49:59 -0700 (PDT) Message-ID: <68e66c07.170a0220.3d391d.275dSMTPIN_ADDED_MISSING@mx.google.com> Received: from [172.21.0.2] (unknown [172.18.0.240]) by postal.iol.unh.edu (Postfix) with ESMTP id 7C3596051830; Wed, 8 Oct 2025 09:49:58 -0400 (EDT) Subject: |SUCCESS| [GIT MASTER] 21c1fe280a2480dcd7edbb3e51cc2f9a37c1c6e0 From: dpdklab@iol.unh.edu To: Test Report Cc: dpdk-test-reports@iol.unh.edu, Bruce Richardson Content-Type: text/plain X-BeenThere: test-report@dpdk.org X-Mailman-Version: 2.1.29 Precedence: list List-Id: automatic DPDK test reports List-Unsubscribe: , List-Archive: List-Post: List-Help: List-Subscribe: , Errors-To: test-report-bounces@dpdk.org _Testing PASS_ Branch: dpdk-next-net-intel 21c1fe280a2480dcd7edbb3e51cc2f9a37c1c6e0 --> testing pass Upstream job id: Generic-Unit-Test-DPDK#379673 Test environment and result as below: +-------------------------------+----------------+ | Environment | dpdk_unit_test | +===============================+================+ | CentOS Stream 10 | PASS | +-------------------------------+----------------+ | CentOS Stream 9 | PASS | +-------------------------------+----------------+ | Debian GNU/Linux 12 | PASS | +-------------------------------+----------------+ | Fedora Linux 40 | PASS | +-------------------------------+----------------+ | Fedora Linux 41 | PASS | +-------------------------------+----------------+ | Fedora Linux 42 | PASS | +-------------------------------+----------------+ | Red Hat Enterprise Linux 8.10 | PASS | +-------------------------------+----------------+ | Ubuntu 22.04 | PASS | +-------------------------------+----------------+ | Red Hat Enterprise Linux 9.5 | PASS | +-------------------------------+----------------+ | Ubuntu 20.04 | PASS | +-------------------------------+----------------+ | Ubuntu 24.04 | PASS | +-------------------------------+----------------+ | Windows Server 2022 | PASS | +-------------------------------+----------------+ CentOS Stream 10 Kernel: 5.15 Compiler: gcc gcc (GCC) 14.2.1 20250110 (Red Hat 14.2.1-8) CentOS Stream 9 Kernel: 5.15 Compiler: gcc gcc (GCC) 11.5.0 20240719 (Red Hat 11.5.0-11) Debian GNU/Linux 12 Kernel: 5.15 Compiler: gcc gcc (Debian 12.2.0-14+deb12u1) 12.2.0 Fedora Linux 40 Kernel: 5.15 Compiler: gcc gcc (GCC) 14.2.1 20240912 (Red Hat 14.2.1-3) Fedora Linux 41 Kernel: 5.15 Compiler: clang gcc (GCC) 14.3.1 20250523 (Red Hat 14.3.1-1) Fedora Linux 42 Kernel: 5.15 Compiler: clang gcc (GCC) 15.2.1 20250808 (Red Hat 15.2.1-1) Red Hat Enterprise Linux 8.10 Kernel: 5.15 Compiler: gcc gcc (GCC) 8.5.0 20210514 (Red Hat 8.5.0-22) Ubuntu 22.04 Kernel: 5.15 Compiler: gcc gcc (Ubuntu 11.4.0-1ubuntu1~22.04) 11.4.0 Red Hat Enterprise Linux 9.5 Kernel: 5.15 Compiler: gcc gcc (GCC) 11.5.0 20240719 (Red Hat 11.5.0-2) Ubuntu 20.04 Kernel: 5.15 Compiler: gcc gcc (Ubuntu 9.4.0-1ubuntu1~20.04.2) 9.4.0 Ubuntu 24.04 Kernel: 5.15 Compiler: gcc gcc (Ubuntu 13.3.0-6ubuntu2~24.04) 13.3.0 Windows Server 2022 Kernel: 10.0.20348.2031 Compiler: clang 15.0.7, gcc 14.1.0 (MinGW), and MSVC VS 19.39.33521 To view detailed results, visit: https://lab.dpdk.org/results/dashboard/tarballs/35147/ UNH-IOL DPDK Community Lab To manage your email subscriptions, visit: https://lab.dpdk.org/results/dashboard/preferences/subscriptions/