From mboxrd@z Thu Jan 1 00:00:00 1970 Return-Path: Received: from mails.dpdk.org (mails.dpdk.org [217.70.189.124]) by inbox.dpdk.org (Postfix) with ESMTP id 14F9E488E3 for ; Wed, 8 Oct 2025 16:15:10 +0200 (CEST) Received: from mails.dpdk.org (localhost [127.0.0.1]) by mails.dpdk.org (Postfix) with ESMTP id E204040267; Wed, 8 Oct 2025 16:15:09 +0200 (CEST) Received: from mail-oo1-f97.google.com (mail-oo1-f97.google.com [209.85.161.97]) by mails.dpdk.org (Postfix) with ESMTP id EDACA40267 for ; Wed, 8 Oct 2025 16:15:08 +0200 (CEST) Received: by mail-oo1-f97.google.com with SMTP id 006d021491bc7-64e3e259f93so3648640eaf.3 for ; Wed, 08 Oct 2025 07:15:08 -0700 (PDT) DKIM-Signature: v=1; a=rsa-sha256; c=relaxed/relaxed; d=iol.unh.edu; s=unh-iol; t=1759932908; x=1760537708; darn=dpdk.org; h=cc:to:from:subject:message-id:date:from:to:cc:subject:date :message-id:reply-to; bh=r9uY9Gl50MOXBALzk51XSznp9B6jFF0j/xkIIuWsuw0=; b=WOYFeoil+Cwev+ZsX2kNx/3kC1Rf8waXFKDA4TxPTLM5zZQ0c3Iiwk1ua51gedFCh8 SHrAGqihzDHJdXhFCXLvZfr+/Oi34PiXRMiscfxiPOrRUyXpDhPqJdfL5GSybAqtYi+g z5xOxSTRd8BgoSFAY/3zKoKD7OblEL3yBOWIs= X-Google-DKIM-Signature: v=1; a=rsa-sha256; c=relaxed/relaxed; d=1e100.net; s=20230601; t=1759932908; x=1760537708; h=cc:to:from:subject:message-id:date:x-gm-message-state:from:to:cc :subject:date:message-id:reply-to; bh=r9uY9Gl50MOXBALzk51XSznp9B6jFF0j/xkIIuWsuw0=; b=Vf8PcctWIHajzLJdshiTlb9wNIYo6B0zgXHnIxKC75lsrj1VTVokp6bAEVfJKZ7og/ URSlX+jKoge5LxxKZTvpiJJCdwpD4C2oeGRA30rcF7K/wsoOTJywrOqlRfEy4rbtn9Xb fgYbkD13ht7WKQVDCzEFytQBsyCvFSGLecl1+3545PS3xCCfauDlPoE+aZ0zYd2fH6hA 0MnQM6PQxABtNiDOHRDWPw/hIG2gx2QbshSvmcAmRo6p/PN6ifE2D8t1NVfBPkMb9ZU7 IsOfUx4uBZ/yUnMptwyMIKNtNLS6OUXmbh6y5aR/nrzu/jyy20l5Wo00fWXX39SFMG+5 3V7Q== X-Gm-Message-State: AOJu0YznToclcg+r8NkEoBgm+v2y7w8Zwue+3B8CJMv6c+H8Ee2ipC5z EI8q7dz/yV6/iEQLpJCZRAsVdESMOcP7CPQZ6tayqU6JGc9aXrJKJ3dsSlv27jbLZ+rWeWcwUaX nAd9qX6BI+jKJYwHZ3g3SLJLUAgdehj7BKpo/J2rebf0M X-Gm-Gg: ASbGncscOUdmJlcZGnBgqvtyH8EeY908C2nEDT9qHgl7Pv1NuIhF7XlURp7yRx17WmS FkBKFhwbRvEI+4GYzB61WqDKqEg0lQhc+OUuVkqdaF9CHFY49vT+ZQnr/AAXfcti1Eld7hpnVA+ YtHpLrlr7FED+m45d5vSgCygODvvQcranqTPmTzHJjniN83+UhMmGT0NZk1hBfaMlGmkKT2/92t tyjI7gKQYHHVLaledpYcBBq6O9EPRN2FuOnR9/ltw8RKrY17U9xzsWHxaPJJQTWZ9Cxw5XwVdwa Gqp+ZSASi5/vLORTMGbMQGVIQBqyeTYIUvfuRcmIEdPlbQbbW9UdL7/TzAo0xtdrWal3xPW2qw8 ccA== X-Google-Smtp-Source: AGHT+IG2bui9ewFgT2oL+gcs6m+fMst48DtF8fimbyOGweQAbdM+vYtDC+ObnQkPiz0bFmK7TfZBBC20fIBv X-Received: by 2002:a05:6870:80cf:b0:346:3bf9:def0 with SMTP id 586e51a60fabf-3c0f6af7ec6mr1726548fac.19.1759932907767; Wed, 08 Oct 2025 07:15:07 -0700 (PDT) Received: from postal.iol.unh.edu (postal.iol.unh.edu. [132.177.123.84]) by smtp-relay.gmail.com with ESMTPS id 586e51a60fabf-3ab94d987e1sm1564131fac.18.2025.10.08.07.15.07 (version=TLS1_2 cipher=ECDHE-ECDSA-AES128-GCM-SHA256 bits=128/128); Wed, 08 Oct 2025 07:15:07 -0700 (PDT) X-Relaying-Domain: iol.unh.edu Date: Wed, 08 Oct 2025 07:15:07 -0700 (PDT) Message-ID: <68e671eb.050a0220.24ab60.3549SMTPIN_ADDED_MISSING@mx.google.com> Received: from [172.21.0.2] (unknown [172.18.0.240]) by postal.iol.unh.edu (Postfix) with ESMTP id 479F36051830; Wed, 8 Oct 2025 10:15:06 -0400 (EDT) Subject: |SUCCESS| [GIT MASTER] 2b403dd8fb37d0ba13723e44ffc7ee2c2795f838 From: dpdklab@iol.unh.edu To: Test Report Cc: dpdk-test-reports@iol.unh.edu Content-Type: text/plain X-BeenThere: test-report@dpdk.org X-Mailman-Version: 2.1.29 Precedence: list List-Id: automatic DPDK test reports List-Unsubscribe: , List-Archive: List-Post: List-Help: List-Subscribe: , Errors-To: test-report-bounces@dpdk.org _Testing PASS_ Branch: dpdk 2b403dd8fb37d0ba13723e44ffc7ee2c2795f838 --> testing pass Upstream job id: Generic-Unit-Test-DPDK#379354 Test environment and result as below: +------------------------------+----------------+--------------+---------------------------+------------------------------+ | Environment | dpdk_unit_test | lpm_autotest | cryptodev_sw_zuc_autotest | cryptodev_sw_snow3g_autotest | +==============================+================+==============+===========================+==============================+ | Fedora Linux 40 | PASS | SKIPPED | SKIPPED | SKIPPED | +------------------------------+----------------+--------------+---------------------------+------------------------------+ | CentOS Stream 9 | PASS | SKIPPED | SKIPPED | SKIPPED | +------------------------------+----------------+--------------+---------------------------+------------------------------+ | CentOS Stream 10 | PASS | SKIPPED | SKIPPED | SKIPPED | +------------------------------+----------------+--------------+---------------------------+------------------------------+ | Red Hat Enterprise Linux 9.5 | PASS | SKIPPED | SKIPPED | SKIPPED | +------------------------------+----------------+--------------+---------------------------+------------------------------+ | Debian GNU/Linux 12 | PASS | SKIPPED | SKIPPED | SKIPPED | +------------------------------+----------------+--------------+---------------------------+------------------------------+ | Fedora Linux 42 | PASS | SKIPPED | SKIPPED | SKIPPED | +------------------------------+----------------+--------------+---------------------------+------------------------------+ | Fedora Linux 41 | PASS | SKIPPED | SKIPPED | SKIPPED | +------------------------------+----------------+--------------+---------------------------+------------------------------+ | Ubuntu 20.04 | PASS | PASS | SKIPPED | SKIPPED | +------------------------------+----------------+--------------+---------------------------+------------------------------+ | Ubuntu 22.04 | PASS | SKIPPED | SKIPPED | SKIPPED | +------------------------------+----------------+--------------+---------------------------+------------------------------+ | Ubuntu 24.04 | PASS | SKIPPED | SKIPPED | SKIPPED | +------------------------------+----------------+--------------+---------------------------+------------------------------+ | Debian 12 (arm) | SKIPPED | SKIPPED | PASS | PASS | +------------------------------+----------------+--------------+---------------------------+------------------------------+ Fedora Linux 40 Kernel: 5.4 Compiler: gcc gcc (GCC) 14.2.1 20240912 (Red Hat 14.2.1-3) CentOS Stream 9 Kernel: 5.4 Compiler: gcc gcc (GCC) 11.5.0 20240719 (Red Hat 11.5.0-11) CentOS Stream 10 Kernel: 5.4 Compiler: gcc gcc (GCC) 14.2.1 20250110 (Red Hat 14.2.1-8) Red Hat Enterprise Linux 9.5 Kernel: 5.4 Compiler: gcc gcc (GCC) 11.5.0 20240719 (Red Hat 11.5.0-2) Debian GNU/Linux 12 Kernel: 5.4 Compiler: gcc gcc (Debian 12.2.0-14+deb12u1) 12.2.0 Fedora Linux 42 Kernel: 5.4 Compiler: gcc gcc (GCC) 15.2.1 20250808 (Red Hat 15.2.1-1) Fedora Linux 41 Kernel: 5.4 Compiler: gcc gcc (GCC) 14.3.1 20250523 (Red Hat 14.3.1-1) Ubuntu 20.04 Kernel: 5.4 Compiler: gcc gcc (Ubuntu 9.4.0-1ubuntu1~20.04.2) 9.4.0 Ubuntu 22.04 Kernel: 5.4 Compiler: gcc gcc (Ubuntu 11.4.0-1ubuntu1~22.04) 11.4.0 Ubuntu 24.04 Kernel: 5.4 Compiler: gcc gcc (Ubuntu 13.3.0-6ubuntu2~24.04) 13.3.0 Debian 12 (arm) Kernel: Depends on container host Compiler: gcc (Debian 12.2.0-14) 12.2.0 To view detailed results, visit: https://lab.dpdk.org/results/dashboard/tarballs/35136/ UNH-IOL DPDK Community Lab To manage your email subscriptions, visit: https://lab.dpdk.org/results/dashboard/preferences/subscriptions/