From mboxrd@z Thu Jan 1 00:00:00 1970 Return-Path: Received: from mails.dpdk.org (mails.dpdk.org [217.70.189.124]) by inbox.dpdk.org (Postfix) with ESMTP id ADBD1488E3 for ; Wed, 8 Oct 2025 17:42:03 +0200 (CEST) Received: from mails.dpdk.org (localhost [127.0.0.1]) by mails.dpdk.org (Postfix) with ESMTP id 82D5E40267; Wed, 8 Oct 2025 17:42:03 +0200 (CEST) Received: from mail-pg1-f226.google.com (mail-pg1-f226.google.com [209.85.215.226]) by mails.dpdk.org (Postfix) with ESMTP id F22F040267 for ; Wed, 8 Oct 2025 17:42:02 +0200 (CEST) Received: by mail-pg1-f226.google.com with SMTP id 41be03b00d2f7-b57d93ae3b0so5118796a12.1 for ; Wed, 08 Oct 2025 08:42:02 -0700 (PDT) DKIM-Signature: v=1; a=rsa-sha256; c=relaxed/relaxed; d=iol.unh.edu; s=unh-iol; t=1759938122; x=1760542922; darn=dpdk.org; h=cc:to:from:subject:message-id:date:from:to:cc:subject:date :message-id:reply-to; bh=xemn/XUh2tmWdyGr+FXHP6xWBsGV7UdJquvc6s/kRAE=; b=a5Ez89uGEByDmLx4zFiLvro5bo5sUI3JjP5MPjipSeFzI+DUwLaId1mMyR8V5y9eYa RxZ5jX9miKtCWIpRcAygQTYfYe4TX2aQ3y4agrBSG3U4uN3ogR6fZ7aAjmnZ01+VEc79 FGx+HkctFDTvzMJltUt9US3Z5LWHrY6K5YuhI= X-Google-DKIM-Signature: v=1; a=rsa-sha256; c=relaxed/relaxed; d=1e100.net; s=20230601; t=1759938122; x=1760542922; h=cc:to:from:subject:message-id:date:x-gm-message-state:from:to:cc :subject:date:message-id:reply-to; bh=xemn/XUh2tmWdyGr+FXHP6xWBsGV7UdJquvc6s/kRAE=; b=QdoROZmCReP7XOOQRjSuev29kmdMtEe7j/ri5/apm11TNVmMsJG/YVyy/bKpx56P2g wBkgPP+nIyys+SjDCrTm3HCkc5HVSK3nwyAuLtq4VhgEmiP3fvhKNzgJIRdirFZR0Dx/ YSJ3Sy1bzz7lda/lO1KDXAqAeZR8xjV8kbigzmceGBOnln/0qqLaWHaItEmMKOo85TT+ qRP3ZRhdMa0xIyVqz5TfxQwYUVsd7BUMW++KwcFpXs/FA6jtpwQuNTIsgF+2Tvr5qNE4 9oaK6gwTm48yoodgmo9xeuRdDKSGx9NC8usDkmUwUDB/7YLpBSpzUuJRh9kSKaiTwilB L9xg== X-Gm-Message-State: AOJu0YzIT6JEUKlQdd3sPHkGzqlnWo/vzAsUCm7eiXVmurshQyAX8Uwt 2h0Lm8mp8PEmekpNzc2WgLjxKpuvdyRSxftpjvaNrHkZnUKlYmQnTuOzGfdLbHXX2OVNS61Iofr dgJXX9+r4ra9Zj0Y7dsdokKSNYKGkuck4DbOiwmZsvn95iOHEmCb3 X-Gm-Gg: ASbGncsdS1dUrr7WwXGywWUk5uLQ9v7dB3/888VMgRMPhRv0cDPBp+uYBwBNJ9uWou8 660jStB5Xu/0kgkXL7hgAKFz/PxTRNI6boKaZmwEUiKcSDz1ezZ+9mzw10AcoBM1wzkNimAUwN9 srNvV6M2eCWZPFyzJaTgTcN77sujzu0OvTXHFigOd+hO5iosfR4ojBJolSMoYuEOqkMuxcYhJDV v2B7gxXE3i2YBpw2Y/RQZj5eyrXLA4m9l/Ouldj6gLr4yRHPXCxBZ8Hz1kyrOyV0D1MImlnPD2R DtKEXv6Ehn7TdXAdbU5APdePUyyKGPWzFepN7nwsxKPAo0tVyjyqHQs= X-Google-Smtp-Source: AGHT+IEc1a2oDxwfdTmv5YUrJjcpxxjcX7/SI+PtJXTFDogs4GHcRflcpV7eUggYhwhmAKdsW1Y8HU0z4qg0 X-Received: by 2002:a17:902:f54b:b0:265:47:a7b0 with SMTP id d9443c01a7336-290272117f0mr50607105ad.10.1759938121922; Wed, 08 Oct 2025 08:42:01 -0700 (PDT) Received: from postal.iol.unh.edu (postal.iol.unh.edu. [2606:4100:3880:1234::84]) by smtp-relay.gmail.com with ESMTPS id d9443c01a7336-29034e23631sm67205ad.25.2025.10.08.08.42.01 (version=TLS1_2 cipher=ECDHE-ECDSA-AES128-GCM-SHA256 bits=128/128); Wed, 08 Oct 2025 08:42:01 -0700 (PDT) X-Relaying-Domain: iol.unh.edu Date: Wed, 08 Oct 2025 08:42:01 -0700 (PDT) Message-ID: <68e68649.170a0220.2438f8.06abSMTPIN_ADDED_MISSING@mx.google.com> Received: from [172.21.0.2] (unknown [172.18.0.240]) by postal.iol.unh.edu (Postfix) with ESMTP id 2227C604D420; Wed, 8 Oct 2025 11:42:01 -0400 (EDT) Subject: |WARNING| [GIT MASTER] 62f583c49bf67dd4d6733ece14e55fe6839e66d1 From: dpdklab@iol.unh.edu To: Test Report Cc: dpdk-test-reports@iol.unh.edu, Xueming Li , Christian Ehrhardt , Kevin Traynor , Luca Boccassi Content-Type: text/plain X-BeenThere: test-report@dpdk.org X-Mailman-Version: 2.1.29 Precedence: list List-Id: automatic DPDK test reports List-Unsubscribe: , List-Archive: List-Post: List-Help: List-Subscribe: , Errors-To: test-report-bounces@dpdk.org _Testing issues_ Branch: tags/v23.11 62f583c49bf67dd4d6733ece14e55fe6839e66d1 --> testing issues Upstream job id: Generic-Unit-Test-DPDK#379378 Test environment and result as below: +------------------------------+--------------+---------------------------+------------------------------+----------------+ | Environment | lpm_autotest | cryptodev_sw_zuc_autotest | cryptodev_sw_snow3g_autotest | dpdk_unit_test | +==============================+==============+===========================+==============================+================+ | Ubuntu 20.04 | PASS | SKIPPED | SKIPPED | PASS | +------------------------------+--------------+---------------------------+------------------------------+----------------+ | Debian 12 (arm) | SKIPPED | PASS | PASS | SKIPPED | +------------------------------+--------------+---------------------------+------------------------------+----------------+ | CentOS Stream 9 | SKIPPED | SKIPPED | SKIPPED | PASS | +------------------------------+--------------+---------------------------+------------------------------+----------------+ | Fedora Linux 40 | SKIPPED | SKIPPED | SKIPPED | PASS | +------------------------------+--------------+---------------------------+------------------------------+----------------+ | Debian GNU/Linux 12 | SKIPPED | SKIPPED | SKIPPED | PASS | +------------------------------+--------------+---------------------------+------------------------------+----------------+ | Red Hat Enterprise Linux 9.5 | SKIPPED | SKIPPED | SKIPPED | PASS | +------------------------------+--------------+---------------------------+------------------------------+----------------+ | CentOS Stream 10 | SKIPPED | SKIPPED | SKIPPED | PASS | +------------------------------+--------------+---------------------------+------------------------------+----------------+ | Fedora Linux 41 | SKIPPED | SKIPPED | SKIPPED | PASS | +------------------------------+--------------+---------------------------+------------------------------+----------------+ | Fedora Linux 42 | SKIPPED | SKIPPED | SKIPPED | PASS | +------------------------------+--------------+---------------------------+------------------------------+----------------+ | Ubuntu 22.04 | SKIPPED | SKIPPED | SKIPPED | PASS | +------------------------------+--------------+---------------------------+------------------------------+----------------+ | Ubuntu 24.04 | SKIPPED | SKIPPED | SKIPPED | PASS | +------------------------------+--------------+---------------------------+------------------------------+----------------+ Ubuntu 20.04 Kernel: 5.4 Compiler: gcc gcc (Ubuntu 9.4.0-1ubuntu1~20.04.2) 9.4.0 Debian 12 (arm) Kernel: Depends on container host Compiler: gcc (Debian 12.2.0-14) 12.2.0 CentOS Stream 9 Kernel: 5.4 Compiler: gcc gcc (GCC) 11.5.0 20240719 (Red Hat 11.5.0-11) Fedora Linux 40 Kernel: 5.4 Compiler: gcc gcc (GCC) 14.2.1 20240912 (Red Hat 14.2.1-3) Debian GNU/Linux 12 Kernel: 5.4 Compiler: gcc gcc (Debian 12.2.0-14+deb12u1) 12.2.0 Red Hat Enterprise Linux 9.5 Kernel: 5.4 Compiler: gcc gcc (GCC) 11.5.0 20240719 (Red Hat 11.5.0-2) CentOS Stream 10 Kernel: 5.4 Compiler: gcc gcc (GCC) 14.2.1 20250110 (Red Hat 14.2.1-8) Fedora Linux 41 Kernel: 5.4 Compiler: clang gcc (GCC) 14.3.1 20250523 (Red Hat 14.3.1-1) Fedora Linux 42 Kernel: 5.4 Compiler: gcc gcc (GCC) 15.2.1 20250808 (Red Hat 15.2.1-1) Ubuntu 22.04 Kernel: 5.4 Compiler: gcc gcc (Ubuntu 11.4.0-1ubuntu1~22.04) 11.4.0 Ubuntu 24.04 Kernel: 5.4 Compiler: gcc gcc (Ubuntu 13.3.0-6ubuntu2~24.04) 13.3.0 To view detailed results, visit: https://lab.dpdk.org/results/dashboard/tarballs/35137/ UNH-IOL DPDK Community Lab To manage your email subscriptions, visit: https://lab.dpdk.org/results/dashboard/preferences/subscriptions/