From mboxrd@z Thu Jan 1 00:00:00 1970 Return-Path: Received: from mails.dpdk.org (mails.dpdk.org [217.70.189.124]) by inbox.dpdk.org (Postfix) with ESMTP id 84CFC488E6 for ; Wed, 8 Oct 2025 20:01:46 +0200 (CEST) Received: from mails.dpdk.org (localhost [127.0.0.1]) by mails.dpdk.org (Postfix) with ESMTP id 675BD40267; Wed, 8 Oct 2025 20:01:46 +0200 (CEST) Received: from mail-vs1-f98.google.com (mail-vs1-f98.google.com [209.85.217.98]) by mails.dpdk.org (Postfix) with ESMTP id 221FD40267 for ; Wed, 8 Oct 2025 20:01:45 +0200 (CEST) Received: by mail-vs1-f98.google.com with SMTP id ada2fe7eead31-5b658b006e2so74534137.0 for ; Wed, 08 Oct 2025 11:01:45 -0700 (PDT) DKIM-Signature: v=1; a=rsa-sha256; c=relaxed/relaxed; d=iol.unh.edu; s=unh-iol; t=1759946504; x=1760551304; darn=dpdk.org; h=references:in-reply-to:cc:to:from:subject:message-id:date:from:to :cc:subject:date:message-id:reply-to; bh=4e5lKrNJ0+m2wytGnHYcrtI7nZMlUmi+dirGdg6xcuo=; b=bOAqxb4GytZGqPAGhNQTTZg0Cj/5sccrOYq+l4C7Qwc34ZoI0Th3L5odZ7nhgqhgaW cf3Hjle5oBIncI0IA/bnf9bYoUYZpeu04K8KejrxQvCESSdc2I1VL0L/iBsxkDBbzsyD foFtK3lJAW1csi1MwcdlDd5xU4l22i0kZrSII= X-Google-DKIM-Signature: v=1; a=rsa-sha256; c=relaxed/relaxed; d=1e100.net; s=20230601; t=1759946504; x=1760551304; h=references:in-reply-to:cc:to:from:subject:message-id:date :x-gm-message-state:from:to:cc:subject:date:message-id:reply-to; bh=4e5lKrNJ0+m2wytGnHYcrtI7nZMlUmi+dirGdg6xcuo=; b=Caf0StvAmR7nTDDFb/tq7+xeWszuuD/nPbSBFDiouqPglWRD1KiC3kqTyuiUr0FBWN UNwWh7UHY2IZEJwXu8TAeMLM9s+90/EUG+uAL72SuW4LzdzJsHxPmvBjhgicEAb2nYjF uf5diUxkNpS4f2UunuS7wSYeS3cweFCYB/1t+AN2yEth1X8J4X9sM+aBDw7EFFFxi/4p FxvghCGjjsgy0OK8UspeGV2Nh6Y/+CexFNFiNSbses1mj6vXtgEfpksFtH1rnau8QjZU rP3X/afx0ALDVxc4VUmPYJvUA+8Pi+b95oGoJWLE8hAE6DvwhsS2hSQDHqUQ2b5M2bg/ RFFA== X-Gm-Message-State: AOJu0YxtPbQ0zLzkWHso9kMiQU3diGjhrEg8icO0zxIY3flVA+xBl+lr 3OWY3jWBdqSToByXEmy65o5RN9zlnhJE9vl/uKVWc7NXRtzrQQgxozHcmrN8C+JCgQ4wzGDkjZv MijUN/q6+DMV1/FlLaOR8zUc3xowvmPDgh8gc5ZpCJFabSFmGl36MZL5y1H/S X-Gm-Gg: ASbGnct3aZhNcv2TGzphLal1CMl8fnyC7Xiv+5yke7po/rbyMkE6Xpr+RUn1YVrKmFf aArEB9o/z2tYBsgC0AcOogoV8oY+y+KjA6X20R/j0ydg1uA18aox4EjHV8IMXMIU32NljyGZVqE nJ3uM9YIRggBwrWWpcBMCrNmonSvG3dbPTp7bviY85S35wyCMLgpJoVrgwTKZGXnzM/250DEH5K j8XBt5Kch1yh+AhY6+kRIj9dTHxW5qAW+QUfP98TVWBda4+jD4AFMOXxfukmPbkW7XicSmHBQtZ cbZeAkh0ShmBSo/mwNvtJQ3YcJsUSuZc+eP9dXwjY4EKbEFP9xsnmW4= X-Google-Smtp-Source: AGHT+IHXCYbtVdcrBycQqJsrn6REc00z8K2nOMC/MyMoQI1W56nzuNBm7+Pu7e8PzRN8KKlgc05m9uD4u3cn X-Received: by 2002:a05:6102:809b:b0:4e6:fb90:1e21 with SMTP id ada2fe7eead31-5d5e2216320mr2209992137.2.1759946504271; Wed, 08 Oct 2025 11:01:44 -0700 (PDT) Received: from postal.iol.unh.edu (postal.iol.unh.edu. [2606:4100:3880:1234::84]) by smtp-relay.gmail.com with ESMTPS id ada2fe7eead31-5d5e5d61374sm256040137.5.2025.10.08.11.01.44 (version=TLS1_2 cipher=ECDHE-ECDSA-AES128-GCM-SHA256 bits=128/128); Wed, 08 Oct 2025 11:01:44 -0700 (PDT) X-Relaying-Domain: iol.unh.edu Date: Wed, 08 Oct 2025 11:01:44 -0700 (PDT) Message-ID: <68e6a708.050a0220.3dade.cd93SMTPIN_ADDED_MISSING@mx.google.com> Received: from [172.21.0.2] (unknown [172.18.0.240]) by postal.iol.unh.edu (Postfix) with ESMTP id C7CA46051830; Wed, 8 Oct 2025 14:01:43 -0400 (EDT) Subject: |SUCCESS| pw157296 [PATCH] examples/l3fwd-power: fix telemetry comma From: dpdklab@iol.unh.edu To: Test Report Cc: dpdk-test-reports@iol.unh.edu In-Reply-To: <20251006101058.191495-1-sivaprasad.tummala@amd.com> References: <20251006101058.191495-1-sivaprasad.tummala@amd.com> Content-Type: text/plain X-BeenThere: test-report@dpdk.org X-Mailman-Version: 2.1.29 Precedence: list List-Id: automatic DPDK test reports List-Unsubscribe: , List-Archive: List-Post: List-Help: List-Subscribe: , Errors-To: test-report-bounces@dpdk.org Test-Label: iol-compile-arm64-testing Test-Status: SUCCESS http://dpdk.org/patch/157296 _Testing PASS_ Submitter: Sivaprasad Tummala Date: Monday, October 06 2025 10:10:58 DPDK git baseline: Repo:dpdk Branch: master CommitID:2b403dd8fb37d0ba13723e44ffc7ee2c2795f838 157296 --> testing pass Upstream job id: Generic-DPDK-Compile-Meson#431924 Test environment and result as below: +------------------------------+--------------------+ | Environment | dpdk_meson_compile | +==============================+====================+ | Red Hat Enterprise Linux 9.5 | PASS | +------------------------------+--------------------+ | Ubuntu 20.04 | PASS | +------------------------------+--------------------+ | Debian GNU/Linux 12 | PASS | +------------------------------+--------------------+ | Fedora Linux 42 | PASS | +------------------------------+--------------------+ | Ubuntu 22.04 | PASS | +------------------------------+--------------------+ | Ubuntu 24.04 | PASS | +------------------------------+--------------------+ | CentOS Stream 9 | PASS | +------------------------------+--------------------+ | CentOS Stream 10 | PASS | +------------------------------+--------------------+ Red Hat Enterprise Linux 9.5 Kernel: 5.4 Compiler: gcc gcc (GCC) 11.5.0 20240719 (Red Hat 11.5.0-2) Ubuntu 20.04 Kernel: 5.15 Compiler: aarch64-linux-gnu-gcc gcc (Ubuntu 9.4.0-1ubuntu1~20.04.2) 9.4.0 Debian GNU/Linux 12 Kernel: 5.4 Compiler: gcc gcc (Debian 12.2.0-14+deb12u1) 12.2.0 Fedora Linux 42 Kernel: 5.4 Compiler: gcc gcc (GCC) 15.2.1 20250808 (Red Hat 15.2.1-1) Ubuntu 22.04 Kernel: 5.4 Compiler: gcc gcc (Ubuntu 11.4.0-1ubuntu1~22.04) 11.4.0 Ubuntu 24.04 Kernel: 5.4 Compiler: gcc gcc (Ubuntu 13.3.0-6ubuntu2~24.04) 13.3.0 CentOS Stream 9 Kernel: 5.4 Compiler: gcc gcc (GCC) 11.5.0 20240719 (Red Hat 11.5.0-11) CentOS Stream 10 Kernel: 5.4 Compiler: gcc gcc (GCC) 14.2.1 20250110 (Red Hat 14.2.1-8) To view detailed results, visit: https://lab.dpdk.org/results/dashboard/patchsets/34221/ UNH-IOL DPDK Community Lab To manage your email subscriptions, visit: https://lab.dpdk.org/results/dashboard/preferences/subscriptions/