From mboxrd@z Thu Jan 1 00:00:00 1970 Return-Path: Received: from mails.dpdk.org (mails.dpdk.org [217.70.189.124]) by inbox.dpdk.org (Postfix) with ESMTP id 95907488E6 for ; Wed, 8 Oct 2025 20:03:16 +0200 (CEST) Received: from mails.dpdk.org (localhost [127.0.0.1]) by mails.dpdk.org (Postfix) with ESMTP id 8FB4C40267; Wed, 8 Oct 2025 20:03:16 +0200 (CEST) Received: from mail-pf1-f228.google.com (mail-pf1-f228.google.com [209.85.210.228]) by mails.dpdk.org (Postfix) with ESMTP id 08E7640267 for ; Wed, 8 Oct 2025 20:03:15 +0200 (CEST) Received: by mail-pf1-f228.google.com with SMTP id d2e1a72fcca58-781db5068b8so95513b3a.0 for ; Wed, 08 Oct 2025 11:03:14 -0700 (PDT) DKIM-Signature: v=1; a=rsa-sha256; c=relaxed/relaxed; d=iol.unh.edu; s=unh-iol; t=1759946594; x=1760551394; darn=dpdk.org; h=references:in-reply-to:cc:to:from:subject:message-id:date:from:to :cc:subject:date:message-id:reply-to; bh=NBOblKjDwOVVtb1Nq7+DEZMoNQOrjY5zs+bfBKUTc6U=; b=fG9Loo/O3VFntyzzicdDqocBEPiOqnIjgiiwVSajxPmdbjf+8fM5SEXsXNRBnVvnLB GH8txOI6cvFx9YCHGdsjE2Gs0YypXYquFcn3h4VG+K/izqtR7zopHJQlZE4+blcQsDZq BRTCv2B4DrF0OTMnng+Si4QZr9ALjdBfYIRTw= X-Google-DKIM-Signature: v=1; a=rsa-sha256; c=relaxed/relaxed; d=1e100.net; s=20230601; t=1759946594; x=1760551394; h=references:in-reply-to:cc:to:from:subject:message-id:date :x-gm-message-state:from:to:cc:subject:date:message-id:reply-to; bh=NBOblKjDwOVVtb1Nq7+DEZMoNQOrjY5zs+bfBKUTc6U=; b=esTpl9LKPPnY93hqaevsBo2UP+p8HkpKvzDmL4QZ6l+caE8nh9c0t4RZHGmTEELen9 BbHjxgl7finDosYinjQiyWIq7iVG3FOEsXxzPoB1DjexRN+G6c2s5e4ga+bQHbI08G/P S4d8XSdwXGzF6DiWfmkyeqV3vvNysSopeY4QACm+N4jTqgpYau2CgqHGC11fHWcaSk1K 4yeQB+G8HT5Y9VhWb08O/mOtJio56piT+W4X+i5NTUrlcWlaEkvENnmJipHzbYXbTCB/ 3sHG8NOcpaOvzGZDdTRqpkkzeCR5Z5RNL809Zn4CyHHnFNXnNqbVaDdD4E2cOpm/xrRd Pp1Q== X-Gm-Message-State: AOJu0YxSX4GoZDcZgT8gXB7kdezW5pAVq5N8OmGveCqubhSZydWNL+T9 MXGRpXR9Dr5bYcoG8MNZUiCB/pWeFb6Q7naFl9yzqPCCBD6/KkVgYbX4n1xsr5hcWy+oDD9KWwy KyqvQIhyg1yMmM6lG41S5zFqsOqarJukv1Fv/C55urNBq X-Gm-Gg: ASbGncsqbdhdQXtwyvgAguHiYhlfnAtgTfjtc1vvBErMve2fl0BrQyfWzKgxg+xAM3t bqBTAvOrb4HMRlvBsxTU1Xo2QarLPB+zD4EdysCh+E2JUWZeObVKoB6c9gUCKBoydb9E5QP2I5y FWUnI63VKYk8QrQsBiA/PbQvZ4mumOB/Kz3A7ObsoSOJsbrXSYCWsHK/aOots9ih5kuSmzX8ZQ4 K16PIhs9MLI7q5CpeTV+y5vhGHQbq0B09RIMp33is4ZfRr+MF24j8u4jdgCjN1+hSmXvOeVzgh8 +f1XTtQDeC8L9HqpxyA4Nmmg1+HfOyC/d641kxzbAUmPhucAHg7B6X9Naua5bZVCur5lUeSfJXv R+A== X-Google-Smtp-Source: AGHT+IHQD0B9MbKilyivzgEzlNjR21grquk2Qo0mzoxBZv+q7lJzCm60dGuYH95nkFkDCnVw9zxB/hW0Iw18 X-Received: by 2002:a17:902:cecb:b0:268:baa6:94ba with SMTP id d9443c01a7336-290272ff553mr59980245ad.53.1759946593947; Wed, 08 Oct 2025 11:03:13 -0700 (PDT) Received: from postal.iol.unh.edu (postal.iol.unh.edu. [132.177.123.84]) by smtp-relay.gmail.com with ESMTPS id d9443c01a7336-29034e4fd9bsm310185ad.31.2025.10.08.11.03.13 (version=TLS1_2 cipher=ECDHE-ECDSA-AES128-GCM-SHA256 bits=128/128); Wed, 08 Oct 2025 11:03:13 -0700 (PDT) X-Relaying-Domain: iol.unh.edu Date: Wed, 08 Oct 2025 11:03:13 -0700 (PDT) Message-ID: <68e6a761.170a0220.284550.1d30SMTPIN_ADDED_MISSING@mx.google.com> Received: from [172.21.0.2] (unknown [172.18.0.240]) by postal.iol.unh.edu (Postfix) with ESMTP id 333176051830; Wed, 8 Oct 2025 14:03:13 -0400 (EDT) Subject: |SUCCESS| pw157283-157293 [PATCH] [11/11] net/enetfec: add software From: dpdklab@iol.unh.edu To: Test Report Cc: dpdk-test-reports@iol.unh.edu, Stephen Hemminger In-Reply-To: <20251006080410.1433284-12-hemant.agrawal@nxp.com> References: <20251006080410.1433284-12-hemant.agrawal@nxp.com> Content-Type: text/plain X-BeenThere: test-report@dpdk.org X-Mailman-Version: 2.1.29 Precedence: list List-Id: automatic DPDK test reports List-Unsubscribe: , List-Archive: List-Post: List-Help: List-Subscribe: , Errors-To: test-report-bounces@dpdk.org Test-Label: iol-compile-arm64-testing Test-Status: SUCCESS http://dpdk.org/patch/157293 _Testing PASS_ Submitter: Hemant Agrawal Date: Monday, October 06 2025 08:04:10 DPDK git baseline: Repo:dpdk-next-net Branch: master CommitID:c04bbd131b2c14b3049bf86d3ef367b34e6fdf1e 157283-157293 --> testing pass Upstream job id: Generic-DPDK-Compile-Meson#431870 Test environment and result as below: +------------------------------+--------------------+ | Environment | dpdk_meson_compile | +==============================+====================+ | Ubuntu 22.04 | PASS | +------------------------------+--------------------+ | Red Hat Enterprise Linux 9.5 | PASS | +------------------------------+--------------------+ | Ubuntu 20.04 | PASS | +------------------------------+--------------------+ | Debian GNU/Linux 12 | PASS | +------------------------------+--------------------+ | Fedora Linux 42 | PASS | +------------------------------+--------------------+ | Ubuntu 24.04 | PASS | +------------------------------+--------------------+ | CentOS Stream 9 | PASS | +------------------------------+--------------------+ | CentOS Stream 10 | PASS | +------------------------------+--------------------+ Ubuntu 22.04 Kernel: 5.4 Compiler: gcc gcc (Ubuntu 11.4.0-1ubuntu1~22.04) 11.4.0 Red Hat Enterprise Linux 9.5 Kernel: 5.4 Compiler: gcc gcc (GCC) 11.5.0 20240719 (Red Hat 11.5.0-2) Ubuntu 20.04 Kernel: 5.15 Compiler: aarch64-linux-gnu-gcc gcc (Ubuntu 9.4.0-1ubuntu1~20.04.2) 9.4.0 Debian GNU/Linux 12 Kernel: 5.4 Compiler: gcc gcc (Debian 12.2.0-14+deb12u1) 12.2.0 Fedora Linux 42 Kernel: 5.4 Compiler: gcc gcc (GCC) 15.2.1 20250808 (Red Hat 15.2.1-1) Ubuntu 24.04 Kernel: 5.4 Compiler: gcc gcc (Ubuntu 13.3.0-6ubuntu2~24.04) 13.3.0 CentOS Stream 9 Kernel: 5.4 Compiler: gcc gcc (GCC) 11.5.0 20240719 (Red Hat 11.5.0-11) CentOS Stream 10 Kernel: 5.4 Compiler: gcc gcc (GCC) 14.2.1 20250110 (Red Hat 14.2.1-8) To view detailed results, visit: https://lab.dpdk.org/results/dashboard/patchsets/34218/ UNH-IOL DPDK Community Lab To manage your email subscriptions, visit: https://lab.dpdk.org/results/dashboard/preferences/subscriptions/