From mboxrd@z Thu Jan 1 00:00:00 1970 Return-Path: Received: from mails.dpdk.org (mails.dpdk.org [217.70.189.124]) by inbox.dpdk.org (Postfix) with ESMTP id B9903488E6 for ; Wed, 8 Oct 2025 20:04:34 +0200 (CEST) Received: from mails.dpdk.org (localhost [127.0.0.1]) by mails.dpdk.org (Postfix) with ESMTP id B01DC40267; Wed, 8 Oct 2025 20:04:34 +0200 (CEST) Received: from mail-qt1-f225.google.com (mail-qt1-f225.google.com [209.85.160.225]) by mails.dpdk.org (Postfix) with ESMTP id 5A16040267 for ; Wed, 8 Oct 2025 20:04:33 +0200 (CEST) Received: by mail-qt1-f225.google.com with SMTP id d75a77b69052e-4dfd1f48d4cso645331cf.0 for ; Wed, 08 Oct 2025 11:04:33 -0700 (PDT) DKIM-Signature: v=1; a=rsa-sha256; c=relaxed/relaxed; d=iol.unh.edu; s=unh-iol; t=1759946672; x=1760551472; darn=dpdk.org; h=references:in-reply-to:cc:to:from:subject:message-id:date:from:to :cc:subject:date:message-id:reply-to; bh=YqSrkRBBRcd/dJx/JP6PwwC+BaZw2magCUhBy+sbgHY=; b=D14as5ODWUOl6bY1TDzRZl6Yb5dkBtY8+KEgrfmCkHpPbc+B9Fnq4fQKymHqQJTBfz MwfvJ+7O9W+EF2P0JwFdGLwM7NualUE9Aef0qrpdrTRLOX8lQ8dzw5OyloJ92CvhWjWa oJmBCyAtUt6eRxVc2bo7VL2+fdI3BRAk1EkTg= X-Google-DKIM-Signature: v=1; a=rsa-sha256; c=relaxed/relaxed; d=1e100.net; s=20230601; t=1759946672; x=1760551472; h=references:in-reply-to:cc:to:from:subject:message-id:date :x-gm-message-state:from:to:cc:subject:date:message-id:reply-to; bh=YqSrkRBBRcd/dJx/JP6PwwC+BaZw2magCUhBy+sbgHY=; b=djmxAUko0teaXJ7nq8eLRUKyk6aXArXJGDGCohtKRxUghoXClsHikxPsshv0FEEOQ0 dJUjSY/IBgyJWp/lNzNlLuYdjZ9PnXU44R7JcnOEUp+JqzK7iRC2AZ17rrfkchIk3JSR +v6x2W0Qy6jQHGwtaPHYFsK/HgTSSiFDliw2cqCbOdTT4WcS0zmoBcQcKoDG154Drlmb xNS1+ftpI5dSaPjxVafpRP4yEyltbuBHssvnDpYX1rVNfPEozKnPdV261RHo15L0EQSb 8DyPdwO63AZS8DI5AK/KvxO8itE9O58NcttOSvyPUIZWC7K4fd3F9Cc+zyCy8EBRZJ7Y gN3Q== X-Gm-Message-State: AOJu0YwTYrWPpuiZI34Jq/FHlBsWLmvHyxAK5LY0PpWWmsSjtaqvcSDU gBXsKXlSRTtYt0Dk4lzjgVLjz8Q+HGa8JrMu74kyEG+nvK99RZwj2+6E6d0+f/Gy3bt1jYzLXN0 0lr8dfxqqT0mljCvkIwAZaIyKMWbiNs6qMOTHhfTLb8Zm X-Gm-Gg: ASbGncs5X1GrjQzSPq7XtJscY5nhtCfeMnusjogV9S7leJWV55dz3A16vIHj3asD40A dN7KyhTwNxfKeIArA7jrq9y6NouNjYZSfT8OcW5IJqVe9I+NHCV1aXUgEGB34TnjZdOifjVNU6N vtz952h3Z+kwPOpMel2hK+ZIr6ZyABvEBo79jxXZCzOCuVBCYc3bkBxol40Vxgo4jCf9oAnYTbg NvbpWMRDeDoNITFQsfMx0mMTHV6UUnUkmNVC8xSGcn9HWvWxHI1NGOtkTYTex3WW5RxFc5Dyt1Q zeqSRghkPPwyNHOlfz/UCgRWg8UPVnKk1dlQOA01U1vOC9F00zQzhp4IEAs0pH7HK6RHrcZ3/N5 +FA== X-Google-Smtp-Source: AGHT+IFfS90FKl0v+yOLNPE1P6Wrq7Aos9+H/GkMVJanuWTN4Fk+v31yLo8g8a9TrMAnZKCaopVozFG3m7cS X-Received: by 2002:a05:622a:4acd:b0:4d9:4863:f4e5 with SMTP id d75a77b69052e-4e6ead6714fmr55439581cf.62.1759946672659; Wed, 08 Oct 2025 11:04:32 -0700 (PDT) Received: from postal.iol.unh.edu (postal.iol.unh.edu. [132.177.123.84]) by smtp-relay.gmail.com with ESMTPS id 956f58d0204a3-63cd952df8bsm18278d50.6.2025.10.08.11.04.32 (version=TLS1_2 cipher=ECDHE-ECDSA-AES128-GCM-SHA256 bits=128/128); Wed, 08 Oct 2025 11:04:32 -0700 (PDT) X-Relaying-Domain: iol.unh.edu Date: Wed, 08 Oct 2025 11:04:32 -0700 (PDT) Message-ID: <68e6a7b0.530a0220.c42ff.1119SMTPIN_ADDED_MISSING@mx.google.com> Received: from [172.21.0.3] (unknown [172.18.0.240]) by postal.iol.unh.edu (Postfix) with ESMTP id 2575A6051830; Wed, 8 Oct 2025 14:04:32 -0400 (EDT) Subject: |SUCCESS| pw157297 [PATCH] net/intel/e1000: reduce the optimization From: dpdklab@iol.unh.edu To: Test Report Cc: dpdk-test-reports@iol.unh.edu, Bruce Richardson In-Reply-To: <20251006124506.388456-1-thierry.herbelot@6wind.com> References: <20251006124506.388456-1-thierry.herbelot@6wind.com> Content-Type: text/plain X-BeenThere: test-report@dpdk.org X-Mailman-Version: 2.1.29 Precedence: list List-Id: automatic DPDK test reports List-Unsubscribe: , List-Archive: List-Post: List-Help: List-Subscribe: , Errors-To: test-report-bounces@dpdk.org Test-Label: iol-compile-arm64-testing Test-Status: SUCCESS http://dpdk.org/patch/157297 _Testing PASS_ Submitter: Thierry Herbelot Date: Monday, October 06 2025 12:45:06 DPDK git baseline: Repo:dpdk-next-net-intel Branch: master CommitID:e7d8cc7ef4df3552575525697079d3c957cfcdaf 157297 --> testing pass Upstream job id: Generic-DPDK-Compile-Meson#431961 Test environment and result as below: +------------------------------+--------------------+ | Environment | dpdk_meson_compile | +==============================+====================+ | Red Hat Enterprise Linux 9.5 | PASS | +------------------------------+--------------------+ | Ubuntu 20.04 | PASS | +------------------------------+--------------------+ | Debian GNU/Linux 12 | PASS | +------------------------------+--------------------+ | Fedora Linux 42 | PASS | +------------------------------+--------------------+ | Ubuntu 22.04 | PASS | +------------------------------+--------------------+ | Ubuntu 24.04 | PASS | +------------------------------+--------------------+ | CentOS Stream 9 | PASS | +------------------------------+--------------------+ | CentOS Stream 10 | PASS | +------------------------------+--------------------+ Red Hat Enterprise Linux 9.5 Kernel: 5.4 Compiler: gcc gcc (GCC) 11.5.0 20240719 (Red Hat 11.5.0-2) Ubuntu 20.04 Kernel: 5.15 Compiler: aarch64-linux-gnu-gcc gcc (Ubuntu 9.4.0-1ubuntu1~20.04.2) 9.4.0 Debian GNU/Linux 12 Kernel: 5.4 Compiler: gcc gcc (Debian 12.2.0-14+deb12u1) 12.2.0 Fedora Linux 42 Kernel: 5.4 Compiler: gcc gcc (GCC) 15.2.1 20250808 (Red Hat 15.2.1-1) Ubuntu 22.04 Kernel: 5.4 Compiler: gcc gcc (Ubuntu 11.4.0-1ubuntu1~22.04) 11.4.0 Ubuntu 24.04 Kernel: 5.4 Compiler: gcc gcc (Ubuntu 13.3.0-6ubuntu2~24.04) 13.3.0 CentOS Stream 9 Kernel: 5.4 Compiler: gcc gcc (GCC) 11.5.0 20240719 (Red Hat 11.5.0-11) CentOS Stream 10 Kernel: 5.4 Compiler: gcc gcc (GCC) 14.2.1 20250110 (Red Hat 14.2.1-8) To view detailed results, visit: https://lab.dpdk.org/results/dashboard/patchsets/34222/ UNH-IOL DPDK Community Lab To manage your email subscriptions, visit: https://lab.dpdk.org/results/dashboard/preferences/subscriptions/