From mboxrd@z Thu Jan 1 00:00:00 1970 Return-Path: Received: from mails.dpdk.org (mails.dpdk.org [217.70.189.124]) by inbox.dpdk.org (Postfix) with ESMTP id D10BB488E6 for ; Wed, 8 Oct 2025 20:05:18 +0200 (CEST) Received: from mails.dpdk.org (localhost [127.0.0.1]) by mails.dpdk.org (Postfix) with ESMTP id CB48540267; Wed, 8 Oct 2025 20:05:18 +0200 (CEST) Received: from mail-yx1-f98.google.com (mail-yx1-f98.google.com [74.125.224.98]) by mails.dpdk.org (Postfix) with ESMTP id 10D7140267 for ; Wed, 8 Oct 2025 20:05:18 +0200 (CEST) Received: by mail-yx1-f98.google.com with SMTP id 956f58d0204a3-633be3be1e6so277098d50.1 for ; Wed, 08 Oct 2025 11:05:17 -0700 (PDT) DKIM-Signature: v=1; a=rsa-sha256; c=relaxed/relaxed; d=iol.unh.edu; s=unh-iol; t=1759946716; x=1760551516; darn=dpdk.org; h=references:in-reply-to:cc:to:from:subject:message-id:date:from:to :cc:subject:date:message-id:reply-to; bh=mGzNekc+Aj4FrUiR3ch0RkE/NXJAZuj9naQb8epDvUo=; b=FGhYFlQ0Zl8M8PvQFJimVLrbeFzQSkUntOG/ImedfLTIr1klQM53ewr3uLUOyim+12 BeeGNYrRYFjn+kx5YQEYkuZ8YEMRzWhdBW8/wL4bGsenWRnlDTCO8Ntsz//Q/uFOpmct /nfmOY/ybEcBo7xCDP/jsPn6IcX8jDuvMR5mY= X-Google-DKIM-Signature: v=1; a=rsa-sha256; c=relaxed/relaxed; d=1e100.net; s=20230601; t=1759946716; x=1760551516; h=references:in-reply-to:cc:to:from:subject:message-id:date :x-gm-message-state:from:to:cc:subject:date:message-id:reply-to; bh=mGzNekc+Aj4FrUiR3ch0RkE/NXJAZuj9naQb8epDvUo=; b=GhyBvjuPCe25uwIbt5W+rSidhEbDQUEqk/un/EhvfwPEaRx+auSX3+jrwe5HX1Ppw9 jF4NlimRJhf80doOMjfbMpqLSzTZosN0z9ojzHCcBg4rLdeqBjuC/NWNt5H/bd7DICmC 0lRMFLyvJzqpLkybg1xAaKR+kcnP2mL5c12u8x0Yc+DjQBD1ViYajyD/xKngHr5wy05r Y6WbODRBfjFB5bMWvtp6vI7LiBXMVqiy84XdFQx3f3/USQuo+GY3BixGF3OGDgZ37p42 rVNYBm5pO29NOe792EzY7+y+TRHT19xinvMHp99QwO//paL/UudxIsEsUBotDkllIdj6 Tk6Q== X-Gm-Message-State: AOJu0YwRjUwp+QWUAW2qz6DMDxYgBkQ/k8aYoASCUFGUDwJg4S2RETKi ZNf9LW8YGdWe6GclEQDLWD0X0/5HG8NBaMldMF1SlGhEfq2sLxpIYImCx6AXh2B1AAr/mUHL3/R IrYiZkQWVIieFEGycCls0H2WcrcWiiWZRPg3XPZHgVHJK X-Gm-Gg: ASbGncsjjMRum/SCioobMSL7/AxKzDWWI6u16DwH363oDJy7JsHQutq4vcjhfBZKXcV 1PtG2tokjZHsbns9DAohAUbwmF+sg3Kj+vQAgaLvCdWh0iLlorjrNVnVcNpjFlF3x6Uk8CBgpSL Xq4R4YV0VsgFtN/SXta58LT9ADSIV7pvA32I4ru/F1tiTzNI4yhrJVlOpV9pImofMzfWPJhKOFG Y93pstHv+q2wKTJfbzwWFIY+gEBzC2BqC91QNODAmJXi3JQ1hVTypb4PNtTuncVpo0lmOm3v+n3 S9HZlrLw+1CzJaGYh0F9F/rB9UNz5360kP4j1YnUJoXSWzarLHtj4EzWf/JlFp45LormVGGU53A Qqw== X-Google-Smtp-Source: AGHT+IFixWkKcTfcEIY8Y26GowB5swCZjRQG16mNJsSowBAdS7PVIyZZMYeqrnQlJP5BLM8BgVRGAnJ7D1z7 X-Received: by 2002:a53:b006:0:b0:637:cde3:c6f6 with SMTP id 956f58d0204a3-63ccc420cd6mr3315565d50.10.1759946716130; Wed, 08 Oct 2025 11:05:16 -0700 (PDT) Received: from postal.iol.unh.edu (postal.iol.unh.edu. [132.177.123.84]) by smtp-relay.gmail.com with ESMTPS id 956f58d0204a3-63cd95f56c3sm17074d50.15.2025.10.08.11.05.16 (version=TLS1_2 cipher=ECDHE-ECDSA-AES128-GCM-SHA256 bits=128/128); Wed, 08 Oct 2025 11:05:16 -0700 (PDT) X-Relaying-Domain: iol.unh.edu Date: Wed, 08 Oct 2025 11:05:16 -0700 (PDT) Message-ID: <68e6a7dc.530a0220.146a73.0fa7SMTPIN_ADDED_MISSING@mx.google.com> Received: from [172.21.0.2] (unknown [172.18.0.240]) by postal.iol.unh.edu (Postfix) with ESMTP id C2AFC6051830; Wed, 8 Oct 2025 14:05:15 -0400 (EDT) Subject: |SUCCESS| pw157298 [PATCH] [V2] net/intel/e1000: reduce the optimiza From: dpdklab@iol.unh.edu To: Test Report Cc: dpdk-test-reports@iol.unh.edu, Bruce Richardson In-Reply-To: <20251006130257.391200-1-thierry.herbelot@6wind.com> References: <20251006130257.391200-1-thierry.herbelot@6wind.com> Content-Type: text/plain X-BeenThere: test-report@dpdk.org X-Mailman-Version: 2.1.29 Precedence: list List-Id: automatic DPDK test reports List-Unsubscribe: , List-Archive: List-Post: List-Help: List-Subscribe: , Errors-To: test-report-bounces@dpdk.org Test-Label: iol-compile-arm64-testing Test-Status: SUCCESS http://dpdk.org/patch/157298 _Testing PASS_ Submitter: Thierry Herbelot Date: Monday, October 06 2025 13:02:57 DPDK git baseline: Repo:dpdk-next-net-intel Branch: master CommitID:e7d8cc7ef4df3552575525697079d3c957cfcdaf 157298 --> testing pass Upstream job id: Generic-DPDK-Compile-Meson#431985 Test environment and result as below: +------------------------------+--------------------+ | Environment | dpdk_meson_compile | +==============================+====================+ | Red Hat Enterprise Linux 9.5 | PASS | +------------------------------+--------------------+ | Ubuntu 20.04 | PASS | +------------------------------+--------------------+ | Debian GNU/Linux 12 | PASS | +------------------------------+--------------------+ | Fedora Linux 42 | PASS | +------------------------------+--------------------+ | Ubuntu 22.04 | PASS | +------------------------------+--------------------+ | Ubuntu 24.04 | PASS | +------------------------------+--------------------+ | CentOS Stream 9 | PASS | +------------------------------+--------------------+ | CentOS Stream 10 | PASS | +------------------------------+--------------------+ Red Hat Enterprise Linux 9.5 Kernel: 5.4 Compiler: gcc gcc (GCC) 11.5.0 20240719 (Red Hat 11.5.0-2) Ubuntu 20.04 Kernel: 5.15 Compiler: aarch64-linux-gnu-gcc gcc (Ubuntu 9.4.0-1ubuntu1~20.04.2) 9.4.0 Debian GNU/Linux 12 Kernel: 5.4 Compiler: gcc gcc (Debian 12.2.0-14+deb12u1) 12.2.0 Fedora Linux 42 Kernel: 5.4 Compiler: gcc gcc (GCC) 15.2.1 20250808 (Red Hat 15.2.1-1) Ubuntu 22.04 Kernel: 5.4 Compiler: gcc gcc (Ubuntu 11.4.0-1ubuntu1~22.04) 11.4.0 Ubuntu 24.04 Kernel: 5.4 Compiler: gcc gcc (Ubuntu 13.3.0-6ubuntu2~24.04) 13.3.0 CentOS Stream 9 Kernel: 5.4 Compiler: gcc gcc (GCC) 11.5.0 20240719 (Red Hat 11.5.0-11) CentOS Stream 10 Kernel: 5.4 Compiler: gcc gcc (GCC) 14.2.1 20250110 (Red Hat 14.2.1-8) To view detailed results, visit: https://lab.dpdk.org/results/dashboard/patchsets/34223/ UNH-IOL DPDK Community Lab To manage your email subscriptions, visit: https://lab.dpdk.org/results/dashboard/preferences/subscriptions/