From mboxrd@z Thu Jan 1 00:00:00 1970 Return-Path: Received: from mails.dpdk.org (mails.dpdk.org [217.70.189.124]) by inbox.dpdk.org (Postfix) with ESMTP id DD017488E6 for ; Wed, 8 Oct 2025 20:05:30 +0200 (CEST) Received: from mails.dpdk.org (localhost [127.0.0.1]) by mails.dpdk.org (Postfix) with ESMTP id D85C340267; Wed, 8 Oct 2025 20:05:30 +0200 (CEST) Received: from mail-pl1-f228.google.com (mail-pl1-f228.google.com [209.85.214.228]) by mails.dpdk.org (Postfix) with ESMTP id BAFD940267 for ; Wed, 8 Oct 2025 20:05:29 +0200 (CEST) Received: by mail-pl1-f228.google.com with SMTP id d9443c01a7336-28e8c5d64d8so1028025ad.1 for ; Wed, 08 Oct 2025 11:05:29 -0700 (PDT) DKIM-Signature: v=1; a=rsa-sha256; c=relaxed/relaxed; d=iol.unh.edu; s=unh-iol; t=1759946729; x=1760551529; darn=dpdk.org; h=cc:to:from:subject:message-id:date:from:to:cc:subject:date :message-id:reply-to; bh=g21G3eHcdWVoVJTal0gGSu7Ben6bifg4al0rp3aprBU=; b=cOy98dljr67//1Bm8wH1HEtUbuWmWYhjOadDVmF7gsccpFCrzHejmQaLkiRhp9OcHd 3YpQzw7PJTOY5gzQAWFZzW6hNhE3uUbeWL7oz1JYq2PBp/2OOt8yS/78devV3ZOzbQVv ZJSPFtbF54ZEVjgQDLnGfytbg+ozr/RLyXiJc= X-Google-DKIM-Signature: v=1; a=rsa-sha256; c=relaxed/relaxed; d=1e100.net; s=20230601; t=1759946729; x=1760551529; h=cc:to:from:subject:message-id:date:x-gm-message-state:from:to:cc :subject:date:message-id:reply-to; bh=g21G3eHcdWVoVJTal0gGSu7Ben6bifg4al0rp3aprBU=; b=o3ChCksP7v5bNbzYKR0ijaNuXUORiDD1P8K/kFou3fRuGI/TGKL+/ThO+zEPv7PFRM 1QryYEemgLsOx+h6PwdB8XUtNCK3qmHe/0aqSSOfvvYmpqKJoTlsOyXt5WtYpiqOSYpE B2X26KU4ocq7w6WsqbAwhSo7whFYCHNBW8H9p3x64im0X6jNWi1VVO/zoeXXZI1UGFOa S1P7p/txUv5/MgTvEM9LzrYRKO9U99jJ7VWHXOsAMAgSM45bo1vGLOKnzv92+o3X8R41 jyAppKS7Avg1GmNvhw1gnVhkMG+XgiW2iMShd3J3ejsXl4o+uARcC/pJNUIYPRfVPwAU vyTw== X-Gm-Message-State: AOJu0YziTsgiAp9s8h7bH1cBVFPcyU0PWAlqyXOwZYQvJYPokepkozCe 9Ytkv0fvKxz+My4TzZhL5xumn2feLPlMXGpKu/lIH5pbuQ5PgD94xsaouVw1QEkJkhHVVdgUPVE SgPqhnnDQPY8YabJnWyTEFX6HfyeqC2H4VbMgNftjzmrgh4Y11fg2m67NVPQq X-Gm-Gg: ASbGncul8t+i85ML7LrZx8KRlCyTEc8KQ/BooBkMA+mAwMnpGiMoks1ogCJRVHtMzoR fKpeKPousSbFoxcJSRhitd5RegntzUmt4GagX81czJTcl4dHOMJ/eNeqcgMlluXlOR2lyGVIJj1 AGPcErDQhAiXMCuis54wzTqtd8JRlZCJl7CaDfXmJUZyk9H6GH0FyP698SRDlBwEQyr2WdM3A2L G9mf+bKjrjA8kXHP+kw/1y++JBKNnFDzUhOvPA1T+DV/BU15DMkE5e2EYj83ATQK5IvCKhG5bCs bkIoKoEn9HgdHAagjOGNNbKn6ecX1gunnJtMO89VUQpxS6oHKahwLZU= X-Google-Smtp-Source: AGHT+IF5xGWiKZ5lrdTcsScHwMRkNmW26My0Tv7+qrPh/5BCHdVCEMNQJ1lYQexNcX9QQ91Gg2suQvivQn11 X-Received: by 2002:a17:903:2d1:b0:24c:965a:f97e with SMTP id d9443c01a7336-29027356aa7mr58087595ad.2.1759946728743; Wed, 08 Oct 2025 11:05:28 -0700 (PDT) Received: from postal.iol.unh.edu (postal.iol.unh.edu. [2606:4100:3880:1234::84]) by smtp-relay.gmail.com with ESMTPS id d9443c01a7336-29034eed5a1sm307885ad.47.2025.10.08.11.05.28 (version=TLS1_2 cipher=ECDHE-ECDSA-AES128-GCM-SHA256 bits=128/128); Wed, 08 Oct 2025 11:05:28 -0700 (PDT) X-Relaying-Domain: iol.unh.edu Date: Wed, 08 Oct 2025 11:05:28 -0700 (PDT) Message-ID: <68e6a7e8.170a0220.388b9e.1bdfSMTPIN_ADDED_MISSING@mx.google.com> Received: from [172.21.0.2] (unknown [172.18.0.240]) by postal.iol.unh.edu (Postfix) with ESMTP id 3177C6051830; Wed, 8 Oct 2025 14:05:28 -0400 (EDT) Subject: |SUCCESS| [GIT MASTER] 2b403dd8fb37d0ba13723e44ffc7ee2c2795f838 From: dpdklab@iol.unh.edu To: Test Report Cc: dpdk-test-reports@iol.unh.edu, Jerin Jacob Content-Type: text/plain X-BeenThere: test-report@dpdk.org X-Mailman-Version: 2.1.29 Precedence: list List-Id: automatic DPDK test reports List-Unsubscribe: , List-Archive: List-Post: List-Help: List-Subscribe: , Errors-To: test-report-bounces@dpdk.org _Testing PASS_ Branch: dpdk-next-eventdev 2b403dd8fb37d0ba13723e44ffc7ee2c2795f838 --> testing pass Upstream job id: Generic-DPDK-Compile-Meson#432004 Test environment and result as below: +------------------------------+--------------------+ | Environment | dpdk_meson_compile | +==============================+====================+ | Red Hat Enterprise Linux 9.5 | PASS | +------------------------------+--------------------+ | Ubuntu 20.04 | PASS | +------------------------------+--------------------+ | Debian GNU/Linux 12 | PASS | +------------------------------+--------------------+ | Fedora Linux 42 | PASS | +------------------------------+--------------------+ | Ubuntu 22.04 | PASS | +------------------------------+--------------------+ | Ubuntu 24.04 | PASS | +------------------------------+--------------------+ | CentOS Stream 9 | PASS | +------------------------------+--------------------+ | CentOS Stream 10 | PASS | +------------------------------+--------------------+ Red Hat Enterprise Linux 9.5 Kernel: 5.4 Compiler: gcc gcc (GCC) 11.5.0 20240719 (Red Hat 11.5.0-2) Ubuntu 20.04 Kernel: 5.15 Compiler: aarch64-linux-gnu-gcc gcc (Ubuntu 9.4.0-1ubuntu1~20.04.2) 9.4.0 Debian GNU/Linux 12 Kernel: 5.4 Compiler: gcc gcc (Debian 12.2.0-14+deb12u1) 12.2.0 Fedora Linux 42 Kernel: 5.4 Compiler: gcc gcc (GCC) 15.2.1 20250808 (Red Hat 15.2.1-1) Ubuntu 22.04 Kernel: 5.4 Compiler: gcc gcc (Ubuntu 11.4.0-1ubuntu1~22.04) 11.4.0 Ubuntu 24.04 Kernel: 5.4 Compiler: gcc gcc (Ubuntu 13.3.0-6ubuntu2~24.04) 13.3.0 CentOS Stream 9 Kernel: 5.4 Compiler: gcc gcc (GCC) 11.5.0 20240719 (Red Hat 11.5.0-11) CentOS Stream 10 Kernel: 5.4 Compiler: gcc gcc (GCC) 14.2.1 20250110 (Red Hat 14.2.1-8) To view detailed results, visit: https://lab.dpdk.org/results/dashboard/tarballs/35122/ UNH-IOL DPDK Community Lab To manage your email subscriptions, visit: https://lab.dpdk.org/results/dashboard/preferences/subscriptions/