From mboxrd@z Thu Jan 1 00:00:00 1970 Return-Path: Received: from mails.dpdk.org (mails.dpdk.org [217.70.189.124]) by inbox.dpdk.org (Postfix) with ESMTP id EB0C5488E6 for ; Wed, 8 Oct 2025 20:05:41 +0200 (CEST) Received: from mails.dpdk.org (localhost [127.0.0.1]) by mails.dpdk.org (Postfix) with ESMTP id E507740267; Wed, 8 Oct 2025 20:05:41 +0200 (CEST) Received: from mail-pg1-f225.google.com (mail-pg1-f225.google.com [209.85.215.225]) by mails.dpdk.org (Postfix) with ESMTP id 7AB9B40267 for ; Wed, 8 Oct 2025 20:05:40 +0200 (CEST) Received: by mail-pg1-f225.google.com with SMTP id 41be03b00d2f7-b631b435d59so55898a12.0 for ; Wed, 08 Oct 2025 11:05:40 -0700 (PDT) DKIM-Signature: v=1; a=rsa-sha256; c=relaxed/relaxed; d=iol.unh.edu; s=unh-iol; t=1759946740; x=1760551540; darn=dpdk.org; h=cc:to:from:subject:message-id:date:from:to:cc:subject:date :message-id:reply-to; bh=egcbESGb7UqSHZ8bePoXCtLHFi5Xldy6W+ECjDp9eqQ=; b=H9NHxF38ZLbG2NLqpArJbWqXExeKTYJUJOI4X6UHLnZ3VJ3lkqfPUuaOgAIoTsniPF FGPlSU2YUunA3fxdS+OO5F/XQZnJAcruY3o/c7hLK/65KpEJ7oB9qrKyQVs1SX5FwHIO vKUKRNdd9u06aV+gvj8Z84pw+fu6Cn9A4PV1c= X-Google-DKIM-Signature: v=1; a=rsa-sha256; c=relaxed/relaxed; d=1e100.net; s=20230601; t=1759946740; x=1760551540; h=cc:to:from:subject:message-id:date:x-gm-message-state:from:to:cc :subject:date:message-id:reply-to; bh=egcbESGb7UqSHZ8bePoXCtLHFi5Xldy6W+ECjDp9eqQ=; b=hJC7ebqIUN/FnGapxILY4Bwko4amGsu56ht6lKpr29PduQkeWtFDlHy3jFK98GTCNR 8aydgPvLmXyPWn2SVOIFpMxlhT72Jfwx7flUNpOzreAIa5mP29aR54qz6csG3HdCPt+Y bxZQr4v/37lRjtaWMRGIJ6BC8P5iad/XgycW3W/7i/zN8phajNIwu/4Yu4L/zNoZoyy7 LQZPvVj8BgbzZ7ONkmdUB3icwltAmWR9IC49GqTYIYfgGc2WkF0x40teFaDF6GdEZTLN vqWEIUK+M/RtZSCwwT+mEZncFyrN0jH+deEEL6ZRdHjw/qvDYAiME003Hks6bXU7Umke /ZKw== X-Gm-Message-State: AOJu0YwcclDjD0b6ogSAQalajX6lNhXW6eGlhRledoA3dTxMLa2rH2+R rH0ZS57phHWt+Y2paGZrQKnKGijBi2HGITQma9KVuI1dHwsmAozuFijPSE/SGHUQC8B1up1UvZg C+o9aDfNDEcR/Bo3yRuys2gE9xQW3WTfK6UO6KX4ICRQX X-Gm-Gg: ASbGncseRnzrjPNrceHJ3pXy0uBQ2XDeMZVD2824hxDQlLq/rzoGy7Gg2Mt4xgQr/IT kqv9l7p3Lf2Vt3g5XDALWNvHa2OHhN/SX8rCEYWCOcc83gR6BVJ/A0/ztYwXCOmSw9tBamz1Asm gMVY1Rgwqg1VBinE90yVH6cW0663L1HREevLTBfeKpwzENE2Oq9n9XZbhgZkNIm/NF20z7X2eGH U8gKAXuXHsnxQEKA9F+sx3VoXQjUR8bX+9ch6in6bi+IPJcWRTxOImxwfu/IP6pSK+6chNJtcB2 Jc6SVZfaqvYbjO/kj9eRzC2gxTUeS+Ue7/ML47csSpfa6DKeclfcB9a5wWJkmm1ovGr2oU8UBFO 6Mw== X-Google-Smtp-Source: AGHT+IGk5ahzIS6t/yWPII8APHfQ+jMDm4Wh7kTjohf7wN3IiIqMetRiTsrRhMaRjo9V8ogDCqdRGrK7XJ2m X-Received: by 2002:a17:902:f650:b0:276:305b:14a7 with SMTP id d9443c01a7336-290273ef0ebmr57142375ad.33.1759946739411; Wed, 08 Oct 2025 11:05:39 -0700 (PDT) Received: from postal.iol.unh.edu (postal.iol.unh.edu. [132.177.123.84]) by smtp-relay.gmail.com with ESMTPS id d9443c01a7336-29034f2ca52sm328475ad.51.2025.10.08.11.05.39 (version=TLS1_2 cipher=ECDHE-ECDSA-AES128-GCM-SHA256 bits=128/128); Wed, 08 Oct 2025 11:05:39 -0700 (PDT) X-Relaying-Domain: iol.unh.edu Date: Wed, 08 Oct 2025 11:05:39 -0700 (PDT) Message-ID: <68e6a7f3.170a0220.3a30ef.1f1dSMTPIN_ADDED_MISSING@mx.google.com> Received: from [172.21.0.2] (unknown [172.18.0.240]) by postal.iol.unh.edu (Postfix) with ESMTP id 877B66051830; Wed, 8 Oct 2025 14:05:38 -0400 (EDT) Subject: |SUCCESS| [GIT MASTER] 2b403dd8fb37d0ba13723e44ffc7ee2c2795f838 From: dpdklab@iol.unh.edu To: Test Report Cc: dpdk-test-reports@iol.unh.edu, Jerin Jacob Content-Type: text/plain X-BeenThere: test-report@dpdk.org X-Mailman-Version: 2.1.29 Precedence: list List-Id: automatic DPDK test reports List-Unsubscribe: , List-Archive: List-Post: List-Help: List-Subscribe: , Errors-To: test-report-bounces@dpdk.org _Testing PASS_ Branch: dpdk-next-eventdev 2b403dd8fb37d0ba13723e44ffc7ee2c2795f838 --> testing pass Upstream job id: Generic-DPDK-Compile-Meson#432009 Test environment and result as below: +------------------------------+--------------------+ | Environment | dpdk_meson_compile | +==============================+====================+ | Red Hat Enterprise Linux 9.5 | PASS | +------------------------------+--------------------+ | Ubuntu 20.04 | PASS | +------------------------------+--------------------+ | Debian GNU/Linux 12 | PASS | +------------------------------+--------------------+ | Fedora Linux 42 | PASS | +------------------------------+--------------------+ | Ubuntu 22.04 | PASS | +------------------------------+--------------------+ | Ubuntu 24.04 | PASS | +------------------------------+--------------------+ | CentOS Stream 9 | PASS | +------------------------------+--------------------+ | CentOS Stream 10 | PASS | +------------------------------+--------------------+ Red Hat Enterprise Linux 9.5 Kernel: 5.4 Compiler: gcc gcc (GCC) 11.5.0 20240719 (Red Hat 11.5.0-2) Ubuntu 20.04 Kernel: 5.15 Compiler: aarch64-linux-gnu-gcc gcc (Ubuntu 9.4.0-1ubuntu1~20.04.2) 9.4.0 Debian GNU/Linux 12 Kernel: 5.4 Compiler: gcc gcc (Debian 12.2.0-14+deb12u1) 12.2.0 Fedora Linux 42 Kernel: 5.4 Compiler: gcc gcc (GCC) 15.2.1 20250808 (Red Hat 15.2.1-1) Ubuntu 22.04 Kernel: 5.4 Compiler: gcc gcc (Ubuntu 11.4.0-1ubuntu1~22.04) 11.4.0 Ubuntu 24.04 Kernel: 5.4 Compiler: gcc gcc (Ubuntu 13.3.0-6ubuntu2~24.04) 13.3.0 CentOS Stream 9 Kernel: 5.4 Compiler: gcc gcc (GCC) 11.5.0 20240719 (Red Hat 11.5.0-11) CentOS Stream 10 Kernel: 5.4 Compiler: gcc gcc (GCC) 14.2.1 20250110 (Red Hat 14.2.1-8) To view detailed results, visit: https://lab.dpdk.org/results/dashboard/tarballs/35122/ UNH-IOL DPDK Community Lab To manage your email subscriptions, visit: https://lab.dpdk.org/results/dashboard/preferences/subscriptions/