From mboxrd@z Thu Jan 1 00:00:00 1970 Return-Path: Received: from mails.dpdk.org (mails.dpdk.org [217.70.189.124]) by inbox.dpdk.org (Postfix) with ESMTP id 71FBB488E6 for ; Wed, 8 Oct 2025 20:10:06 +0200 (CEST) Received: from mails.dpdk.org (localhost [127.0.0.1]) by mails.dpdk.org (Postfix) with ESMTP id 6CE4040267; Wed, 8 Oct 2025 20:10:06 +0200 (CEST) Received: from mail-io1-f97.google.com (mail-io1-f97.google.com [209.85.166.97]) by mails.dpdk.org (Postfix) with ESMTP id BFF5340267 for ; Wed, 8 Oct 2025 20:10:04 +0200 (CEST) Received: by mail-io1-f97.google.com with SMTP id ca18e2360f4ac-9194a0241aaso1490739f.3 for ; Wed, 08 Oct 2025 11:10:04 -0700 (PDT) DKIM-Signature: v=1; a=rsa-sha256; c=relaxed/relaxed; d=iol.unh.edu; s=unh-iol; t=1759947004; x=1760551804; darn=dpdk.org; h=cc:to:from:subject:message-id:date:from:to:cc:subject:date :message-id:reply-to; bh=0hgWxfmb+4DWIAbHmnJ2uv394CYBIszlGp6G+4hgSK4=; b=JTx6SqDbMxdI7LZ9CUNerzRH8Zo5lhIq/SbKnOH584dB4cMpwEbCcOFCUgYXcZOzoO F7AYThtfa6o9Ulj3p5AI+2GLXCDSZvP2YkLdsSA1fpUq+/xSL9jNmTyfxBmcndQR7mhG jadhTbHZH5yHi4qMR+yrvGrabmoWM5O7NU2LY= X-Google-DKIM-Signature: v=1; a=rsa-sha256; c=relaxed/relaxed; d=1e100.net; s=20230601; t=1759947004; x=1760551804; h=cc:to:from:subject:message-id:date:x-gm-message-state:from:to:cc :subject:date:message-id:reply-to; bh=0hgWxfmb+4DWIAbHmnJ2uv394CYBIszlGp6G+4hgSK4=; b=smLLcoRXb9whFhgGwQlnxxwh986R8LvVNLDx84t9Pe4fkYKsNdSIxRAaLXPrY7w3wl OTjLCrLb6Vxmu+LM4u+DlGa+c/b1htmOw/9Gy709UA2EpgOZ99hLPPkKCPcALfYY0/J/ JuPTPbf5k0gN+43Q4P50wqey2LeLQYPIzVtAxW1GrGnZmXFb2HxI0fpNjBqZ/0cQZHMf 6VOlxzd2nJFgQtCLbnFwrc/VM7xEIEEW6UcY/KRhUQE1bKbH8RUswaOQrp1xv3kDH1uk XC1kGbZHxZ/4uJF98IWy5AWSLyK8Lxvd49GBSm2Oo1BTY2E+ujs/Obl7vGYaHDq9ZB7d uLWw== X-Gm-Message-State: AOJu0YxK1s5XrfIYkyfemJ2s1wL+X0hV/fvl8xHGOZcQJdZH8UbkD3PY zGhu/3FaTa41Ey6W47lHjqABzQWkCVtmHFf7mgk+jSXOk/KuWud7TCB1MEeEtRCFCQxV1mgclXb rUbjp0nGsTMxDQixyAhBQazO9CLOgWE8Lr2zU X-Gm-Gg: ASbGncvNC5oAzd01tbdVDQrTTs7r3KquPdlRIvLeJvUfbHSR4a8mJuIQysgbmeGtYJT qTwE98rCfc5E/aumBXpK9GfHuFR5j23yVokWKgo8qSrwi9LKEwYv2FDXarn0w+y8g7peHMmwxNg nC5IhfbIVdL/sxOuXTyelhdPNOknRiPSOiVGvLqDgzhFFsmbQOp7wGHHPlFWfNlPVnLxHi7ibk4 K1aQXzMNBk3uZ82RcFka7d6BoleC3m4wsIMazDU6CGBeBEHw5oG2XrPakjnciCnp+Ehh4B8KNgA JZoIaptp3QUn6V66uBIxTx08DEO36Jk4Z3iIhzhAfiM5Jm0BFbvP3kWeNR7GGXtwHSsuwEQdflv tdQ== X-Google-Smtp-Source: AGHT+IGfpKwGEudfR/NkheIVp5JLZFWngka/VwtwTd54lPzEGpcAe2cZoByEXqS0jsce15RSkMH32cA3ATJr X-Received: by 2002:a05:6e02:3e91:b0:424:1774:6915 with SMTP id e9e14a558f8ab-42f8736fc27mr34740875ab.8.1759947003984; Wed, 08 Oct 2025 11:10:03 -0700 (PDT) Received: from postal.iol.unh.edu (postal.iol.unh.edu. [132.177.123.84]) by smtp-relay.gmail.com with ESMTPS id e9e14a558f8ab-42f90311dbasm247175ab.19.2025.10.08.11.10.03 (version=TLS1_2 cipher=ECDHE-ECDSA-AES128-GCM-SHA256 bits=128/128); Wed, 08 Oct 2025 11:10:03 -0700 (PDT) X-Relaying-Domain: iol.unh.edu Date: Wed, 08 Oct 2025 11:10:03 -0700 (PDT) Message-ID: <68e6a8fb.050a0220.1eff11.167dSMTPIN_ADDED_MISSING@mx.google.com> Received: from [172.21.0.5] (unknown [172.18.0.240]) by postal.iol.unh.edu (Postfix) with ESMTP id 82F4F6051830; Wed, 8 Oct 2025 14:10:03 -0400 (EDT) Subject: |SUCCESS| [GIT MASTER] b287e404643aeab5bb5db084c142789df187844e From: dpdklab@iol.unh.edu To: Test Report Cc: dpdk-test-reports@iol.unh.edu, Xueming Li , Christian Ehrhardt , Kevin Traynor , Luca Boccassi Content-Type: text/plain X-BeenThere: test-report@dpdk.org X-Mailman-Version: 2.1.29 Precedence: list List-Id: automatic DPDK test reports List-Unsubscribe: , List-Archive: List-Post: List-Help: List-Subscribe: , Errors-To: test-report-bounces@dpdk.org _Testing PASS_ Branch: tags/v24.11 b287e404643aeab5bb5db084c142789df187844e --> testing pass Upstream job id: Generic-DPDK-Compile-Meson#432071 Test environment and result as below: +------------------------------+--------------------+ | Environment | dpdk_meson_compile | +==============================+====================+ | Red Hat Enterprise Linux 9.5 | PASS | +------------------------------+--------------------+ | Ubuntu 20.04 | PASS | +------------------------------+--------------------+ | Debian GNU/Linux 12 | PASS | +------------------------------+--------------------+ | Fedora Linux 42 | PASS | +------------------------------+--------------------+ | Ubuntu 22.04 | PASS | +------------------------------+--------------------+ | Ubuntu 24.04 | PASS | +------------------------------+--------------------+ | CentOS Stream 9 | PASS | +------------------------------+--------------------+ | CentOS Stream 10 | PASS | +------------------------------+--------------------+ Red Hat Enterprise Linux 9.5 Kernel: 5.4 Compiler: gcc gcc (GCC) 11.5.0 20240719 (Red Hat 11.5.0-2) Ubuntu 20.04 Kernel: 5.15 Compiler: aarch64-linux-gnu-gcc gcc (Ubuntu 9.4.0-1ubuntu1~20.04.2) 9.4.0 Debian GNU/Linux 12 Kernel: 5.4 Compiler: gcc gcc (Debian 12.2.0-14+deb12u1) 12.2.0 Fedora Linux 42 Kernel: 5.4 Compiler: gcc gcc (GCC) 15.2.1 20250808 (Red Hat 15.2.1-1) Ubuntu 22.04 Kernel: 5.4 Compiler: gcc gcc (Ubuntu 11.4.0-1ubuntu1~22.04) 11.4.0 Ubuntu 24.04 Kernel: 5.4 Compiler: gcc gcc (Ubuntu 13.3.0-6ubuntu2~24.04) 13.3.0 CentOS Stream 9 Kernel: 5.4 Compiler: gcc gcc (GCC) 11.5.0 20240719 (Red Hat 11.5.0-11) CentOS Stream 10 Kernel: 5.4 Compiler: gcc gcc (GCC) 14.2.1 20250110 (Red Hat 14.2.1-8) To view detailed results, visit: https://lab.dpdk.org/results/dashboard/tarballs/35126/ UNH-IOL DPDK Community Lab To manage your email subscriptions, visit: https://lab.dpdk.org/results/dashboard/preferences/subscriptions/