From mboxrd@z Thu Jan 1 00:00:00 1970 Return-Path: Received: from mails.dpdk.org (mails.dpdk.org [217.70.189.124]) by inbox.dpdk.org (Postfix) with ESMTP id 90D39488E6 for ; Wed, 8 Oct 2025 20:10:27 +0200 (CEST) Received: from mails.dpdk.org (localhost [127.0.0.1]) by mails.dpdk.org (Postfix) with ESMTP id 8740C40267; Wed, 8 Oct 2025 20:10:27 +0200 (CEST) Received: from mail-ot1-f98.google.com (mail-ot1-f98.google.com [209.85.210.98]) by mails.dpdk.org (Postfix) with ESMTP id 6305840267 for ; Wed, 8 Oct 2025 20:10:26 +0200 (CEST) Received: by mail-ot1-f98.google.com with SMTP id 46e09a7af769-79f79e37c04so105797a34.3 for ; Wed, 08 Oct 2025 11:10:26 -0700 (PDT) DKIM-Signature: v=1; a=rsa-sha256; c=relaxed/relaxed; d=iol.unh.edu; s=unh-iol; t=1759947025; x=1760551825; darn=dpdk.org; h=references:in-reply-to:cc:to:from:subject:message-id:date:from:to :cc:subject:date:message-id:reply-to; bh=ngCaocbiQxG3qyxUkf4aO8oHPIpx3ZXjPHj8T7phyhM=; b=KS5B8zOIq56HqZ/3kVa3csGRGvchfZ4hwikspatTFFqitBlVvnoYLb8nX01RfrQUI9 4qbtlY9sH3Af5tmas3LdSwOxeWSQY/8cRcSlCjWtCQyzv4NN7B+TrwBi0HG+5Cfu+GKA /gssc9HQ2OpRMjhtWa9pRfUyrS9aEHov8tHP0= X-Google-DKIM-Signature: v=1; a=rsa-sha256; c=relaxed/relaxed; d=1e100.net; s=20230601; t=1759947025; x=1760551825; h=references:in-reply-to:cc:to:from:subject:message-id:date :x-gm-message-state:from:to:cc:subject:date:message-id:reply-to; bh=ngCaocbiQxG3qyxUkf4aO8oHPIpx3ZXjPHj8T7phyhM=; b=fDOfNSju0KpeIFAcpJhUZsc5nDr9SZeOWlyJ/X00TSaObP5+lJDPPK4lEvYPONNXmq IbqqVSIonrYWoLmu21tElVaXns38XL+uTmQlhWF9uJwEXz1HT8/zTaRNsj4jKRtLHP32 doX/JuH08mEqv2CHr3NXuA3fElPjzYmeX10tWvrQOwNrRdsTQLh8K6VeEf66ghm7jXBM W51A5ki4hFIxeKsHorKTMM56LzsT7CZDOU7J93rzZ0fGHQpcnNf6HJe3aBAqdRyiwYls 7m+kI2Qcss7Dfh1DLPJJg5qzq4Hq+qtrq//9KNSICdX4i6DFFO5XvzwIRowB6IkWxUZD NKfQ== X-Gm-Message-State: AOJu0YwzbIuTo8AQun6NrsRaKkHS/OV+/IYr4ej3v7wdzlNp3lmsvQH/ IRdlqIoLU8CcSzEcc0ZCNzUhvhH0JiOFq/aSPfdzdCJygAiHymDEAkhGMbj1KQQjv2RKmVXS+UU jXYyc5sXv+qhx+jyiD4yz5PNlqK6KeYRcVsIM3c5oesSnEAgt407NFnQXC/Hl X-Gm-Gg: ASbGnct348IVH8f7NLIvZ72VWBs+13kVye/tMhG5mQDS8G8Fbyxdzv5eWUHnZrjK3Xi P1sMl5S6WhJSN9zOkzIlpk/tjmjFoLMJihoia8WprhmrWfeHJcvLAbKbbhjRkm1C9eiozOsbwoc ujCeeF6tNazTLBskQOd45S5bOuoEIg61eEfuaQqvY0MrKl4ozafPhzsebGb92NIka5IofaSdF97 /TWu/fZqt3x6b69a6sI+uMMqtGeFiM0p7hiRqOdAV3Xv5Bw1GsxndV0Xl8Tx0yPs2KoqBhQSq/X oiYaZugdFcdAFaE3gd4HAdo4jvHZKZNNBwy3J7MT7ku3oukzuR/xOoM= X-Google-Smtp-Source: AGHT+IHZngsIrZEflw9AwdHz5ngKlnDCTcK/LuT/p7lpE6bzCZ7vp/sCUG3R6+C+1euEI4fKF0NkVsA1xVaw X-Received: by 2002:a05:6808:4f51:b0:437:ae9d:114d with SMTP id 5614622812f47-4417b2fe5d2mr2349396b6e.13.1759947025592; Wed, 08 Oct 2025 11:10:25 -0700 (PDT) Received: from postal.iol.unh.edu (postal.iol.unh.edu. [2606:4100:3880:1234::84]) by smtp-relay.gmail.com with ESMTPS id 46e09a7af769-7bf41fbe410sm1322436a34.8.2025.10.08.11.10.25 (version=TLS1_2 cipher=ECDHE-ECDSA-AES128-GCM-SHA256 bits=128/128); Wed, 08 Oct 2025 11:10:25 -0700 (PDT) X-Relaying-Domain: iol.unh.edu Date: Wed, 08 Oct 2025 11:10:25 -0700 (PDT) Message-ID: <68e6a911.050a0220.2c4cb5.8a5aSMTPIN_ADDED_MISSING@mx.google.com> Received: from [172.21.0.2] (unknown [172.18.0.240]) by postal.iol.unh.edu (Postfix) with ESMTP id 1C0C66051830; Wed, 8 Oct 2025 14:10:25 -0400 (EDT) Subject: |SUCCESS| pw157299-157302 [PATCH] [v4,4/4] doc: add doc for dictiona From: dpdklab@iol.unh.edu To: Test Report Cc: dpdk-test-reports@iol.unh.edu, Akhil Goyal In-Reply-To: <20251006200904.2467957-4-svaze@qti.qualcomm.com> References: <20251006200904.2467957-4-svaze@qti.qualcomm.com> Content-Type: text/plain X-BeenThere: test-report@dpdk.org X-Mailman-Version: 2.1.29 Precedence: list List-Id: automatic DPDK test reports List-Unsubscribe: , List-Archive: List-Post: List-Help: List-Subscribe: , Errors-To: test-report-bounces@dpdk.org Test-Label: iol-compile-arm64-testing Test-Status: SUCCESS http://dpdk.org/patch/157302 _Testing PASS_ Submitter: Sameer Vaze Date: Monday, October 06 2025 20:09:04 DPDK git baseline: Repo:dpdk-next-crypto Branch: master CommitID:caa17cb4b057a31ee04067459fe543f7d7ae1079 157299-157302 --> testing pass Upstream job id: Generic-DPDK-Compile-Meson#432047 Test environment and result as below: +------------------------------+--------------------+ | Environment | dpdk_meson_compile | +==============================+====================+ | Red Hat Enterprise Linux 9.5 | PASS | +------------------------------+--------------------+ | Ubuntu 20.04 | PASS | +------------------------------+--------------------+ | Debian GNU/Linux 12 | PASS | +------------------------------+--------------------+ | Fedora Linux 42 | PASS | +------------------------------+--------------------+ | Ubuntu 22.04 | PASS | +------------------------------+--------------------+ | Ubuntu 24.04 | PASS | +------------------------------+--------------------+ | CentOS Stream 9 | PASS | +------------------------------+--------------------+ | CentOS Stream 10 | PASS | +------------------------------+--------------------+ Red Hat Enterprise Linux 9.5 Kernel: 5.4 Compiler: gcc gcc (GCC) 11.5.0 20240719 (Red Hat 11.5.0-2) Ubuntu 20.04 Kernel: 5.15 Compiler: aarch64-linux-gnu-gcc gcc (Ubuntu 9.4.0-1ubuntu1~20.04.2) 9.4.0 Debian GNU/Linux 12 Kernel: 5.4 Compiler: gcc gcc (Debian 12.2.0-14+deb12u1) 12.2.0 Fedora Linux 42 Kernel: 5.4 Compiler: gcc gcc (GCC) 15.2.1 20250808 (Red Hat 15.2.1-1) Ubuntu 22.04 Kernel: 5.4 Compiler: gcc gcc (Ubuntu 11.4.0-1ubuntu1~22.04) 11.4.0 Ubuntu 24.04 Kernel: 5.4 Compiler: gcc gcc (Ubuntu 13.3.0-6ubuntu2~24.04) 13.3.0 CentOS Stream 9 Kernel: 5.4 Compiler: gcc gcc (GCC) 11.5.0 20240719 (Red Hat 11.5.0-11) CentOS Stream 10 Kernel: 5.4 Compiler: gcc gcc (GCC) 14.2.1 20250110 (Red Hat 14.2.1-8) To view detailed results, visit: https://lab.dpdk.org/results/dashboard/patchsets/34224/ UNH-IOL DPDK Community Lab To manage your email subscriptions, visit: https://lab.dpdk.org/results/dashboard/preferences/subscriptions/