From mboxrd@z Thu Jan 1 00:00:00 1970 Return-Path: Received: from mails.dpdk.org (mails.dpdk.org [217.70.189.124]) by inbox.dpdk.org (Postfix) with ESMTP id B7131488E6 for ; Wed, 8 Oct 2025 20:12:02 +0200 (CEST) Received: from mails.dpdk.org (localhost [127.0.0.1]) by mails.dpdk.org (Postfix) with ESMTP id AF69540267; Wed, 8 Oct 2025 20:12:02 +0200 (CEST) Received: from mail-pf1-f225.google.com (mail-pf1-f225.google.com [209.85.210.225]) by mails.dpdk.org (Postfix) with ESMTP id 74B4540267 for ; Wed, 8 Oct 2025 20:12:01 +0200 (CEST) Received: by mail-pf1-f225.google.com with SMTP id d2e1a72fcca58-78f3bfe3f69so91278b3a.2 for ; Wed, 08 Oct 2025 11:12:01 -0700 (PDT) DKIM-Signature: v=1; a=rsa-sha256; c=relaxed/relaxed; d=iol.unh.edu; s=unh-iol; t=1759947120; x=1760551920; darn=dpdk.org; h=cc:to:from:subject:message-id:date:from:to:cc:subject:date :message-id:reply-to; bh=HWzIGhtpiPyO31+0pKGy/3esSmsDZRcaQf26sqG4KGQ=; b=Ww34AMfrlCvNHAZa9r6ULaaZI38tUzgGXGGdGr4n0tu/Z2ib+NEa7cBCzdJeezAfWC tf56PVOdNOZlyQjF0wiaKyLEnZ3wpmS5m1cWFWjQ3dLQC4jBhr3cW1NDLCg4omqotD/a ObF0ir485AhjIT00LqJk9g23cRjTAWO+MSWII= X-Google-DKIM-Signature: v=1; a=rsa-sha256; c=relaxed/relaxed; d=1e100.net; s=20230601; t=1759947120; x=1760551920; h=cc:to:from:subject:message-id:date:x-gm-message-state:from:to:cc :subject:date:message-id:reply-to; bh=HWzIGhtpiPyO31+0pKGy/3esSmsDZRcaQf26sqG4KGQ=; b=C8v886MDCHk8ALTHcsd69RDhEwNEE2t854WT6jj6NziZybNfrt1CpkJFXg4Sbl+DZu pWLgiwZBrBfVp9FEtV1HX7l5MeeLRMR7su+N5RLq9kRqoI02maPK5zJVoubB3QPpTY7E /afewHfbXhWmucLr4Cp4wbiqi2VyjyPNIiDk5seXBXvNH6y+SIV+MrgB5DJshxYllIcb NCK8fdlPcRCFeCbRXleQXoSkxE8vjTF2R63rS7ZYgyTApMyfQKUUv2SV0PL8pEEZ8sRG GdEi+0T9GFHjgiQ6dgSxkuwDxgrT8TJ/mVsveuKtDNyWBbYoozhBwSnykJyLbvvVtuRD pqSA== X-Gm-Message-State: AOJu0Yw1YNfc3V+ogoii80DcEpo016XMHSjs7xDnDpVau9dt6pFnn305 XdSDru1h1GkQoUxScTm/cUH45LKnrszPHeRfoMB4eXMJeSaDgLQ1uBw5z0qXKUsoB6MBRGQDhzQ BbkKDAvQIZvXHE2dc1/XnaiQBsVQMFO3pXOrv X-Gm-Gg: ASbGncuCZixiT6ALbC02Sm7xe8yrqB2r858E552G0NEJgruZ6FBoMJK9PNBichZQ8Kp 6fkBoFcUynPHV7JG27R35Rm6n4uzubwLjGkYg5LPKPFtn69Wo6gHy+Tn14d63byaaeIgn8IQoT7 KCKgriu4rjDJOPjdOHGagNUyCDe5qSyXCRtO4V6A3MYNITwdMx0Tj8gLl0zZQBV20IPE6QrVccX EXZ0jElRYET1p+1JZBs0v5fvlz8Ij6NKV0ka7NMJkJO3vlAM/RWn/FBMWe2c7Ak2FptqfO/+Qke Kz4mTL8WEQL0TdlkWewGZqP8jaQL9GaiQEPXYm1hJoMs4cBAhpu5u7meEW9O1196PIY3AmOI4G8 ssA== X-Google-Smtp-Source: AGHT+IGNllpyd+SOUMQ2KZFUQ3txQ88FEpVIHIMzSNCnZR79lT9MPb75GvbgLpRGrcnoT4S/8vYopCJRw5u7 X-Received: by 2002:a17:903:388c:b0:269:a4ed:13c3 with SMTP id d9443c01a7336-290272161edmr58693135ad.5.1759947120496; Wed, 08 Oct 2025 11:12:00 -0700 (PDT) Received: from postal.iol.unh.edu (postal.iol.unh.edu. [132.177.123.84]) by smtp-relay.gmail.com with ESMTPS id d9443c01a7336-29034df065esm334615ad.1.2025.10.08.11.12.00 (version=TLS1_2 cipher=ECDHE-ECDSA-AES128-GCM-SHA256 bits=128/128); Wed, 08 Oct 2025 11:12:00 -0700 (PDT) X-Relaying-Domain: iol.unh.edu Date: Wed, 08 Oct 2025 11:12:00 -0700 (PDT) Message-ID: <68e6a970.170a0220.76a62.1e63SMTPIN_ADDED_MISSING@mx.google.com> Received: from [172.21.0.2] (unknown [172.18.0.240]) by postal.iol.unh.edu (Postfix) with ESMTP id AC01A6051830; Wed, 8 Oct 2025 14:11:59 -0400 (EDT) Subject: |SUCCESS| [GIT MASTER] 3b43ce3f4a54468e7ef65760c2fd7b4d6ee6d9fc From: dpdklab@iol.unh.edu To: Test Report Cc: dpdk-test-reports@iol.unh.edu, Xueming Li , Christian Ehrhardt , Kevin Traynor , Luca Boccassi Content-Type: text/plain X-BeenThere: test-report@dpdk.org X-Mailman-Version: 2.1.29 Precedence: list List-Id: automatic DPDK test reports List-Unsubscribe: , List-Archive: List-Post: List-Help: List-Subscribe: , Errors-To: test-report-bounces@dpdk.org _Testing PASS_ Branch: tags/v22.11 3b43ce3f4a54468e7ef65760c2fd7b4d6ee6d9fc --> testing pass Upstream job id: Generic-DPDK-Compile-Meson#432087 Test environment and result as below: +------------------------------+--------------------+ | Environment | dpdk_meson_compile | +==============================+====================+ | Red Hat Enterprise Linux 9.5 | PASS | +------------------------------+--------------------+ | Ubuntu 20.04 | PASS | +------------------------------+--------------------+ | Debian GNU/Linux 12 | PASS | +------------------------------+--------------------+ | Fedora Linux 42 | PASS | +------------------------------+--------------------+ | Ubuntu 22.04 | PASS | +------------------------------+--------------------+ | Ubuntu 24.04 | PASS | +------------------------------+--------------------+ | CentOS Stream 9 | PASS | +------------------------------+--------------------+ | CentOS Stream 10 | PASS | +------------------------------+--------------------+ Red Hat Enterprise Linux 9.5 Kernel: 5.4 Compiler: gcc gcc (GCC) 11.5.0 20240719 (Red Hat 11.5.0-2) Ubuntu 20.04 Kernel: 5.15 Compiler: aarch64-linux-gnu-gcc gcc (Ubuntu 9.4.0-1ubuntu1~20.04.2) 9.4.0 Debian GNU/Linux 12 Kernel: 5.4 Compiler: gcc gcc (Debian 12.2.0-14+deb12u1) 12.2.0 Fedora Linux 42 Kernel: 5.4 Compiler: gcc gcc (GCC) 15.2.1 20250808 (Red Hat 15.2.1-1) Ubuntu 22.04 Kernel: 5.4 Compiler: gcc gcc (Ubuntu 11.4.0-1ubuntu1~22.04) 11.4.0 Ubuntu 24.04 Kernel: 5.4 Compiler: gcc gcc (Ubuntu 13.3.0-6ubuntu2~24.04) 13.3.0 CentOS Stream 9 Kernel: 5.4 Compiler: gcc gcc (GCC) 11.5.0 20240719 (Red Hat 11.5.0-11) CentOS Stream 10 Kernel: 5.4 Compiler: gcc gcc (GCC) 14.2.1 20250110 (Red Hat 14.2.1-8) To view detailed results, visit: https://lab.dpdk.org/results/dashboard/tarballs/35124/ UNH-IOL DPDK Community Lab To manage your email subscriptions, visit: https://lab.dpdk.org/results/dashboard/preferences/subscriptions/