From: dpdklab@iol.unh.edu
To: Test Report <test-report@dpdk.org>
Cc: dpdk-test-reports@iol.unh.edu,
Bruce Richardson <bruce.richardson@intel.com>
Subject: |SUCCESS| pw157309 [PATCH] [v1,1/1] net/ice: fix memory leak in raw
Date: Wed, 08 Oct 2025 11:13:30 -0700 (PDT) [thread overview]
Message-ID: <68e6a9ca.050a0220.335f6e.ec99SMTPIN_ADDED_MISSING@mx.google.com> (raw)
In-Reply-To: <65bfe82e74867020982e2729f84a7c00a5690c5b.1759837052.git.anatoly.burakov@intel.com>
Test-Label: iol-compile-arm64-testing
Test-Status: SUCCESS
http://dpdk.org/patch/157309
_Testing PASS_
Submitter: Burakov, Anatoly <anatoly.burakov@intel.com>
Date: Tuesday, October 07 2025 11:37:40
DPDK git baseline: Repo:dpdk-next-net-intel
Branch: master
CommitID:e7d8cc7ef4df3552575525697079d3c957cfcdaf
157309 --> testing pass
Upstream job id: Generic-DPDK-Compile-Meson#432194
Test environment and result as below:
+------------------------------+--------------------+
| Environment | dpdk_meson_compile |
+==============================+====================+
| Red Hat Enterprise Linux 9.5 | PASS |
+------------------------------+--------------------+
| Ubuntu 20.04 | PASS |
+------------------------------+--------------------+
| Debian GNU/Linux 12 | PASS |
+------------------------------+--------------------+
| Fedora Linux 42 | PASS |
+------------------------------+--------------------+
| Ubuntu 22.04 | PASS |
+------------------------------+--------------------+
| Ubuntu 24.04 | PASS |
+------------------------------+--------------------+
| CentOS Stream 9 | PASS |
+------------------------------+--------------------+
| CentOS Stream 10 | PASS |
+------------------------------+--------------------+
Red Hat Enterprise Linux 9.5
Kernel: 5.4
Compiler: gcc gcc (GCC) 11.5.0 20240719 (Red Hat 11.5.0-2)
Ubuntu 20.04
Kernel: 5.15
Compiler: aarch64-linux-gnu-gcc gcc (Ubuntu 9.4.0-1ubuntu1~20.04.2) 9.4.0
Debian GNU/Linux 12
Kernel: 5.4
Compiler: gcc gcc (Debian 12.2.0-14+deb12u1) 12.2.0
Fedora Linux 42
Kernel: 5.4
Compiler: gcc gcc (GCC) 15.2.1 20250808 (Red Hat 15.2.1-1)
Ubuntu 22.04
Kernel: 5.4
Compiler: gcc gcc (Ubuntu 11.4.0-1ubuntu1~22.04) 11.4.0
Ubuntu 24.04
Kernel: 5.4
Compiler: gcc gcc (Ubuntu 13.3.0-6ubuntu2~24.04) 13.3.0
CentOS Stream 9
Kernel: 5.4
Compiler: gcc gcc (GCC) 11.5.0 20240719 (Red Hat 11.5.0-11)
CentOS Stream 10
Kernel: 5.4
Compiler: gcc gcc (GCC) 14.2.1 20250110 (Red Hat 14.2.1-8)
To view detailed results, visit:
https://lab.dpdk.org/results/dashboard/patchsets/34227/
UNH-IOL DPDK Community Lab
To manage your email subscriptions, visit:
https://lab.dpdk.org/results/dashboard/preferences/subscriptions/
next prev parent reply other threads:[~2025-10-08 18:13 UTC|newest]
Thread overview: 24+ messages / expand[flat|nested] mbox.gz Atom feed top
[not found] <65bfe82e74867020982e2729f84a7c00a5690c5b.1759837052.git.anatoly.burakov@intel.com>
2025-10-07 11:03 ` |SUCCESS| pw157309 [PATCH v1 1/1] net/ice: fix memory leak in raw pattern parse qemudev
2025-10-07 11:08 ` qemudev
2025-10-07 11:39 ` checkpatch
2025-10-07 11:58 ` |PENDING| pw157309 [PATCH] [v1,1/1] net/ice: fix memory leak in raw dpdklab
2025-10-07 12:01 ` dpdklab
2025-10-07 12:03 ` |SUCCESS| " dpdklab
2025-10-07 12:07 ` dpdklab
2025-10-07 12:11 ` |PENDING| " dpdklab
2025-10-07 12:13 ` dpdklab
2025-10-07 12:20 ` |SUCCESS| " dpdklab
2025-10-07 12:24 ` dpdklab
2025-10-07 12:24 ` dpdklab
2025-10-07 12:24 ` dpdklab
2025-10-07 12:25 ` dpdklab
2025-10-07 12:27 ` dpdklab
2025-10-07 12:33 ` dpdklab
2025-10-07 12:39 ` dpdklab
2025-10-07 12:42 ` dpdklab
2025-10-07 12:47 ` dpdklab
2025-10-07 19:48 ` dpdklab
2025-10-08 1:36 ` dpdklab
2025-10-08 8:46 ` dpdklab
2025-10-08 18:13 ` dpdklab [this message]
2025-10-08 18:13 ` dpdklab
Reply instructions:
You may reply publicly to this message via plain-text email
using any one of the following methods:
* Save the following mbox file, import it into your mail client,
and reply-to-all from there: mbox
Avoid top-posting and favor interleaved quoting:
https://en.wikipedia.org/wiki/Posting_style#Interleaved_style
* Reply using the --to, --cc, and --in-reply-to
switches of git-send-email(1):
git send-email \
--in-reply-to=68e6a9ca.050a0220.335f6e.ec99SMTPIN_ADDED_MISSING@mx.google.com \
--to=dpdklab@iol.unh.edu \
--cc=bruce.richardson@intel.com \
--cc=dpdk-test-reports@iol.unh.edu \
--cc=test-report@dpdk.org \
/path/to/YOUR_REPLY
https://kernel.org/pub/software/scm/git/docs/git-send-email.html
* If your mail client supports setting the In-Reply-To header
via mailto: links, try the mailto: link
Be sure your reply has a Subject: header at the top and a blank line
before the message body.
This is a public inbox, see mirroring instructions
for how to clone and mirror all data and code used for this inbox;
as well as URLs for NNTP newsgroup(s).