From mboxrd@z Thu Jan 1 00:00:00 1970 Return-Path: Received: from mails.dpdk.org (mails.dpdk.org [217.70.189.124]) by inbox.dpdk.org (Postfix) with ESMTP id 0865C488E6 for ; Wed, 8 Oct 2025 20:13:33 +0200 (CEST) Received: from mails.dpdk.org (localhost [127.0.0.1]) by mails.dpdk.org (Postfix) with ESMTP id F072240267; Wed, 8 Oct 2025 20:13:32 +0200 (CEST) Received: from mail-io1-f98.google.com (mail-io1-f98.google.com [209.85.166.98]) by mails.dpdk.org (Postfix) with ESMTP id 3257840267 for ; Wed, 8 Oct 2025 20:13:31 +0200 (CEST) Received: by mail-io1-f98.google.com with SMTP id ca18e2360f4ac-937b40137b4so51587439f.0 for ; Wed, 08 Oct 2025 11:13:31 -0700 (PDT) DKIM-Signature: v=1; a=rsa-sha256; c=relaxed/relaxed; d=iol.unh.edu; s=unh-iol; t=1759947210; x=1760552010; darn=dpdk.org; h=references:in-reply-to:cc:to:from:subject:message-id:date:from:to :cc:subject:date:message-id:reply-to; bh=94Tgi3k7RuZqB3fdb/JiZ2+fUySeQhq85tImRhoARGE=; b=KBXQYCDBhuuUoDzMY+ZuRIewdiour6cTZYkA1bQP9ZZRt12ubyLjYV7aiLQFwf3zYv E0fA06OZfUO9rPomWxfic5dPdsH3W+dGdwDC/ECm1o2DU1+lwnEPgJPub4zpVuDxOwxm 7t55KwJY8OT1P0O+r2UnUheK9OHUzvKKYHUoM= X-Google-DKIM-Signature: v=1; a=rsa-sha256; c=relaxed/relaxed; d=1e100.net; s=20230601; t=1759947210; x=1760552010; h=references:in-reply-to:cc:to:from:subject:message-id:date :x-gm-message-state:from:to:cc:subject:date:message-id:reply-to; bh=94Tgi3k7RuZqB3fdb/JiZ2+fUySeQhq85tImRhoARGE=; b=ihH4sXTn0DCV3aq8DltqWvgaN8kIE1G/zvK5iv3/wxqx4sfXCRnGEhst/s3PUZtwjp qsvm0RB+7p3Ck5BpqKL7a0lJ+wcVr/kwPE3sqmgcgg7KFw0Z4Jrol0iokMB0vzvqZwRM H7PFV8DQhhzWYpwtGijSrJcwPirlLJnWOy1SfOeaA2XtqH4weF8fi8s/3IzYImTsbkXR CqxR7/wk5aWNakcPg5qaqp2jVfgC5cYaWgk4vGyYRaSG/qzFxeA4/a0niPPcYwOy7rqn HlOrr6IVF1J9nb3VSOApcgtyAqjdoCoS5umsPsdSH5Ow6SlI7YIUck+QJFa/kP/R3K4V QUdg== X-Gm-Message-State: AOJu0Ywwo8tYmWHHoQw3txK0nAMLIzPb0pFA1LkN9hg/IemkfTTIwWRo Lo3E4Z5+q2ZFl55L/pk0Q/oDt76k/lTtqO44V1p1xfY1bJWBpXoBDNKhZtGE6eiVsIrqO4MYcra sqJQFPwqcU6ChMfmhlf6pjYcPobk7yQHKDHJ4m3HkefKR X-Gm-Gg: ASbGncue7f+Hixp0iQKacaw1MHAYRlTXd99WIo4N2nWpH0sHqxfWYOmai2zbrisnToS gs0OsVUmrJYjHdwm+AHEbvsXXJxPSAeYFSlAvIwHUrEzqezXns50BQjoxXjhAUV3MmB+9PsFOvc 2ioy+EE+RwAtkljDJxuskWVWJJvjzSeZ90zhsOTQb/DdyRHcTTvfst/zDhhGUPG7q0tTSrxayKY XBwScS+IPrNWlaU9eBIsyDpCc7tzVTM4ZWXuMai5xKwbcVxTSvb3ymT6TcG/r9cfQ3v9q1DX65l xOhwGapZtDIVBQmM/FC4uuzsW0+pRKhYsYUpq5vHHtzn38HzI06FgTeGJwAX3yx4MSZeLbsmcVg i0A== X-Google-Smtp-Source: AGHT+IG82iqArz2reHQF7uCXkUwpSPvzCFuHwPuJZBi9wN4X5yDs9wHWljqVo50FXex01CdQFTafhpgxAMp6 X-Received: by 2002:a05:6e02:4517:20b0:42f:7c6f:3c93 with SMTP id e9e14a558f8ab-42f7c6f3e38mr77988625ab.1.1759947210370; Wed, 08 Oct 2025 11:13:30 -0700 (PDT) Received: from postal.iol.unh.edu (postal.iol.unh.edu. [132.177.123.84]) by smtp-relay.gmail.com with ESMTPS id 8926c6da1cb9f-57b5eaae858sm1460309173.7.2025.10.08.11.13.30 (version=TLS1_2 cipher=ECDHE-ECDSA-AES128-GCM-SHA256 bits=128/128); Wed, 08 Oct 2025 11:13:30 -0700 (PDT) X-Relaying-Domain: iol.unh.edu Date: Wed, 08 Oct 2025 11:13:30 -0700 (PDT) Message-ID: <68e6a9ca.050a0220.335f6e.ec99SMTPIN_ADDED_MISSING@mx.google.com> Received: from [172.21.0.4] (unknown [172.18.0.240]) by postal.iol.unh.edu (Postfix) with ESMTP id 0E4066051830; Wed, 8 Oct 2025 14:13:30 -0400 (EDT) Subject: |SUCCESS| pw157309 [PATCH] [v1,1/1] net/ice: fix memory leak in raw From: dpdklab@iol.unh.edu To: Test Report Cc: dpdk-test-reports@iol.unh.edu, Bruce Richardson In-Reply-To: <65bfe82e74867020982e2729f84a7c00a5690c5b.1759837052.git.anatoly.burakov@intel.com> References: <65bfe82e74867020982e2729f84a7c00a5690c5b.1759837052.git.anatoly.burakov@intel.com> Content-Type: text/plain X-BeenThere: test-report@dpdk.org X-Mailman-Version: 2.1.29 Precedence: list List-Id: automatic DPDK test reports List-Unsubscribe: , List-Archive: List-Post: List-Help: List-Subscribe: , Errors-To: test-report-bounces@dpdk.org Test-Label: iol-compile-arm64-testing Test-Status: SUCCESS http://dpdk.org/patch/157309 _Testing PASS_ Submitter: Burakov, Anatoly Date: Tuesday, October 07 2025 11:37:40 DPDK git baseline: Repo:dpdk-next-net-intel Branch: master CommitID:e7d8cc7ef4df3552575525697079d3c957cfcdaf 157309 --> testing pass Upstream job id: Generic-DPDK-Compile-Meson#432194 Test environment and result as below: +------------------------------+--------------------+ | Environment | dpdk_meson_compile | +==============================+====================+ | Red Hat Enterprise Linux 9.5 | PASS | +------------------------------+--------------------+ | Ubuntu 20.04 | PASS | +------------------------------+--------------------+ | Debian GNU/Linux 12 | PASS | +------------------------------+--------------------+ | Fedora Linux 42 | PASS | +------------------------------+--------------------+ | Ubuntu 22.04 | PASS | +------------------------------+--------------------+ | Ubuntu 24.04 | PASS | +------------------------------+--------------------+ | CentOS Stream 9 | PASS | +------------------------------+--------------------+ | CentOS Stream 10 | PASS | +------------------------------+--------------------+ Red Hat Enterprise Linux 9.5 Kernel: 5.4 Compiler: gcc gcc (GCC) 11.5.0 20240719 (Red Hat 11.5.0-2) Ubuntu 20.04 Kernel: 5.15 Compiler: aarch64-linux-gnu-gcc gcc (Ubuntu 9.4.0-1ubuntu1~20.04.2) 9.4.0 Debian GNU/Linux 12 Kernel: 5.4 Compiler: gcc gcc (Debian 12.2.0-14+deb12u1) 12.2.0 Fedora Linux 42 Kernel: 5.4 Compiler: gcc gcc (GCC) 15.2.1 20250808 (Red Hat 15.2.1-1) Ubuntu 22.04 Kernel: 5.4 Compiler: gcc gcc (Ubuntu 11.4.0-1ubuntu1~22.04) 11.4.0 Ubuntu 24.04 Kernel: 5.4 Compiler: gcc gcc (Ubuntu 13.3.0-6ubuntu2~24.04) 13.3.0 CentOS Stream 9 Kernel: 5.4 Compiler: gcc gcc (GCC) 11.5.0 20240719 (Red Hat 11.5.0-11) CentOS Stream 10 Kernel: 5.4 Compiler: gcc gcc (GCC) 14.2.1 20250110 (Red Hat 14.2.1-8) To view detailed results, visit: https://lab.dpdk.org/results/dashboard/patchsets/34227/ UNH-IOL DPDK Community Lab To manage your email subscriptions, visit: https://lab.dpdk.org/results/dashboard/preferences/subscriptions/