From mboxrd@z Thu Jan 1 00:00:00 1970 Return-Path: Received: from mails.dpdk.org (mails.dpdk.org [217.70.189.124]) by inbox.dpdk.org (Postfix) with ESMTP id 1A165488E6 for ; Wed, 8 Oct 2025 20:13:52 +0200 (CEST) Received: from mails.dpdk.org (localhost [127.0.0.1]) by mails.dpdk.org (Postfix) with ESMTP id 152CC40267; Wed, 8 Oct 2025 20:13:52 +0200 (CEST) Received: from mail-il1-f227.google.com (mail-il1-f227.google.com [209.85.166.227]) by mails.dpdk.org (Postfix) with ESMTP id 7E44B40267 for ; Wed, 8 Oct 2025 20:13:50 +0200 (CEST) Received: by mail-il1-f227.google.com with SMTP id e9e14a558f8ab-42486ed0706so901125ab.0 for ; Wed, 08 Oct 2025 11:13:50 -0700 (PDT) DKIM-Signature: v=1; a=rsa-sha256; c=relaxed/relaxed; d=iol.unh.edu; s=unh-iol; t=1759947230; x=1760552030; darn=dpdk.org; h=references:in-reply-to:cc:to:from:subject:message-id:date:from:to :cc:subject:date:message-id:reply-to; bh=iHLAOsY6V82eumofZQfvW6m2hgeNJs8Xmq2d+jJFahs=; b=ZTKbKu0xFPmd5NM9pEFYTwk0oge+lu4VyBdN4OtKmg6hbpyJEMR7arOKQTWYt6db/s SD/nuBgSNdThXTbf7IejfFseCOrkK9+2g+bnfSthl60ysbOkiRwy0JXqFTAWxi9g+hFL XqEXqL2Twm70HpjhhXsXS2B6E/YANLbWT5474= X-Google-DKIM-Signature: v=1; a=rsa-sha256; c=relaxed/relaxed; d=1e100.net; s=20230601; t=1759947230; x=1760552030; h=references:in-reply-to:cc:to:from:subject:message-id:date :x-gm-message-state:from:to:cc:subject:date:message-id:reply-to; bh=iHLAOsY6V82eumofZQfvW6m2hgeNJs8Xmq2d+jJFahs=; b=YBoP7TPWRpYmvb9/KL+ArkSmxbV+Bo/2zfKFnbowzj4UOUNTwKV4RI6p688SmmtbNY VlzSH/iEev7QyTtu8LQPaK0fPSWBhg8x+LXIOlPQP8oxJ9gM6ZkKCWzBHO7BfFgtGS0n qB0TwVWLrqmqvW4ku0zlLTZ3/h+x4NEDShqiyCCx8KWYL3M3ZPYw9gByuJm8judiWhDj 5OjmY/YK87CKb8Dc4ypYxsKDxBCuGyF6JFgdP163AygBGYSnjWa0lxhL9nfnAQzZ1tA1 h/gpTPW1B6LtMcFWVnZKTHhLm7nQORsu6kS2YOE7t4erxH3f3PGz+RyuWwrWsXtSqZwi XBTA== X-Gm-Message-State: AOJu0YyhxU8T+XK+WlWv22IpHy8MgLCJpbD6LIdxt3e3aBEqOIDbkSo/ pHM8XfsEizoLX24c+2wSQQZhwuARKFhGWe86a1eBHaKFshVILRu2MkIfGQ43glAxl+B4X8wzOVW GokzMer9ttvZ5/ATCsQhVRswnvWfpVAcuff9X3jYMIRE+ X-Gm-Gg: ASbGncvEP6hnD2JMp0yXYHCjumMDGojRD0/TNXcF+jqeC9sl0RnOHj7PL+iXJTbvCx9 eGS2Py/hOE7+Tv/G3mluhhNigQyxziHqURMU0cEticDkc9shLmZkgxSLYD1Q1xMEz5gk+QemDSV S56P2eSWOMCRiVDvBjurOZG1KV8ynE+ZX3osMPKbe3FxZLul7B0KLOsj46mKHkk1Xl1L8gCQo7r gWLjgjqFXx74p1c5BPqY8bmK4xXsPaK0dbZGUiTpPwyVURCxuahybbLef1SUH+VcfJ4Pxq3mgAf JJ2nlXMOWfnfPzSFhe4ZYgewgWmd5NQtru51rDnNq8hPXe5WtP+r+oy9ryAOYZWYKKPGcqzUu8T KvQ== X-Google-Smtp-Source: AGHT+IHAqatI/EVQFj/3bZC3gU45RJKaRNyj5hQ6Ub5lVAu/Tw0aX+QC1WQwNYLFc4aZBB25uwBI4X5FZ72Z X-Received: by 2002:a05:6e02:19ce:b0:426:3ab1:74bd with SMTP id e9e14a558f8ab-42f873ceef2mr39646525ab.18.1759947229830; Wed, 08 Oct 2025 11:13:49 -0700 (PDT) Received: from postal.iol.unh.edu (postal.iol.unh.edu. [132.177.123.84]) by smtp-relay.gmail.com with ESMTPS id e9e14a558f8ab-42f90260c91sm276395ab.13.2025.10.08.11.13.49 (version=TLS1_2 cipher=ECDHE-ECDSA-AES128-GCM-SHA256 bits=128/128); Wed, 08 Oct 2025 11:13:49 -0700 (PDT) X-Relaying-Domain: iol.unh.edu Date: Wed, 08 Oct 2025 11:13:49 -0700 (PDT) Message-ID: <68e6a9dd.050a0220.707e3.1a98SMTPIN_ADDED_MISSING@mx.google.com> Received: from [172.21.0.2] (unknown [172.18.0.240]) by postal.iol.unh.edu (Postfix) with ESMTP id 6705D6051830; Wed, 8 Oct 2025 14:13:49 -0400 (EDT) Subject: |SUCCESS| pw157309 [PATCH] [v1,1/1] net/ice: fix memory leak in raw From: dpdklab@iol.unh.edu To: Test Report Cc: dpdk-test-reports@iol.unh.edu, Bruce Richardson In-Reply-To: <65bfe82e74867020982e2729f84a7c00a5690c5b.1759837052.git.anatoly.burakov@intel.com> References: <65bfe82e74867020982e2729f84a7c00a5690c5b.1759837052.git.anatoly.burakov@intel.com> Content-Type: text/plain X-BeenThere: test-report@dpdk.org X-Mailman-Version: 2.1.29 Precedence: list List-Id: automatic DPDK test reports List-Unsubscribe: , List-Archive: List-Post: List-Help: List-Subscribe: , Errors-To: test-report-bounces@dpdk.org Test-Label: iol-compile-arm64-testing Test-Status: SUCCESS http://dpdk.org/patch/157309 _Testing PASS_ Submitter: Burakov, Anatoly Date: Tuesday, October 07 2025 11:37:40 DPDK git baseline: Repo:dpdk-next-net-intel Branch: master CommitID:e7d8cc7ef4df3552575525697079d3c957cfcdaf 157309 --> testing pass Upstream job id: Generic-DPDK-Compile-Meson#432200 Test environment and result as below: +------------------------------+--------------------+ | Environment | dpdk_meson_compile | +==============================+====================+ | Red Hat Enterprise Linux 9.5 | PASS | +------------------------------+--------------------+ | Ubuntu 20.04 | PASS | +------------------------------+--------------------+ | Debian GNU/Linux 12 | PASS | +------------------------------+--------------------+ | Fedora Linux 42 | PASS | +------------------------------+--------------------+ | Ubuntu 22.04 | PASS | +------------------------------+--------------------+ | Ubuntu 24.04 | PASS | +------------------------------+--------------------+ | CentOS Stream 9 | PASS | +------------------------------+--------------------+ | CentOS Stream 10 | PASS | +------------------------------+--------------------+ Red Hat Enterprise Linux 9.5 Kernel: 5.4 Compiler: gcc gcc (GCC) 11.5.0 20240719 (Red Hat 11.5.0-2) Ubuntu 20.04 Kernel: 5.15 Compiler: aarch64-linux-gnu-gcc gcc (Ubuntu 9.4.0-1ubuntu1~20.04.2) 9.4.0 Debian GNU/Linux 12 Kernel: 5.4 Compiler: gcc gcc (Debian 12.2.0-14+deb12u1) 12.2.0 Fedora Linux 42 Kernel: 5.4 Compiler: gcc gcc (GCC) 15.2.1 20250808 (Red Hat 15.2.1-1) Ubuntu 22.04 Kernel: 5.4 Compiler: gcc gcc (Ubuntu 11.4.0-1ubuntu1~22.04) 11.4.0 Ubuntu 24.04 Kernel: 5.4 Compiler: gcc gcc (Ubuntu 13.3.0-6ubuntu2~24.04) 13.3.0 CentOS Stream 9 Kernel: 5.4 Compiler: gcc gcc (GCC) 11.5.0 20240719 (Red Hat 11.5.0-11) CentOS Stream 10 Kernel: 5.4 Compiler: gcc gcc (GCC) 14.2.1 20250110 (Red Hat 14.2.1-8) To view detailed results, visit: https://lab.dpdk.org/results/dashboard/patchsets/34227/ UNH-IOL DPDK Community Lab To manage your email subscriptions, visit: https://lab.dpdk.org/results/dashboard/preferences/subscriptions/