From mboxrd@z Thu Jan 1 00:00:00 1970 Return-Path: Received: from mails.dpdk.org (mails.dpdk.org [217.70.189.124]) by inbox.dpdk.org (Postfix) with ESMTP id 2F311488E6 for ; Wed, 8 Oct 2025 20:14:17 +0200 (CEST) Received: from mails.dpdk.org (localhost [127.0.0.1]) by mails.dpdk.org (Postfix) with ESMTP id 2A7BF40267; Wed, 8 Oct 2025 20:14:17 +0200 (CEST) Received: from mail-yw1-f226.google.com (mail-yw1-f226.google.com [209.85.128.226]) by mails.dpdk.org (Postfix) with ESMTP id A30B140267 for ; Wed, 8 Oct 2025 20:14:15 +0200 (CEST) Received: by mail-yw1-f226.google.com with SMTP id 00721157ae682-72ce9790ab3so1659647b3.1 for ; Wed, 08 Oct 2025 11:14:15 -0700 (PDT) DKIM-Signature: v=1; a=rsa-sha256; c=relaxed/relaxed; d=iol.unh.edu; s=unh-iol; t=1759947255; x=1760552055; darn=dpdk.org; h=references:in-reply-to:cc:to:from:subject:message-id:date:from:to :cc:subject:date:message-id:reply-to; bh=5VjBALDRLRxHwxzEvrJiuAMLhz4xhyiXkU5YPjXNgzU=; b=YlBwNm82xNrWeqFsq28d8vxNNeWLlEQj7Q2qG/iW+WtbyyycMajDsixcEutaXX6cm+ 84ShvAAC0sqHthjLcRZ2BspyDOkYbhV49fwssyxtAiBV/lnHJD7SZRuwmsT/6f5QjckF DHWVUmav8vpy9XG9HgjszK0cY9w4RU2QdoDuQ= X-Google-DKIM-Signature: v=1; a=rsa-sha256; c=relaxed/relaxed; d=1e100.net; s=20230601; t=1759947255; x=1760552055; h=references:in-reply-to:cc:to:from:subject:message-id:date :x-gm-message-state:from:to:cc:subject:date:message-id:reply-to; bh=5VjBALDRLRxHwxzEvrJiuAMLhz4xhyiXkU5YPjXNgzU=; b=csPnrDrby6YBP0y/98IjAV7GKw4pM3zkkFPWjPJ6GmSZmecwOZbZqzgX8L3VdPYVfl NEKjV7T6jQhRz32GETeEHIZ+Y6Uh0NVeLPxhql6BVHoxJdmXraNpiwqNNA4PXFjPShUb xrYVvg7qMxxKwKmBM703yP/izXkSHxbAlxOU/NcuiJ+OEZL/7JuXK7QyFyh4sL8Q4zjx 4Yjk49teCbn6hWgvNUrl92t5VQ6urrdG/nlhikuPrghUG8UbAO6eHUNP5ZYwIrjXkNZK DMIzccjUoETEcN+fc8Ukwbsyay5Y3agmUGqMsYH/YVt597ZooDs31EqBJDCPOyg5XhjU 3E0w== X-Gm-Message-State: AOJu0YzgQCU95sRdCHjZCrhMU4W7RzViY2bRHwwVb5PXHCvweYXcUEip qqbv6bvPasfQHlx74LnMfsOZwHOSM5otBh2+QOfT9Lq0BRW4/yqs8N40bkYTy8/edqC9vAUsOM5 64xpGqI3C1UfszEmaY4tEwphZR1hKjdcqw+scYo2Um/P45jRHMFO9wlqTsAT7 X-Gm-Gg: ASbGncsEnfLMVBWbJERoSDjkBSivmaXjL5gDAKGGmL8V76LMCccJICFl7K7Pbipn7lv aTPTm+IddWd0dD034lj4W+VlImDmo+lGNyxhJuL5KxtuoBfD3J2n0QhPaAOWBAxN0YewTP8Sib4 m6XAVpKjVrUSXoFRbzudw1fw3Hntb1qVIKGcl8l+6QD7W2fVrpfrmmclPwFhmYzaJVQPlIm/Oc4 /IWH8PZvYBR37H3yeYeNkC2mYq9I3UF6t83ImZUZ019CSOuPMuMFa0eW2zKl1KfYKvJea3yp5mc 3lJ4duta3pPeQrG4J8WL3aCba5arPotRY8LP/WwccpcLB8D+/WggvKU= X-Google-Smtp-Source: AGHT+IHxXki3LEYMGFXxznm1mnYuVIaqMvP+ZviX5i2WzjckUL5mWRmwBOfJw/hH9dy/Yq9CcZpHRPkIwe7O X-Received: by 2002:a53:ec0f:0:b0:636:a6de:9c50 with SMTP id 956f58d0204a3-63ccb8eeb70mr3209704d50.43.1759947254637; Wed, 08 Oct 2025 11:14:14 -0700 (PDT) Received: from postal.iol.unh.edu (postal.iol.unh.edu. [2606:4100:3880:1234::84]) by smtp-relay.gmail.com with ESMTPS id 956f58d0204a3-63cd951582csm22506d50.2.2025.10.08.11.14.14 (version=TLS1_2 cipher=ECDHE-ECDSA-AES128-GCM-SHA256 bits=128/128); Wed, 08 Oct 2025 11:14:14 -0700 (PDT) X-Relaying-Domain: iol.unh.edu Date: Wed, 08 Oct 2025 11:14:14 -0700 (PDT) Message-ID: <68e6a9f6.530a0220.261750.1500SMTPIN_ADDED_MISSING@mx.google.com> Received: from [172.21.0.3] (unknown [172.18.0.240]) by postal.iol.unh.edu (Postfix) with ESMTP id 520976051830; Wed, 8 Oct 2025 14:14:14 -0400 (EDT) Subject: |SUCCESS| pw157310-157311 [PATCH] [v2,2/2] net/ice: fix memory leak From: dpdklab@iol.unh.edu To: Test Report Cc: dpdk-test-reports@iol.unh.edu, Bruce Richardson In-Reply-To: <200ebf9129483347f6263f130e167ff7fa42e7c3.1759840924.git.anatoly.burakov@intel.com> References: <200ebf9129483347f6263f130e167ff7fa42e7c3.1759840924.git.anatoly.burakov@intel.com> Content-Type: text/plain X-BeenThere: test-report@dpdk.org X-Mailman-Version: 2.1.29 Precedence: list List-Id: automatic DPDK test reports List-Unsubscribe: , List-Archive: List-Post: List-Help: List-Subscribe: , Errors-To: test-report-bounces@dpdk.org Test-Label: iol-compile-arm64-testing Test-Status: SUCCESS http://dpdk.org/patch/157311 _Testing PASS_ Submitter: Burakov, Anatoly Date: Tuesday, October 07 2025 12:42:12 DPDK git baseline: Repo:dpdk-next-net-intel Branch: master CommitID:e7d8cc7ef4df3552575525697079d3c957cfcdaf 157310-157311 --> testing pass Upstream job id: Generic-DPDK-Compile-Meson#432208 Test environment and result as below: +------------------------------+--------------------+ | Environment | dpdk_meson_compile | +==============================+====================+ | Red Hat Enterprise Linux 9.5 | PASS | +------------------------------+--------------------+ | Ubuntu 20.04 | PASS | +------------------------------+--------------------+ | Debian GNU/Linux 12 | PASS | +------------------------------+--------------------+ | Fedora Linux 42 | PASS | +------------------------------+--------------------+ | Ubuntu 22.04 | PASS | +------------------------------+--------------------+ | Ubuntu 24.04 | PASS | +------------------------------+--------------------+ | CentOS Stream 9 | PASS | +------------------------------+--------------------+ | CentOS Stream 10 | PASS | +------------------------------+--------------------+ Red Hat Enterprise Linux 9.5 Kernel: 5.4 Compiler: gcc gcc (GCC) 11.5.0 20240719 (Red Hat 11.5.0-2) Ubuntu 20.04 Kernel: 5.15 Compiler: aarch64-linux-gnu-gcc gcc (Ubuntu 9.4.0-1ubuntu1~20.04.2) 9.4.0 Debian GNU/Linux 12 Kernel: 5.4 Compiler: gcc gcc (Debian 12.2.0-14+deb12u1) 12.2.0 Fedora Linux 42 Kernel: 5.4 Compiler: gcc gcc (GCC) 15.2.1 20250808 (Red Hat 15.2.1-1) Ubuntu 22.04 Kernel: 5.4 Compiler: gcc gcc (Ubuntu 11.4.0-1ubuntu1~22.04) 11.4.0 Ubuntu 24.04 Kernel: 5.4 Compiler: gcc gcc (Ubuntu 13.3.0-6ubuntu2~24.04) 13.3.0 CentOS Stream 9 Kernel: 5.4 Compiler: gcc gcc (GCC) 11.5.0 20240719 (Red Hat 11.5.0-11) CentOS Stream 10 Kernel: 5.4 Compiler: gcc gcc (GCC) 14.2.1 20250110 (Red Hat 14.2.1-8) To view detailed results, visit: https://lab.dpdk.org/results/dashboard/patchsets/34228/ UNH-IOL DPDK Community Lab To manage your email subscriptions, visit: https://lab.dpdk.org/results/dashboard/preferences/subscriptions/