From mboxrd@z Thu Jan 1 00:00:00 1970 Return-Path: Received: from mails.dpdk.org (mails.dpdk.org [217.70.189.124]) by inbox.dpdk.org (Postfix) with ESMTP id 74878488E6 for ; Wed, 8 Oct 2025 20:16:33 +0200 (CEST) Received: from mails.dpdk.org (localhost [127.0.0.1]) by mails.dpdk.org (Postfix) with ESMTP id 5BE6040267; Wed, 8 Oct 2025 20:16:33 +0200 (CEST) Received: from mail-io1-f100.google.com (mail-io1-f100.google.com [209.85.166.100]) by mails.dpdk.org (Postfix) with ESMTP id 9D65A40267 for ; Wed, 8 Oct 2025 20:16:31 +0200 (CEST) Received: by mail-io1-f100.google.com with SMTP id ca18e2360f4ac-93b9022d037so3101639f.2 for ; Wed, 08 Oct 2025 11:16:31 -0700 (PDT) DKIM-Signature: v=1; a=rsa-sha256; c=relaxed/relaxed; d=iol.unh.edu; s=unh-iol; t=1759947391; x=1760552191; darn=dpdk.org; h=references:in-reply-to:cc:to:from:subject:message-id:date:from:to :cc:subject:date:message-id:reply-to; bh=OlIyYxSOnCus0dYjXiutOx5mtOnTbo10ln4liIRizgc=; b=KNM0RgE0z0JLYhv7A7n/RX8iERuOzFc/8oCxgwQOAdtvbqXaVvBWjLB5nhkNtj+2aO rPWWx5XK7rAk+rou5/pvWuqunz7zQ/d/dj6wkaY7j9Klpm4hhKECpUoDU2M64u4qyRSQ iPQ/lhc/yW6V4d4Z7H5s0TiEsRbKAIyrknPqQ= X-Google-DKIM-Signature: v=1; a=rsa-sha256; c=relaxed/relaxed; d=1e100.net; s=20230601; t=1759947391; x=1760552191; h=references:in-reply-to:cc:to:from:subject:message-id:date :x-gm-message-state:from:to:cc:subject:date:message-id:reply-to; bh=OlIyYxSOnCus0dYjXiutOx5mtOnTbo10ln4liIRizgc=; b=XQp/80MQTnK+KvzkYn4DWwhXDLwR8QYPpZs4twDQh57j1+tQtgyyqzd+HbLgAWKCJQ hujpHLT5YY8jZNvWmSsR2i68WF6txi1bBk5KZRSQUlgYoXcO/clDGJo/WSAxMkyOJuyC xiC3Rfn9G6QWmiX7G24jaWSwIG1ygn+Wrou8Hc7fbYZAsKiUiGENo3k/fAWqCUSyKhHi w0zGre9aL3cdyyQsa+zfTTkHn6dZAUhSmU3ABvPtoyHgxDmXzvAkoOMisxiEOszhsLnQ u4eHtSn92hgo9vc6uplG5WmwQKKVXWkRn5jU7g3E8B1OLeSLU/HPrnjx7I6T+2PNR6eE cfZg== X-Gm-Message-State: AOJu0YxjINg6Nk7CCokXxasTF+Rmq/7Z/LHyhfRSw+TFpieVNP0ObWH3 t1keOX+CUtmm+tfbD1jHg555ppHMCBrnGMRGemS4BSi2ggV+PBLPcu1CEqHGH5zDdY/UvnYsN/d rOpI9U3zeEGLPx7muma+QbzDO/nb3ok9hPnVM+3IFxeU5X2qw7RbMWmZDLQrM X-Gm-Gg: ASbGncsGRaTEPZy+GhGrg0/+cT7TJCZ5p/4JfSO7uBFLsuaieETO8nFNn5gaI8cwzAi i3dJVotWn6IlLMeRcZG2BWOr27zDqdLpPGR8yBo118+WsRvMZ1NWYFdpFK8hH1z6Gz5KIxkOQq4 NY8aN95D3ehj/Ums+830mTxJmDgc/08jkbh79OoT+4sSYjh1RW+D7EdAj9xm+9L5Dsc9/1cH+yG heSPiUK4ri9F20wHjHvWy4RTCsgNshBqWxd2JY824VyEXvs3Ymg+McC4ZUJKMH/U7EW62z5qUoX GCEa9V4SOO5anpNuabyk4xPLA512sXdh+n1kZOehCUYLpcRoJeGj0gU= X-Google-Smtp-Source: AGHT+IGOlGT7CC+Afa+q8OTFIM/IK8E9jSZg2SaHnKwSYtEBmlw3iuv15b2BWXEidPxZ996tu9+IrqdM9Dby X-Received: by 2002:a05:6e02:164f:b0:42f:806b:c126 with SMTP id e9e14a558f8ab-42f873f23abmr34281065ab.25.1759947390767; Wed, 08 Oct 2025 11:16:30 -0700 (PDT) Received: from postal.iol.unh.edu (postal.iol.unh.edu. [2606:4100:3880:1234::84]) by smtp-relay.gmail.com with ESMTPS id e9e14a558f8ab-42f9031307esm274495ab.17.2025.10.08.11.16.30 (version=TLS1_2 cipher=ECDHE-ECDSA-AES128-GCM-SHA256 bits=128/128); Wed, 08 Oct 2025 11:16:30 -0700 (PDT) X-Relaying-Domain: iol.unh.edu Date: Wed, 08 Oct 2025 11:16:30 -0700 (PDT) Message-ID: <68e6aa7e.920a0220.1b7822.19d3SMTPIN_ADDED_MISSING@mx.google.com> Received: from [172.21.0.4] (unknown [172.18.0.240]) by postal.iol.unh.edu (Postfix) with ESMTP id 4ADDD6051830; Wed, 8 Oct 2025 14:16:30 -0400 (EDT) Subject: |SUCCESS| pw157312 [PATCH] [v2] net/virtio-user: fix used ring addre From: dpdklab@iol.unh.edu To: Test Report Cc: dpdk-test-reports@iol.unh.edu, Chenbo Xia , Maxime Coquelin In-Reply-To: <20251007144754.1690606-1-maxime.coquelin@redhat.com> References: <20251007144754.1690606-1-maxime.coquelin@redhat.com> Content-Type: text/plain X-BeenThere: test-report@dpdk.org X-Mailman-Version: 2.1.29 Precedence: list List-Id: automatic DPDK test reports List-Unsubscribe: , List-Archive: List-Post: List-Help: List-Subscribe: , Errors-To: test-report-bounces@dpdk.org Test-Label: iol-compile-arm64-testing Test-Status: SUCCESS http://dpdk.org/patch/157312 _Testing PASS_ Submitter: Maxime Coquelin Date: Tuesday, October 07 2025 14:47:54 DPDK git baseline: Repo:dpdk-next-virtio Branch: master CommitID:4159ea62922ce41566c7bab44655ad78bee85458 157312 --> testing pass Upstream job id: Generic-DPDK-Compile-Meson#432247 Test environment and result as below: +------------------------------+--------------------+ | Environment | dpdk_meson_compile | +==============================+====================+ | Red Hat Enterprise Linux 9.5 | PASS | +------------------------------+--------------------+ | Ubuntu 20.04 | PASS | +------------------------------+--------------------+ | Debian GNU/Linux 12 | PASS | +------------------------------+--------------------+ | Fedora Linux 42 | PASS | +------------------------------+--------------------+ | Ubuntu 22.04 | PASS | +------------------------------+--------------------+ | Ubuntu 24.04 | PASS | +------------------------------+--------------------+ | CentOS Stream 9 | PASS | +------------------------------+--------------------+ | CentOS Stream 10 | PASS | +------------------------------+--------------------+ Red Hat Enterprise Linux 9.5 Kernel: 5.4 Compiler: gcc gcc (GCC) 11.5.0 20240719 (Red Hat 11.5.0-2) Ubuntu 20.04 Kernel: 5.15 Compiler: aarch64-linux-gnu-gcc gcc (Ubuntu 9.4.0-1ubuntu1~20.04.2) 9.4.0 Debian GNU/Linux 12 Kernel: 5.4 Compiler: gcc gcc (Debian 12.2.0-14+deb12u1) 12.2.0 Fedora Linux 42 Kernel: 5.4 Compiler: gcc gcc (GCC) 15.2.1 20250808 (Red Hat 15.2.1-1) Ubuntu 22.04 Kernel: 5.4 Compiler: gcc gcc (Ubuntu 11.4.0-1ubuntu1~22.04) 11.4.0 Ubuntu 24.04 Kernel: 5.4 Compiler: gcc gcc (Ubuntu 13.3.0-6ubuntu2~24.04) 13.3.0 CentOS Stream 9 Kernel: 5.4 Compiler: gcc gcc (GCC) 11.5.0 20240719 (Red Hat 11.5.0-11) CentOS Stream 10 Kernel: 5.4 Compiler: gcc gcc (GCC) 14.2.1 20250110 (Red Hat 14.2.1-8) To view detailed results, visit: https://lab.dpdk.org/results/dashboard/patchsets/34229/ UNH-IOL DPDK Community Lab To manage your email subscriptions, visit: https://lab.dpdk.org/results/dashboard/preferences/subscriptions/