From mboxrd@z Thu Jan 1 00:00:00 1970 Return-Path: Received: from mails.dpdk.org (mails.dpdk.org [217.70.189.124]) by inbox.dpdk.org (Postfix) with ESMTP id B9F5B488E6 for ; Wed, 8 Oct 2025 20:18:47 +0200 (CEST) Received: from mails.dpdk.org (localhost [127.0.0.1]) by mails.dpdk.org (Postfix) with ESMTP id 9EE1840267; Wed, 8 Oct 2025 20:18:47 +0200 (CEST) Received: from mail-pg1-f228.google.com (mail-pg1-f228.google.com [209.85.215.228]) by mails.dpdk.org (Postfix) with ESMTP id 41E8340267 for ; Wed, 8 Oct 2025 20:18:46 +0200 (CEST) Received: by mail-pg1-f228.google.com with SMTP id 41be03b00d2f7-b5526b7c54eso55729a12.0 for ; Wed, 08 Oct 2025 11:18:46 -0700 (PDT) DKIM-Signature: v=1; a=rsa-sha256; c=relaxed/relaxed; d=iol.unh.edu; s=unh-iol; t=1759947525; x=1760552325; darn=dpdk.org; h=references:in-reply-to:cc:to:from:subject:message-id:date:from:to :cc:subject:date:message-id:reply-to; bh=OiTWPvXULiebzK9zK6WbUTw5QAqKVCx0njOthQ9lkYc=; b=YBaLOOWXyCtnB3P0D7D6JDuMfakTbc/4EVW7Q9SdvWj085TW/c0xDeAgoSV9Ud1pla 4RzE9h0zIAs5cQNF5fUdSGJ6vWcDNGHZP0lYS6/cOvB/nDha/1Y+MqOrT7riCSwWl4vW ntgVus7mgD+vw4rnUyjbzmpOSsk63hyYAKLGE= X-Google-DKIM-Signature: v=1; a=rsa-sha256; c=relaxed/relaxed; d=1e100.net; s=20230601; t=1759947525; x=1760552325; h=references:in-reply-to:cc:to:from:subject:message-id:date :x-gm-message-state:from:to:cc:subject:date:message-id:reply-to; bh=OiTWPvXULiebzK9zK6WbUTw5QAqKVCx0njOthQ9lkYc=; b=MQiDqEjDPLoithtHTrtwktrwuNtQFdI9nQ0Im4OXDrbSzaBWelJeTRqowA9E74zRmr Qw+MwLEZ3vO17e93FGYJfp3mcr0zf4hry3Qp19dzPkuRyC8GaEr3zh3YSlpFKT7K9YyI Oz46l87XjigW/goWDWdmVr+suJ/MSJhx6bbBVYYnudoraK1M68RaAyVPNascCI3oi0+t hu8ZAUX9tpMe8n+Ws8riA656/cXTTATg3ijFKnuS98x7l52QwICyk2SQklX5hQeAMMWQ 0ifa8cPZIEL/Dhno1wsubzub69doB5ZHtbKb0zBa2C00gaINZd+cHNEdwralfwrIBgJs TBJA== X-Gm-Message-State: AOJu0YzrezotJJxNuSZgbn2LLlklKVoGQJF2H2NE3/ZImgr+9GJlWUid 0EiEh+EhfaCa+M9sicMZmJ8H6412e33G1RPMUOkoCeM8V5hWa498mQ2U3Mj6F9atm3ImPIILx3Z o6ByBeR5QF7L4QJtPWTI8OobI+PKBpy164Rlef8fdTjbG X-Gm-Gg: ASbGncseFYW82A6G6oqs56O9gb6RkGWqQsVmGVU9fTw7zvVyhGyEcqESwutNZIAzvms tEvnf+yDilspvsXPPNvE8+GH3lMU60ktHiJchjNee8iyT/v0YnZMsaGAg6lwi6Xdw4V/ff8sbn1 wHswz7pYLxWsBDJ1ycszgJ1LyEZH1uf5YjcDr4y6pgx3MYa5KrVv8m99KdwhCOxrRHRpKkiwyw5 9DM3LcqEIZ0/LBt4jQGuX7tOF9uWxVHC2wdk9vrk9HdRJYTKBKL3kF08onik4T0tLNCCUMKCFKE SUvGwwplWCW4spGWoDEonyTyY9nzwo+iFryueexuw8uOc/8WH00klyZNw+fqknVWjV75dCBMqM4 b0g== X-Google-Smtp-Source: AGHT+IEtcfR2Nf9lA43fNJDihwCVQ1AeY7yuNtUjIIw/WqUo8o6aqlhAL6MsHSgtRs01alZsoOPkZaonuGBV X-Received: by 2002:a17:902:d58b:b0:24c:a269:b6d5 with SMTP id d9443c01a7336-290270ed91dmr57530085ad.0.1759947525371; Wed, 08 Oct 2025 11:18:45 -0700 (PDT) Received: from postal.iol.unh.edu (postal.iol.unh.edu. [132.177.123.84]) by smtp-relay.gmail.com with ESMTPS id d9443c01a7336-29034eee5f0sm349985ad.34.2025.10.08.11.18.45 (version=TLS1_2 cipher=ECDHE-ECDSA-AES128-GCM-SHA256 bits=128/128); Wed, 08 Oct 2025 11:18:45 -0700 (PDT) X-Relaying-Domain: iol.unh.edu Date: Wed, 08 Oct 2025 11:18:45 -0700 (PDT) Message-ID: <68e6ab05.170a0220.11dd74.1f63SMTPIN_ADDED_MISSING@mx.google.com> Received: from [172.21.0.3] (unknown [172.18.0.240]) by postal.iol.unh.edu (Postfix) with ESMTP id 919366051830; Wed, 8 Oct 2025 14:18:44 -0400 (EDT) Subject: |SUCCESS| pw157303 [PATCH] net/idpf: correct the enum constant name From: dpdklab@iol.unh.edu To: Test Report Cc: dpdk-test-reports@iol.unh.edu, Bruce Richardson In-Reply-To: <20251007040436.2924355-1-shaiq.wani@intel.com> References: <20251007040436.2924355-1-shaiq.wani@intel.com> Content-Type: text/plain X-BeenThere: test-report@dpdk.org X-Mailman-Version: 2.1.29 Precedence: list List-Id: automatic DPDK test reports List-Unsubscribe: , List-Archive: List-Post: List-Help: List-Subscribe: , Errors-To: test-report-bounces@dpdk.org Test-Label: iol-compile-arm64-testing Test-Status: SUCCESS http://dpdk.org/patch/157303 _Testing PASS_ Submitter: Shaiq Wani Date: Tuesday, October 07 2025 04:04:36 DPDK git baseline: Repo:dpdk-next-net-intel Branch: master CommitID:e7d8cc7ef4df3552575525697079d3c957cfcdaf 157303 --> testing pass Upstream job id: Generic-DPDK-Compile-Meson#432146 Test environment and result as below: +------------------------------+--------------------+ | Environment | dpdk_meson_compile | +==============================+====================+ | CentOS Stream 10 | PASS | +------------------------------+--------------------+ | Red Hat Enterprise Linux 9.5 | PASS | +------------------------------+--------------------+ | Ubuntu 20.04 | PASS | +------------------------------+--------------------+ | Debian GNU/Linux 12 | PASS | +------------------------------+--------------------+ | Fedora Linux 42 | PASS | +------------------------------+--------------------+ | Ubuntu 22.04 | PASS | +------------------------------+--------------------+ | Ubuntu 24.04 | PASS | +------------------------------+--------------------+ | CentOS Stream 9 | PASS | +------------------------------+--------------------+ CentOS Stream 10 Kernel: 5.4 Compiler: gcc gcc (GCC) 14.2.1 20250110 (Red Hat 14.2.1-8) Red Hat Enterprise Linux 9.5 Kernel: 5.4 Compiler: gcc gcc (GCC) 11.5.0 20240719 (Red Hat 11.5.0-2) Ubuntu 20.04 Kernel: 5.15 Compiler: aarch64-linux-gnu-gcc gcc (Ubuntu 9.4.0-1ubuntu1~20.04.2) 9.4.0 Debian GNU/Linux 12 Kernel: 5.4 Compiler: gcc gcc (Debian 12.2.0-14+deb12u1) 12.2.0 Fedora Linux 42 Kernel: 5.4 Compiler: gcc gcc (GCC) 15.2.1 20250808 (Red Hat 15.2.1-1) Ubuntu 22.04 Kernel: 5.4 Compiler: gcc gcc (Ubuntu 11.4.0-1ubuntu1~22.04) 11.4.0 Ubuntu 24.04 Kernel: 5.4 Compiler: gcc gcc (Ubuntu 13.3.0-6ubuntu2~24.04) 13.3.0 CentOS Stream 9 Kernel: 5.4 Compiler: gcc gcc (GCC) 11.5.0 20240719 (Red Hat 11.5.0-11) To view detailed results, visit: https://lab.dpdk.org/results/dashboard/patchsets/34225/ UNH-IOL DPDK Community Lab To manage your email subscriptions, visit: https://lab.dpdk.org/results/dashboard/preferences/subscriptions/