From mboxrd@z Thu Jan 1 00:00:00 1970 Return-Path: Received: from mails.dpdk.org (mails.dpdk.org [217.70.189.124]) by inbox.dpdk.org (Postfix) with ESMTP id BDB96488E6 for ; Wed, 8 Oct 2025 20:38:11 +0200 (CEST) Received: from mails.dpdk.org (localhost [127.0.0.1]) by mails.dpdk.org (Postfix) with ESMTP id 98D7D40267; Wed, 8 Oct 2025 20:38:11 +0200 (CEST) Received: from mail-pj1-f100.google.com (mail-pj1-f100.google.com [209.85.216.100]) by mails.dpdk.org (Postfix) with ESMTP id C44D940267 for ; Wed, 8 Oct 2025 20:38:09 +0200 (CEST) Received: by mail-pj1-f100.google.com with SMTP id 98e67ed59e1d1-3324523dfb2so234744a91.0 for ; Wed, 08 Oct 2025 11:38:09 -0700 (PDT) DKIM-Signature: v=1; a=rsa-sha256; c=relaxed/relaxed; d=iol.unh.edu; s=unh-iol; t=1759948689; x=1760553489; darn=dpdk.org; h=cc:to:from:subject:message-id:date:from:to:cc:subject:date :message-id:reply-to; bh=gLH2V5x6U8vy7MX6Ikp+H0eF01uyfkiq3WpTaD6SK2U=; b=hPRaemVNmV1Ei2egkzfWQLH+G16YHPVc67TJmjn5iIXs/sSP/KHRQBcDQVi6MtUooq BjhG4dawyh6/nVv+RJP8Z8pXO7wtjV8rn076ZCvohQYoLLEACpk9YYfW19OTlB2qNLBd xr5PtSofC3jFQrP5xeXoEJrDPOOjgWMpAvg/s= X-Google-DKIM-Signature: v=1; a=rsa-sha256; c=relaxed/relaxed; d=1e100.net; s=20230601; t=1759948689; x=1760553489; h=cc:to:from:subject:message-id:date:x-gm-message-state:from:to:cc :subject:date:message-id:reply-to; bh=gLH2V5x6U8vy7MX6Ikp+H0eF01uyfkiq3WpTaD6SK2U=; b=YFmRCF2KWDC7ht/X5NaONhSTkjxjaRTHHyUw2iTFHFcNaBgnW5IKA9a86dukW0Vtwr AbhhVqUvJ5oPdR6ONELeosn1xgIBdijU16DCh77NTo0X8s9cOvDwosJnGXbxZkjcBEDg 0H7oG6u1N41IJbl3AldienVF6Vv1UJjom35iUB6YPni9h1HLaxQpQRRu+3fG776TK4CT IL65HecCwfL+jB1vOnrNaeq/DvoRwG6iPZZvRgk53zr4XBbFYARmKZqVfgQ+NvUemuIZ OOAgCfMrgPH96sPLj+Ynl/mDKVMOgJq+KsEERaj0llmjTiwP90NLO9oheXIEKRr+AH9q mR9w== X-Gm-Message-State: AOJu0YzmMKXNCHCe5rRXROdCyrcKZ7dzMNb8dRem5M+aW9WNL+dLyd3p ZRNqyi8ybfydZrBSEzA3qZJajVna8oyK6e3/bKjc9sJCBnD2NJ7y/KzdX3q3nZ6nfucPsp1F0Jt yTlRleacV9dSJ+NRlYEEdpPB80ZGNtGWIShca X-Gm-Gg: ASbGncvKrI1g2KQxOgFTptnz0FduhVN5JEBObXD9B0tmLNcSupqNHr2CkhZ7CdDHggM picR1svknOP1yYvGHF8Z4k08S4ljAOfkjNx0/WM8gIrzdUEw1ao1JfC8TPVi5R2rPUSAjdjL0bS I62aAaKv/Hy1y6EkDiwGtSVp3LowYbZa40Q24eD1l4uwI+8q9C7SbSqefwhJyk/QYdXCeaqGBa/ UuWIxVzHj6QB7lBu0zmpCQ4eFv0vISCQFtmycCT3ug5w46igFHVnBmqV75jspPXIhM7MwAJdZMY U9D2AAXBehdnMBHleihu+WphR8gt1skCiX8TcEwqvF2HjwMBrpOuNAjgD65btTPV9aBMEz/C6l2 Smg== X-Google-Smtp-Source: AGHT+IETIwfN6TJjZb84rEfLqgvmSIMlkc68MthOcBhOGhKZ0KtORA7tOuFL4+eouDpvRBqQyWQp72UuGSSz X-Received: by 2002:a17:90b:1e4b:b0:330:72fb:ac13 with SMTP id 98e67ed59e1d1-33b51125511mr5602308a91.5.1759948688844; Wed, 08 Oct 2025 11:38:08 -0700 (PDT) Received: from postal.iol.unh.edu (postal.iol.unh.edu. [132.177.123.84]) by smtp-relay.gmail.com with ESMTPS id 98e67ed59e1d1-33b50efe074sm332511a91.0.2025.10.08.11.38.08 (version=TLS1_2 cipher=ECDHE-ECDSA-AES128-GCM-SHA256 bits=128/128); Wed, 08 Oct 2025 11:38:08 -0700 (PDT) X-Relaying-Domain: iol.unh.edu Date: Wed, 08 Oct 2025 11:38:08 -0700 (PDT) Message-ID: <68e6af90.170a0220.26b6c6.1498SMTPIN_ADDED_MISSING@mx.google.com> Received: from [172.21.0.3] (unknown [172.18.0.240]) by postal.iol.unh.edu (Postfix) with ESMTP id 1C8F9604D420; Wed, 8 Oct 2025 14:38:08 -0400 (EDT) Subject: |SUCCESS| [GIT MASTER] b287e404643aeab5bb5db084c142789df187844e From: dpdklab@iol.unh.edu To: Test Report Cc: dpdk-test-reports@iol.unh.edu, Xueming Li , Christian Ehrhardt , Kevin Traynor , Luca Boccassi Content-Type: text/plain X-BeenThere: test-report@dpdk.org X-Mailman-Version: 2.1.29 Precedence: list List-Id: automatic DPDK test reports List-Unsubscribe: , List-Archive: List-Post: List-Help: List-Subscribe: , Errors-To: test-report-bounces@dpdk.org _Testing PASS_ Branch: tags/v24.11 b287e404643aeab5bb5db084c142789df187844e --> testing pass Upstream job id: Generic-DPDK-Compile-Meson#432439 Test environment and result as below: +---------------------+--------------------+-------------------+-------------------------+----------------------+-------------------+ | Environment | dpdk_meson_compile | dpdk_msvc_compile | dpdk_llvm_clang_compile | dpdk_mingw64_compile | dpdk_compile_spdk | +=====================+====================+===================+=========================+======================+===================+ | Ubuntu 20.04 | PASS | SKIPPED | SKIPPED | SKIPPED | SKIPPED | +---------------------+--------------------+-------------------+-------------------------+----------------------+-------------------+ | FreeBSD 14.2 | PASS | SKIPPED | SKIPPED | SKIPPED | SKIPPED | +---------------------+--------------------+-------------------+-------------------------+----------------------+-------------------+ | CentOS Stream 9 | PASS | SKIPPED | SKIPPED | SKIPPED | PASS | +---------------------+--------------------+-------------------+-------------------------+----------------------+-------------------+ | CentOS Stream 10 | PASS | SKIPPED | SKIPPED | SKIPPED | SKIPPED | +---------------------+--------------------+-------------------+-------------------------+----------------------+-------------------+ | Windows Server 2022 | SKIPPED | PASS | PASS | PASS | SKIPPED | +---------------------+--------------------+-------------------+-------------------------+----------------------+-------------------+ Ubuntu 20.04 Kernel: 4.19 Compiler: gcc gcc (Ubuntu 9.4.0-1ubuntu1~20.04.2) 9.4.0 FreeBSD 14.2 Kernel: 14.2-RELEASE Compiler: clang 18.1.6 CentOS Stream 9 Kernel: 5.15 Compiler: gcc gcc (GCC) 11.5.0 20240719 (Red Hat 11.5.0-11) CentOS Stream 10 Kernel: 5.15 Compiler: gcc gcc (GCC) 14.2.1 20250110 (Red Hat 14.2.1-8) Windows Server 2022 Kernel: 10.0.20348.2031 Compiler: clang 15.0.7, gcc 14.1.0 (MinGW), and MSVC VS 19.39.33521 To view detailed results, visit: https://lab.dpdk.org/results/dashboard/tarballs/35138/ UNH-IOL DPDK Community Lab To manage your email subscriptions, visit: https://lab.dpdk.org/results/dashboard/preferences/subscriptions/