From mboxrd@z Thu Jan 1 00:00:00 1970 Return-Path: Received: from mails.dpdk.org (mails.dpdk.org [217.70.189.124]) by inbox.dpdk.org (Postfix) with ESMTP id D7EDF488E6 for ; Wed, 8 Oct 2025 20:52:10 +0200 (CEST) Received: from mails.dpdk.org (localhost [127.0.0.1]) by mails.dpdk.org (Postfix) with ESMTP id CDB0A40267; Wed, 8 Oct 2025 20:52:10 +0200 (CEST) Received: from mail-qt1-f228.google.com (mail-qt1-f228.google.com [209.85.160.228]) by mails.dpdk.org (Postfix) with ESMTP id 3504440267 for ; Wed, 8 Oct 2025 20:52:09 +0200 (CEST) Received: by mail-qt1-f228.google.com with SMTP id d75a77b69052e-4dc4afb9e1cso12096081cf.0 for ; Wed, 08 Oct 2025 11:52:09 -0700 (PDT) DKIM-Signature: v=1; a=rsa-sha256; c=relaxed/relaxed; d=iol.unh.edu; s=unh-iol; t=1759949528; x=1760554328; darn=dpdk.org; h=cc:to:from:subject:message-id:date:from:to:cc:subject:date :message-id:reply-to; bh=kJOOtYPRvNjcyWgqXwWBZoMjfGyMLUY3cEYSi1wYesA=; b=MrzyCfLFlby23s53PmCNAuRedVwENbYblxY6WghlToye0YmPm7HScdwNLWMZhjOFHL l4qMNwz2stfm2ms9WMUplDQOy+x4s3Lbgn94YxJwQ4EFTHPt/QUpXpCEmHwK5d4gODVi 3CIuEM6b5AKkkYIAHfyu3+7nKg1nOsOqT8uN0= X-Google-DKIM-Signature: v=1; a=rsa-sha256; c=relaxed/relaxed; d=1e100.net; s=20230601; t=1759949528; x=1760554328; h=cc:to:from:subject:message-id:date:x-gm-message-state:from:to:cc :subject:date:message-id:reply-to; bh=kJOOtYPRvNjcyWgqXwWBZoMjfGyMLUY3cEYSi1wYesA=; b=a1oauFYDXTxV06nueimjVmkhWy1YfqojPmSYOIc2AIiWbRimkmwHK79SQx6CnzUj+R E4CyTVjIH9l+1Ce6MUPELuGmQ3ctajqkcgawYzdHWwWdms8ZltwXo56VmxsY2RUM+skq DuARVHRZry4vPKbux61eCRTbJzDYuLt2XqwLZKdBJAg7Bob4VRhMUkZlmoxUXIDLip6f 6tbQUAp6Ezx8q4JqkNwll2K573HBIWlnhL9szT3HcWEObaKNQdwsSaQhYrect7iQBdM9 S94+ytEGnMF4vTifacoXxeldVrLbacc6ws91jA9GWbiUVgn7WMwRRTYFTubz5q6zK5yy XzYA== X-Gm-Message-State: AOJu0YxI58lG1TM6BNQy0posnyoh8LTa3OS4oxk67lOl8fld9Mr84tNA aQnlSAKtDqr5sFeDKgrfVUDjmkMztopEbQr7qhhYy/WpAxcoBVJu/LFZ7ajmk48M6OhgIPsEsOt LqmCW3MjFSXKTL+TMxpxk5U6J0xcYQdsg0jCd8na0UPAsDOHE1+3+ X-Gm-Gg: ASbGncvHq9h5w9/NP64x7kpy2UIq/vsuUTGrUXn9+t5Hem2Kf3Pfp2bgk2gMtyeaELP 0jOAvqChjNh4yorJXVad8bE/jJcabaZyCz+NESjTV3JjxGGRG118wdV48WGWVW1fu61LzPPSJv5 OfnlcBf7teRggx6xQCCQzEG4bx7cC7SMPPJteL0b7ItdIcr9ngVAZfDXDWYGBcaQ3ZOrNEt8ZK2 s/99FLFNc57e7E1EDXnRz2bEjo3gVpEg1r8kMQwUqI9vI8Ue19VJrXS2S1Z/aJOuUt/xwHoEPRs VviJJP3DSvr9Ma2QXlyPYh1JEJKsQC8Rj+ICVNGmGh9OnphereBONMw= X-Google-Smtp-Source: AGHT+IFUCRm27miYUyCaan8iWyrNG9FQ92Zcacem6djpp8vACtWGIwXG4KDR1Vx4u8+6x9Rpphho4lDPZUt/ X-Received: by 2002:ac8:5801:0:b0:4b7:aa31:3c4c with SMTP id d75a77b69052e-4e6eb068d54mr61351531cf.38.1759949528596; Wed, 08 Oct 2025 11:52:08 -0700 (PDT) Received: from postal.iol.unh.edu (postal.iol.unh.edu. [2606:4100:3880:1234::84]) by smtp-relay.gmail.com with ESMTPS id d75a77b69052e-4e55c9e3ab7sm7255051cf.11.2025.10.08.11.52.08 (version=TLS1_2 cipher=ECDHE-ECDSA-AES128-GCM-SHA256 bits=128/128); Wed, 08 Oct 2025 11:52:08 -0700 (PDT) X-Relaying-Domain: iol.unh.edu Date: Wed, 08 Oct 2025 11:52:08 -0700 (PDT) Message-ID: <68e6b2d8.050a0220.1542d5.6230SMTPIN_ADDED_MISSING@mx.google.com> Received: from [172.21.0.2] (unknown [172.18.0.240]) by postal.iol.unh.edu (Postfix) with ESMTP id 51717604D420; Wed, 8 Oct 2025 14:52:08 -0400 (EDT) Subject: |SUCCESS| [GIT MASTER] 3b43ce3f4a54468e7ef65760c2fd7b4d6ee6d9fc From: dpdklab@iol.unh.edu To: Test Report Cc: dpdk-test-reports@iol.unh.edu, Xueming Li , Christian Ehrhardt , Kevin Traynor , Luca Boccassi Content-Type: text/plain X-BeenThere: test-report@dpdk.org X-Mailman-Version: 2.1.29 Precedence: list List-Id: automatic DPDK test reports List-Unsubscribe: , List-Archive: List-Post: List-Help: List-Subscribe: , Errors-To: test-report-bounces@dpdk.org _Testing PASS_ Branch: tags/v22.11 3b43ce3f4a54468e7ef65760c2fd7b4d6ee6d9fc --> testing pass Upstream job id: Generic-Unit-Test-DPDK#379389 Test environment and result as below: +-----------------+---------------------------+--------------+------------------------------+----------------+ | Environment | cryptodev_sw_zuc_autotest | lpm_autotest | cryptodev_sw_snow3g_autotest | dpdk_unit_test | +=================+===========================+==============+==============================+================+ | Debian 12 (arm) | PASS | SKIPPED | PASS | SKIPPED | +-----------------+---------------------------+--------------+------------------------------+----------------+ | Ubuntu 20.04 | SKIPPED | PASS | SKIPPED | SKIPPED | +-----------------+---------------------------+--------------+------------------------------+----------------+ | Ubuntu 22.04 | SKIPPED | SKIPPED | SKIPPED | PASS | +-----------------+---------------------------+--------------+------------------------------+----------------+ Debian 12 (arm) Kernel: Depends on container host Compiler: gcc (Debian 12.2.0-14) 12.2.0 Ubuntu 20.04 Kernel: 5.4 Compiler: gcc gcc (Ubuntu 9.4.0-1ubuntu1~20.04.2) 9.4.0 Ubuntu 22.04 Kernel: 5.15 Compiler: gcc gcc (Ubuntu 11.4.0-1ubuntu1~22.04.2) 11.4.0 To view detailed results, visit: https://lab.dpdk.org/results/dashboard/tarballs/35139/ UNH-IOL DPDK Community Lab To manage your email subscriptions, visit: https://lab.dpdk.org/results/dashboard/preferences/subscriptions/