From mboxrd@z Thu Jan 1 00:00:00 1970 Return-Path: Received: from mails.dpdk.org (mails.dpdk.org [217.70.189.124]) by inbox.dpdk.org (Postfix) with ESMTP id D01F7488E6 for ; Wed, 8 Oct 2025 21:02:03 +0200 (CEST) Received: from mails.dpdk.org (localhost [127.0.0.1]) by mails.dpdk.org (Postfix) with ESMTP id B097240267; Wed, 8 Oct 2025 21:02:03 +0200 (CEST) Received: from mail-yx1-f97.google.com (mail-yx1-f97.google.com [74.125.224.97]) by mails.dpdk.org (Postfix) with ESMTP id A900340267 for ; Wed, 8 Oct 2025 21:02:01 +0200 (CEST) Received: by mail-yx1-f97.google.com with SMTP id 956f58d0204a3-633bca5451cso253977d50.1 for ; Wed, 08 Oct 2025 12:02:01 -0700 (PDT) DKIM-Signature: v=1; a=rsa-sha256; c=relaxed/relaxed; d=iol.unh.edu; s=unh-iol; t=1759950121; x=1760554921; darn=dpdk.org; h=cc:to:from:subject:message-id:date:from:to:cc:subject:date :message-id:reply-to; bh=zyR+lWnLsFups29bNbWYWZP0aLcmiUo84RFITymFph8=; b=VmzM5C5l3bRkk25t4d/vTBte1/yS1TJtTvpQ76bHRS8vrDrkwJmCuK6gHCMNEoWN2v AVYk1+YviMLZEc3pSx9nXmooH/RgoXLTZ0x7RKsvhL8/RaCgI2fhzC8akAyh0bZNsoH2 Ks/6W5z6KRPZUsTG6Bc0xbKZsLK+0QNt7OLQA= X-Google-DKIM-Signature: v=1; a=rsa-sha256; c=relaxed/relaxed; d=1e100.net; s=20230601; t=1759950121; x=1760554921; h=cc:to:from:subject:message-id:date:x-gm-message-state:from:to:cc :subject:date:message-id:reply-to; bh=zyR+lWnLsFups29bNbWYWZP0aLcmiUo84RFITymFph8=; b=N8+pwcIG6nJqnxp7YdLeYwJSzlJ8XCWG9M8mT6Ca7VIPKgucUESnvSP927Uc8isSv8 GAni5zfm2a18hFlQklCBmBFzdBSad8nZtB4HwId2skBU9GH/hkCmg/tkyNRAPYSdIWkD nqMcuu5NfX1yUremh+LDw2dK/PyYOXngVGiLK5q8mVt1WdenVpFP8yp1bz8Sa1m4GgJ0 uKQ4kXmsdpd/Iw/48G6uw9u2IGvvY867ddbx8FT6Wsp4FebkQfxodogt+x7OFrl/v1tC Eok3+d577dONTWSyQf/t3jdhYZutZOUnIkib/zsQnJFOCI/tN1T58U207rrfMjxDXLjB kztw== X-Gm-Message-State: AOJu0YyhbvAInpErvbSNcj9UV1h95qNztPnL93YRUpRCqNa/kUdbE5hz O9ZzpZfHxYfztiUwLGS0UnFxSQVBGdnF3EsW19Cy7f0v68KlVBlgj5sBNkEY4tCGmghyCdA3Y+C 81ygpX5Myqik348sAg6GNp8tNqOfVsecBLHEk X-Gm-Gg: ASbGnctIwhQ6p+GAEuLULfAFuyxk2YeIPwwjOhGKX7ec7A8Wq+/5Byu/2eM5y5JF6Ch Ate2XKYFLGkVj7jirqGzbh7YZN26bkK3N8jGvrGgClyjCsex/mhGIeuiGbSMaVj6/scYaOg88RR i5udeA/13yRrPwTZ02pEsu2e4QvzfNqspdnvNlRZIHCS96swXnooKTJwgBLQf4DbqEXmoJ4PS2y 9EB5bfbTyjq3bI6AWjWRIeCxw8ID8BtTgQw9cKIugbRKtDGhAsGcI2wbWrQPg7bC0iIUVObYoh6 JRGHOUyme0140PpCOJ2m+u2NwKYbkQ92G4kfM8d3notcuHgrwvqf9vQoWQBkx4J2zc0nTtIFJ5Q YgQ== X-Google-Smtp-Source: AGHT+IEf6NYKSBzfxfvvtpLmrrAUIk+JDiMg+fNpvvDj3a1smmvYAHnmsaQXxhjlIZW2gIPUopBvTqTX9GDX X-Received: by 2002:a05:690e:1554:10b0:631:fff6:ccf6 with SMTP id 956f58d0204a3-63ccb8d8334mr3936275d50.28.1759950117842; Wed, 08 Oct 2025 12:01:57 -0700 (PDT) Received: from postal.iol.unh.edu (postal.iol.unh.edu. [132.177.123.84]) by smtp-relay.gmail.com with ESMTPS id 00721157ae682-77f81c39d9fsm11908087b3.13.2025.10.08.12.01.57 (version=TLS1_2 cipher=ECDHE-ECDSA-AES128-GCM-SHA256 bits=128/128); Wed, 08 Oct 2025 12:01:57 -0700 (PDT) X-Relaying-Domain: iol.unh.edu Date: Wed, 08 Oct 2025 12:01:57 -0700 (PDT) Message-ID: <68e6b525.050a0220.50e5d.09e5SMTPIN_ADDED_MISSING@mx.google.com> Received: from [172.21.0.2] (unknown [172.18.0.240]) by postal.iol.unh.edu (Postfix) with ESMTP id 700EB6051830; Wed, 8 Oct 2025 15:01:57 -0400 (EDT) Subject: |SUCCESS| [GIT MASTER] 3b43ce3f4a54468e7ef65760c2fd7b4d6ee6d9fc From: dpdklab@iol.unh.edu To: Test Report Cc: dpdk-test-reports@iol.unh.edu, Xueming Li , Christian Ehrhardt , Kevin Traynor , Luca Boccassi Content-Type: text/plain X-BeenThere: test-report@dpdk.org X-Mailman-Version: 2.1.29 Precedence: list List-Id: automatic DPDK test reports List-Unsubscribe: , List-Archive: List-Post: List-Help: List-Subscribe: , Errors-To: test-report-bounces@dpdk.org _Testing PASS_ Branch: tags/v22.11 3b43ce3f4a54468e7ef65760c2fd7b4d6ee6d9fc --> testing pass Upstream job id: Generic-DPDK-Compile-Meson#432431 Test environment and result as below: +-------------------------------+--------------------+-------------------------+----------------------+ | Environment | dpdk_meson_compile | dpdk_llvm_clang_compile | dpdk_mingw64_compile | +===============================+====================+=========================+======================+ | Ubuntu 20.04 | PASS | SKIPPED | SKIPPED | +-------------------------------+--------------------+-------------------------+----------------------+ | FreeBSD 14.2 | PASS | SKIPPED | SKIPPED | +-------------------------------+--------------------+-------------------------+----------------------+ | CentOS Stream 9 | PASS | SKIPPED | SKIPPED | +-------------------------------+--------------------+-------------------------+----------------------+ | CentOS Stream 10 | PASS | SKIPPED | SKIPPED | +-------------------------------+--------------------+-------------------------+----------------------+ | Debian GNU/Linux 12 | PASS | SKIPPED | SKIPPED | +-------------------------------+--------------------+-------------------------+----------------------+ | Fedora Linux 42 | PASS | SKIPPED | SKIPPED | +-------------------------------+--------------------+-------------------------+----------------------+ | openSUSE Leap 15.6 | PASS | SKIPPED | SKIPPED | +-------------------------------+--------------------+-------------------------+----------------------+ | Red Hat Enterprise Linux 8.10 | PASS | SKIPPED | SKIPPED | +-------------------------------+--------------------+-------------------------+----------------------+ | Red Hat Enterprise Linux 9.5 | PASS | SKIPPED | SKIPPED | +-------------------------------+--------------------+-------------------------+----------------------+ | Ubuntu 22.04 | PASS | SKIPPED | SKIPPED | +-------------------------------+--------------------+-------------------------+----------------------+ | Ubuntu 24.04 | PASS | SKIPPED | SKIPPED | +-------------------------------+--------------------+-------------------------+----------------------+ | Windows Server 2022 | SKIPPED | PASS | PASS | +-------------------------------+--------------------+-------------------------+----------------------+ Ubuntu 20.04 Kernel: 4.19 Compiler: gcc gcc (Ubuntu 9.4.0-1ubuntu1~20.04.2) 9.4.0 FreeBSD 14.2 Kernel: 14.2-RELEASE Compiler: clang 18.1.6 CentOS Stream 9 Kernel: 5.15 Compiler: gcc gcc (GCC) 11.5.0 20240719 (Red Hat 11.5.0-11) CentOS Stream 10 Kernel: 5.15 Compiler: gcc gcc (GCC) 14.2.1 20250110 (Red Hat 14.2.1-8) Debian GNU/Linux 12 Kernel: 5.15 Compiler: gcc gcc (Debian 12.2.0-14+deb12u1) 12.2.0 Fedora Linux 42 Kernel: 5.15 Compiler: clang gcc (GCC) 15.2.1 20250808 (Red Hat 15.2.1-1) openSUSE Leap 15.6 Kernel: 5.15 Compiler: gcc gcc (SUSE Linux) 7.5.0 Red Hat Enterprise Linux 8.10 Kernel: 5.15 Compiler: gcc gcc (GCC) 8.5.0 20210514 (Red Hat 8.5.0-22) Red Hat Enterprise Linux 9.5 Kernel: 5.15 Compiler: gcc gcc (GCC) 11.5.0 20240719 (Red Hat 11.5.0-2) Ubuntu 22.04 Kernel: 5.15 Compiler: gcc gcc (Ubuntu 11.4.0-1ubuntu1~22.04) 11.4.0 Ubuntu 24.04 Kernel: 5.15 Compiler: gcc gcc (Ubuntu 13.3.0-6ubuntu2~24.04) 13.3.0 Windows Server 2022 Kernel: 10.0.20348.2031 Compiler: clang 15.0.7, gcc 14.1.0 (MinGW), and MSVC VS 19.39.33521 To view detailed results, visit: https://lab.dpdk.org/results/dashboard/tarballs/35139/ UNH-IOL DPDK Community Lab To manage your email subscriptions, visit: https://lab.dpdk.org/results/dashboard/preferences/subscriptions/