From mboxrd@z Thu Jan 1 00:00:00 1970 Return-Path: Received: from mails.dpdk.org (mails.dpdk.org [217.70.189.124]) by inbox.dpdk.org (Postfix) with ESMTP id CCD2F488E6 for ; Wed, 8 Oct 2025 21:27:31 +0200 (CEST) Received: from mails.dpdk.org (localhost [127.0.0.1]) by mails.dpdk.org (Postfix) with ESMTP id A796C40267; Wed, 8 Oct 2025 21:27:31 +0200 (CEST) Received: from mail-io1-f98.google.com (mail-io1-f98.google.com [209.85.166.98]) by mails.dpdk.org (Postfix) with ESMTP id 77ABB40267 for ; Wed, 8 Oct 2025 21:27:30 +0200 (CEST) Received: by mail-io1-f98.google.com with SMTP id ca18e2360f4ac-9298eba27c2so5695239f.3 for ; Wed, 08 Oct 2025 12:27:30 -0700 (PDT) DKIM-Signature: v=1; a=rsa-sha256; c=relaxed/relaxed; d=iol.unh.edu; s=unh-iol; t=1759951649; x=1760556449; darn=dpdk.org; h=cc:to:from:subject:message-id:date:from:to:cc:subject:date :message-id:reply-to; bh=YwgjbSglFUTvza3+0FT1BKeHHvyuYJ406yJGpnv/VH8=; b=W+bscZYSTDpYsgwPcEHwfb875SOHJkyWcvXDDi5BhGibRCodZvWNzE0UQW7MR9Tjne qsDgLGEzkQet6kOCcPWzZ6LKYWuMNRCh5rwweDgH0ZqelIfBlOS+v1umBRY1ybXCDPSS XCmgJcYVaAJbQFlwyRVA2ZZZbXquft2E5In64= X-Google-DKIM-Signature: v=1; a=rsa-sha256; c=relaxed/relaxed; d=1e100.net; s=20230601; t=1759951649; x=1760556449; h=cc:to:from:subject:message-id:date:x-gm-message-state:from:to:cc :subject:date:message-id:reply-to; bh=YwgjbSglFUTvza3+0FT1BKeHHvyuYJ406yJGpnv/VH8=; b=vUOdsUWpznVOQNSd1ieh7v9aW6Wmcec/dBFlY8ZUKWhU7fmIZVB0LnexkF2ZIPnUK3 bcgkoLBQSMYKq45kgY2AECH0Kyf5BXhaz1zs7XPYoIKF63eVs0ZEq3LcIrAO4j4jn2lv Q4G/AA5gfy/rphw806qXtZM1MGVtGY4YdmfpHdeY1b9TmHfdABx0fdeEdzhETeS+4ezD BL7uUPb8dr6kvqW+XgY3AY+h49mv57XjG+B96FZZo781yJ7yppeaYAYFpzbqFi0RrXoM bGwgPLcR6iaa2yCe1SQzdvpKrfHtK91iqdYgnq/zd6/QRohiqz/FMKnQiV0In9SzKS1z OCzg== X-Gm-Message-State: AOJu0Yyyh4I/K8DMuRAtONkZfZKRl/ZgqN73o7DRuGej59TdcyIzsLNo SWra3lKjFO1PAle9YEOTex4QLE7zpFWFvp5xfZlkRqMjv0Qgcmn8gggiVYnT+q5r2bs+PHL0i2u Q7B2LCThRkmdw2JdzeiuBuTlfCZvUj77YdTbu X-Gm-Gg: ASbGncuvscUYNS9gnbk8All48Tfy1TFthb6EDGrVXMGuzFKEtOcievdVsVOCBtoRWW2 Lm1xhKqbjYm4Fr57TEGF5BXozHLDIVEdEii5l/iG+jXm8sIuBarc1Xo6/tSYL0/koYQsHNExrEm HU+OubB2RyQZApa3ZmZFYm41k2sLZMtK3Ce+4rU9GfHcd0nkUKkhDtIVfoYaZ29tQaCRR3pcBlz ji0T8GDCOc7n2F32soHZRO2ul1rVGET69cVYLk4VzMe8iBvdb/urbfrTA54+D1Xhu8dUKtWdgCo reyK+SarJCrHRU6U9ScltH9Rz9wsLX3Xae2VvnBeDc5BTPZfOGCJGKeM4pBiGBZ5WuBAnXfSBGO /Ug== X-Google-Smtp-Source: AGHT+IFw1YMiW59UF7IZ+ivJ8YtCXnwKlEkZcewawecojONbP+oaA2tQvGK7KKn4KbSzC4owshnmTA7lITJv X-Received: by 2002:a92:c26e:0:b0:42d:86fb:d871 with SMTP id e9e14a558f8ab-42f873ed35amr33428585ab.21.1759951649512; Wed, 08 Oct 2025 12:27:29 -0700 (PDT) Received: from postal.iol.unh.edu (postal.iol.unh.edu. [132.177.123.84]) by smtp-relay.gmail.com with ESMTPS id e9e14a558f8ab-42f9026193dsm414905ab.11.2025.10.08.12.27.29 (version=TLS1_2 cipher=ECDHE-ECDSA-AES128-GCM-SHA256 bits=128/128); Wed, 08 Oct 2025 12:27:29 -0700 (PDT) X-Relaying-Domain: iol.unh.edu Date: Wed, 08 Oct 2025 12:27:29 -0700 (PDT) Message-ID: <68e6bb21.920a0220.d8de1.2523SMTPIN_ADDED_MISSING@mx.google.com> Received: from [172.21.0.2] (unknown [172.18.0.240]) by postal.iol.unh.edu (Postfix) with ESMTP id 0D8C96050A61; Wed, 8 Oct 2025 15:27:29 -0400 (EDT) Subject: |SUCCESS| [GIT MASTER] b287e404643aeab5bb5db084c142789df187844e From: dpdklab@iol.unh.edu To: Test Report Cc: dpdk-test-reports@iol.unh.edu, Xueming Li , Christian Ehrhardt , Kevin Traynor , Luca Boccassi Content-Type: text/plain X-BeenThere: test-report@dpdk.org X-Mailman-Version: 2.1.29 Precedence: list List-Id: automatic DPDK test reports List-Unsubscribe: , List-Archive: List-Post: List-Help: List-Subscribe: , Errors-To: test-report-bounces@dpdk.org _Testing PASS_ Branch: tags/v24.11 b287e404643aeab5bb5db084c142789df187844e --> testing pass Upstream job id: Generic-DPDK-Compile-Meson#432454 Test environment and result as below: +-------------------------------+--------------------+-------------------+-------------------------+----------------------+-------------------+------------------+ | Environment | dpdk_meson_compile | dpdk_msvc_compile | dpdk_llvm_clang_compile | dpdk_mingw64_compile | dpdk_compile_spdk | dpdk_compile_ovs | +===============================+====================+===================+=========================+======================+===================+==================+ | Ubuntu 20.04 | PASS | SKIPPED | SKIPPED | SKIPPED | SKIPPED | SKIPPED | +-------------------------------+--------------------+-------------------+-------------------------+----------------------+-------------------+------------------+ | FreeBSD 14.2 | PASS | SKIPPED | SKIPPED | SKIPPED | SKIPPED | SKIPPED | +-------------------------------+--------------------+-------------------+-------------------------+----------------------+-------------------+------------------+ | CentOS Stream 9 | PASS | SKIPPED | SKIPPED | SKIPPED | PASS | SKIPPED | +-------------------------------+--------------------+-------------------+-------------------------+----------------------+-------------------+------------------+ | CentOS Stream 10 | PASS | SKIPPED | SKIPPED | SKIPPED | SKIPPED | SKIPPED | +-------------------------------+--------------------+-------------------+-------------------------+----------------------+-------------------+------------------+ | Debian GNU/Linux 12 | PASS | SKIPPED | SKIPPED | SKIPPED | PASS | SKIPPED | +-------------------------------+--------------------+-------------------+-------------------------+----------------------+-------------------+------------------+ | Fedora Linux 42 | PASS | SKIPPED | SKIPPED | SKIPPED | PASS | PASS | +-------------------------------+--------------------+-------------------+-------------------------+----------------------+-------------------+------------------+ | openSUSE Leap 15.6 | PASS | SKIPPED | SKIPPED | SKIPPED | SKIPPED | SKIPPED | +-------------------------------+--------------------+-------------------+-------------------------+----------------------+-------------------+------------------+ | Red Hat Enterprise Linux 8.10 | PASS | SKIPPED | SKIPPED | SKIPPED | SKIPPED | SKIPPED | +-------------------------------+--------------------+-------------------+-------------------------+----------------------+-------------------+------------------+ | Red Hat Enterprise Linux 9.5 | PASS | SKIPPED | SKIPPED | SKIPPED | SKIPPED | SKIPPED | +-------------------------------+--------------------+-------------------+-------------------------+----------------------+-------------------+------------------+ | Ubuntu 22.04 | PASS | SKIPPED | SKIPPED | SKIPPED | PASS | SKIPPED | +-------------------------------+--------------------+-------------------+-------------------------+----------------------+-------------------+------------------+ | Ubuntu 24.04 | PASS | SKIPPED | SKIPPED | SKIPPED | PASS | PASS | +-------------------------------+--------------------+-------------------+-------------------------+----------------------+-------------------+------------------+ | Alpine Linux 3.22.0 | PASS | SKIPPED | SKIPPED | SKIPPED | SKIPPED | SKIPPED | +-------------------------------+--------------------+-------------------+-------------------------+----------------------+-------------------+------------------+ | Windows Server 2022 | SKIPPED | PASS | PASS | PASS | SKIPPED | SKIPPED | +-------------------------------+--------------------+-------------------+-------------------------+----------------------+-------------------+------------------+ Ubuntu 20.04 Kernel: 4.19 Compiler: gcc gcc (Ubuntu 9.4.0-1ubuntu1~20.04.2) 9.4.0 FreeBSD 14.2 Kernel: 14.2-RELEASE Compiler: clang 18.1.6 CentOS Stream 9 Kernel: 5.15 Compiler: gcc gcc (GCC) 11.5.0 20240719 (Red Hat 11.5.0-11) CentOS Stream 10 Kernel: 5.15 Compiler: gcc gcc (GCC) 14.2.1 20250110 (Red Hat 14.2.1-8) Debian GNU/Linux 12 Kernel: 5.15 Compiler: gcc gcc (Debian 12.2.0-14+deb12u1) 12.2.0 Fedora Linux 42 Kernel: 5.15 Compiler: clang gcc (GCC) 15.2.1 20250808 (Red Hat 15.2.1-1) openSUSE Leap 15.6 Kernel: 5.15 Compiler: gcc gcc (SUSE Linux) 7.5.0 Red Hat Enterprise Linux 8.10 Kernel: 5.15 Compiler: gcc gcc (GCC) 8.5.0 20210514 (Red Hat 8.5.0-22) Red Hat Enterprise Linux 9.5 Kernel: 5.15 Compiler: gcc gcc (GCC) 11.5.0 20240719 (Red Hat 11.5.0-2) Ubuntu 22.04 Kernel: 5.15 Compiler: gcc gcc (Ubuntu 11.4.0-1ubuntu1~22.04) 11.4.0 Ubuntu 24.04 Kernel: 5.15 Compiler: gcc gcc (Ubuntu 13.3.0-6ubuntu2~24.04) 13.3.0 Alpine Linux 3.22.0 Kernel: 5.15 Compiler: gcc gcc (Alpine 14.2.0) 14.2.0 Windows Server 2022 Kernel: 10.0.20348.2031 Compiler: clang 15.0.7, gcc 14.1.0 (MinGW), and MSVC VS 19.39.33521 To view detailed results, visit: https://lab.dpdk.org/results/dashboard/tarballs/35138/ UNH-IOL DPDK Community Lab To manage your email subscriptions, visit: https://lab.dpdk.org/results/dashboard/preferences/subscriptions/