From mboxrd@z Thu Jan 1 00:00:00 1970 Return-Path: Received: from mails.dpdk.org (mails.dpdk.org [217.70.189.124]) by inbox.dpdk.org (Postfix) with ESMTP id 4A5D7488E6 for ; Wed, 8 Oct 2025 21:32:28 +0200 (CEST) Received: from mails.dpdk.org (localhost [127.0.0.1]) by mails.dpdk.org (Postfix) with ESMTP id 200FF40267; Wed, 8 Oct 2025 21:32:28 +0200 (CEST) Received: from mail-il1-f227.google.com (mail-il1-f227.google.com [209.85.166.227]) by mails.dpdk.org (Postfix) with ESMTP id 1470840267 for ; Wed, 8 Oct 2025 21:32:26 +0200 (CEST) Received: by mail-il1-f227.google.com with SMTP id e9e14a558f8ab-42f3acb1744so1015075ab.0 for ; Wed, 08 Oct 2025 12:32:25 -0700 (PDT) DKIM-Signature: v=1; a=rsa-sha256; c=relaxed/relaxed; d=iol.unh.edu; s=unh-iol; t=1759951945; x=1760556745; darn=dpdk.org; h=cc:to:from:subject:message-id:date:from:to:cc:subject:date :message-id:reply-to; bh=m1vwbHFLzq2QfLqaUBjdsy8Amt3ccwIEDRX4H9THuLw=; b=JgjWE6xIhMGQM7v3y2grHxOW48IUfRHuEcd6rabypyEiEXzt9F1/eCJEgoOnAC9Iu3 mSMDyRk2TnbXVw2Z5w6itE4eFBa7k60wzA/ichIMur/AaRWXyvhoy5TqWtzcN5iXfIAQ /SUQ06iAFB4lIc5Fiayzm78VYVpUKG868lmqo= X-Google-DKIM-Signature: v=1; a=rsa-sha256; c=relaxed/relaxed; d=1e100.net; s=20230601; t=1759951945; x=1760556745; h=cc:to:from:subject:message-id:date:x-gm-message-state:from:to:cc :subject:date:message-id:reply-to; bh=m1vwbHFLzq2QfLqaUBjdsy8Amt3ccwIEDRX4H9THuLw=; b=aOg035cNYrIW/ZPbOAPazhsatpddul518bdvVnoOFhV2XNmXcNAsX+fFkWoBOkzOdc MvMFK/uNpYUWRxnBCYUf8VT37YiZbyqt+FtLtx76UXTBAcB5RS1iBFof5ISGZppr9MeY v/yPYSSg0O4Uy1ZaQ/O0bSJ6UlRaP6YVmuJrzNDJQx+AYQ+L8HFgHiehBE7od676fMn/ vkHu3tO+EVSdZrEbHrSNRNRToVOnex7tdLS5X48gW0Y0eYzWW5nD/IDdaHG5YNeLW68q zgJ4CZ6FEVNBMme5na288DnjzoUncWmuvu97sbSFLwtErg1HR1LdNYS0zZ91pvBAJvg3 Xw5Q== X-Gm-Message-State: AOJu0YwGOOtTuXOeaXzoAtWuVZOzZaSEa6wadZACVl95VXGlIV17PuSD 6FIlhl8WKJzVnf8MDFkhbs+aTnmGRyzWskdVR+gB0UsjuaN3eHlsO3r4x5x7Pwclc54pn7Sa+s1 iQtE28kxRJcNl9SoUeTJErbLT+E8hjy6/zDhPzkaeee8jP4dwdxUV5knB+aAu X-Gm-Gg: ASbGncuflbAXM+LiE7hMYzKiuzNR3MFIJ8VghB4r19AZfdCFfjM1VwrSL0tOuTzZG2n Z15pJxOGBdF3Gtof6b6gCbdjctrHO3jsiM99FcHmjHLdLrDE9On90QucPUTHLJ/Lavqfn3V7EDg CFB1feeqdD94XG/6Knnk1iOhod4bu1yJaY3h2TXVkTJz+9WFpfB2nQIb49uY+D4McGCRc9J6j3z prMmftRLTqj850syyXhultltHBy8Soc+8cL78lKirR/uRhYI8UAEEKwSnOTd43Ow1J28gFNw9YW E05i1fNjXaDWRXU7w5+E5T7huQbT4UNNcQel2DVwWmDQ4/Gt6fgB6tU= X-Google-Smtp-Source: AGHT+IFBxJ3DDRqgIO0SFb5GwC+mQRrju+DoT5MmYIhSKpT6qwm4vp1fame6Dzki+4QOOB8RbHuh32MgPIRc X-Received: by 2002:a05:6e02:4417:10b0:42f:8d6c:f523 with SMTP id e9e14a558f8ab-42f8d6cf8e3mr18299945ab.20.1759951945043; Wed, 08 Oct 2025 12:32:25 -0700 (PDT) Received: from postal.iol.unh.edu (postal.iol.unh.edu. [2606:4100:3880:1234::84]) by smtp-relay.gmail.com with ESMTPS id 8926c6da1cb9f-57b5eaa9aecsm1454474173.6.2025.10.08.12.32.24 (version=TLS1_2 cipher=ECDHE-ECDSA-AES128-GCM-SHA256 bits=128/128); Wed, 08 Oct 2025 12:32:25 -0700 (PDT) X-Relaying-Domain: iol.unh.edu Date: Wed, 08 Oct 2025 12:32:25 -0700 (PDT) Message-ID: <68e6bc49.050a0220.176382.f73bSMTPIN_ADDED_MISSING@mx.google.com> Received: from [172.21.0.2] (unknown [172.18.0.240]) by postal.iol.unh.edu (Postfix) with ESMTP id 8C0DD6050A61; Wed, 8 Oct 2025 15:32:24 -0400 (EDT) Subject: |SUCCESS| [GIT MASTER] 14d3c6f6a6c18f3b141d0bd9786c6dd3ae3714a3 From: dpdklab@iol.unh.edu To: Test Report Cc: dpdk-test-reports@iol.unh.edu, Jerin Jacob Content-Type: text/plain X-BeenThere: test-report@dpdk.org X-Mailman-Version: 2.1.29 Precedence: list List-Id: automatic DPDK test reports List-Unsubscribe: , List-Archive: List-Post: List-Help: List-Subscribe: , Errors-To: test-report-bounces@dpdk.org _Testing PASS_ Branch: dpdk-next-eventdev 14d3c6f6a6c18f3b141d0bd9786c6dd3ae3714a3 --> testing pass Upstream job id: Generic-DPDK-Compile-Meson#432327 Test environment and result as below: +------------------------------+--------------------+ | Environment | dpdk_meson_compile | +==============================+====================+ | Red Hat Enterprise Linux 9.5 | PASS | +------------------------------+--------------------+ | Ubuntu 20.04 | PASS | +------------------------------+--------------------+ | Debian GNU/Linux 12 | PASS | +------------------------------+--------------------+ | Fedora Linux 42 | PASS | +------------------------------+--------------------+ | Ubuntu 22.04 | PASS | +------------------------------+--------------------+ | Ubuntu 24.04 | PASS | +------------------------------+--------------------+ | CentOS Stream 9 | PASS | +------------------------------+--------------------+ | CentOS Stream 10 | PASS | +------------------------------+--------------------+ Red Hat Enterprise Linux 9.5 Kernel: 5.4 Compiler: gcc gcc (GCC) 11.5.0 20240719 (Red Hat 11.5.0-2) Ubuntu 20.04 Kernel: 5.15 Compiler: aarch64-linux-gnu-gcc gcc (Ubuntu 9.4.0-1ubuntu1~20.04.2) 9.4.0 Debian GNU/Linux 12 Kernel: 5.4 Compiler: gcc gcc (Debian 12.2.0-14+deb12u1) 12.2.0 Fedora Linux 42 Kernel: 5.4 Compiler: gcc gcc (GCC) 15.2.1 20250808 (Red Hat 15.2.1-1) Ubuntu 22.04 Kernel: 5.4 Compiler: gcc gcc (Ubuntu 11.4.0-1ubuntu1~22.04) 11.4.0 Ubuntu 24.04 Kernel: 5.4 Compiler: gcc gcc (Ubuntu 13.3.0-6ubuntu2~24.04) 13.3.0 CentOS Stream 9 Kernel: 5.4 Compiler: gcc gcc (GCC) 11.5.0 20240719 (Red Hat 11.5.0-11) CentOS Stream 10 Kernel: 5.4 Compiler: gcc gcc (GCC) 14.2.1 20250110 (Red Hat 14.2.1-8) To view detailed results, visit: https://lab.dpdk.org/results/dashboard/tarballs/35134/ UNH-IOL DPDK Community Lab To manage your email subscriptions, visit: https://lab.dpdk.org/results/dashboard/preferences/subscriptions/