From mboxrd@z Thu Jan 1 00:00:00 1970 Return-Path: Received: from mails.dpdk.org (mails.dpdk.org [217.70.189.124]) by inbox.dpdk.org (Postfix) with ESMTP id 09A41488E6 for ; Wed, 8 Oct 2025 21:41:02 +0200 (CEST) Received: from mails.dpdk.org (localhost [127.0.0.1]) by mails.dpdk.org (Postfix) with ESMTP id D87A740267; Wed, 8 Oct 2025 21:41:01 +0200 (CEST) Received: from mail-ot1-f97.google.com (mail-ot1-f97.google.com [209.85.210.97]) by mails.dpdk.org (Postfix) with ESMTP id 87BB040267 for ; Wed, 8 Oct 2025 21:41:00 +0200 (CEST) Received: by mail-ot1-f97.google.com with SMTP id 46e09a7af769-7bc626c5467so199148a34.2 for ; Wed, 08 Oct 2025 12:41:00 -0700 (PDT) DKIM-Signature: v=1; a=rsa-sha256; c=relaxed/relaxed; d=iol.unh.edu; s=unh-iol; t=1759952460; x=1760557260; darn=dpdk.org; h=references:in-reply-to:cc:to:from:subject:message-id:date:from:to :cc:subject:date:message-id:reply-to; bh=hESFKRKekFfk4R+RJ+bGi1hlTbvvwrtykZfgamnEQoQ=; b=c7gCGUtVmFeFn1GEKRl96yMflcWIg8GH5gayuqpuyEShDnLgUwQgO+TTmGSz/hSLPx krUDiz5ltH1U+O6wUGniRNne8x2UmI7S60QPKRsZ+EA8/xLywT4LmED9h/ADLIl0PSnR uhYZJ+ASphe/OergU4eJpH9XbMFrc1ovBwgts= X-Google-DKIM-Signature: v=1; a=rsa-sha256; c=relaxed/relaxed; d=1e100.net; s=20230601; t=1759952460; x=1760557260; h=references:in-reply-to:cc:to:from:subject:message-id:date :x-gm-message-state:from:to:cc:subject:date:message-id:reply-to; bh=hESFKRKekFfk4R+RJ+bGi1hlTbvvwrtykZfgamnEQoQ=; b=SOmtEeoaVlxNHxnUrkLP3KrhtzXEVwAkOGDdIE+Rl44JRyTWRx6Gv9z94WVEbdIndp ojCk7NWCog2NZv+X81w1CYw4sMtUosqGt60/Iabwvw0oR0PfsP/jmmpETY2HtIEkuTjH 1C4nxB/0tOV1p3pu+q5UMlPojh1ageke3bLPN//fw3r0CsOyBwWYBmF7zmxe63AUJ3Yr LS//nzwSwInI4n40IPADbBYq//J8qBQUz8ZN2kqJTT1elqm4fQ1wjKM7zKhsLHF4DngR yTnscL4KSLBlr2MRcghEAxxjOf3npkoTz90Lx5NwGZzdOLbS9XkAmeAknft5XU2sn1OS akIg== X-Gm-Message-State: AOJu0YwZd9hIY5v2Y6pi+MhciqpiBg89nfN+ljZRkyjolnlb6seu/Gj2 jg4qR0/eLNuEjqqv8Gd4S1Eu2HfLkqxth1XkbCKLjnv1HWJ96hfojk+1qJ9GKBnmsKm+e5VCgOs +nul8T63lM4mPsrzEHxe5sKLIlmZzIbN0SGKA1wQp4FLi X-Gm-Gg: ASbGncszOltC3h5ZCasl6ozONGVKcuo2aFF6AoWZ37a4P9LP4JlUQLdeMWcyHd5x27Y BU8eVdI/wn2s3xW3qMNHZks7/XQqtPwi62+0dh8IhfN/8S6eUiciKcrC9L4TGJmEVwp+RIMKHdZ Strbh1+w2H8dfu/c3BzlShWWSVlPKndMXpnvmW/PqIHcploR/EY9zE+El2289XlV6wJg/ic86t1 CE5fKwIM0mDdpsCnltmhhekk+yDYqAsF930lB6/0+oXs80K2p5aoWl6hJTe69E0gknNgtNNS2a4 2NE81DzEpS8PsC5Toc4X3wOV+3GwCUyGgl3iu8j0VIDEDEPdzK4lXgUL5yNwNRew9ZR3zN+DzRR 9LA== X-Google-Smtp-Source: AGHT+IEcRiWDYABTTqEAbuBouwkIxSUQ7Qj8immxESXB0o/OJIn85icjN5G7jcplkpVPMckoOFnuFbQ1n+W+ X-Received: by 2002:a05:6830:6112:b0:7bf:6cd1:4d9a with SMTP id 46e09a7af769-7c0df753d48mr3541119a34.16.1759952459748; Wed, 08 Oct 2025 12:40:59 -0700 (PDT) Received: from postal.iol.unh.edu (postal.iol.unh.edu. [132.177.123.84]) by smtp-relay.gmail.com with ESMTPS id 46e09a7af769-7bf3f7fdc7esm1241801a34.2.2025.10.08.12.40.59 (version=TLS1_2 cipher=ECDHE-ECDSA-AES128-GCM-SHA256 bits=128/128); Wed, 08 Oct 2025 12:40:59 -0700 (PDT) X-Relaying-Domain: iol.unh.edu Date: Wed, 08 Oct 2025 12:40:59 -0700 (PDT) Message-ID: <68e6be4b.050a0220.1ae318.373cSMTPIN_ADDED_MISSING@mx.google.com> Received: from [172.21.0.2] (unknown [172.18.0.240]) by postal.iol.unh.edu (Postfix) with ESMTP id 47A1F604D420; Wed, 8 Oct 2025 15:40:59 -0400 (EDT) Subject: |SUCCESS| pw157315-157319 [PATCH] [v2,5/5] net/dpaa: Fix coverity is From: dpdklab@iol.unh.edu To: Test Report Cc: dpdk-test-reports@iol.unh.edu, Stephen Hemminger In-Reply-To: <20251008043519.2461707-6-g.singh@nxp.com> References: <20251008043519.2461707-6-g.singh@nxp.com> Content-Type: text/plain X-BeenThere: test-report@dpdk.org X-Mailman-Version: 2.1.29 Precedence: list List-Id: automatic DPDK test reports List-Unsubscribe: , List-Archive: List-Post: List-Help: List-Subscribe: , Errors-To: test-report-bounces@dpdk.org Test-Label: iol-compile-amd64-testing Test-Status: SUCCESS http://dpdk.org/patch/157319 _Testing PASS_ Submitter: Gagandeep Singh Date: Wednesday, October 08 2025 04:35:19 DPDK git baseline: Repo:dpdk-next-net Branch: master CommitID:c04bbd131b2c14b3049bf86d3ef367b34e6fdf1e 157315-157319 --> testing pass Upstream job id: Generic-DPDK-Compile-Meson#432464 Test environment and result as below: +---------------------+--------------------+-------------------------+-------------------+----------------------+-------------------+ | Environment | dpdk_meson_compile | dpdk_llvm_clang_compile | dpdk_msvc_compile | dpdk_mingw64_compile | dpdk_compile_spdk | +=====================+====================+=========================+===================+======================+===================+ | Ubuntu 20.04 | PASS | SKIPPED | SKIPPED | SKIPPED | SKIPPED | +---------------------+--------------------+-------------------------+-------------------+----------------------+-------------------+ | FreeBSD 14.2 | PASS | SKIPPED | SKIPPED | SKIPPED | SKIPPED | +---------------------+--------------------+-------------------------+-------------------+----------------------+-------------------+ | CentOS Stream 9 | PASS | SKIPPED | SKIPPED | SKIPPED | PASS | +---------------------+--------------------+-------------------------+-------------------+----------------------+-------------------+ | Windows Server 2022 | SKIPPED | PASS | PASS | PASS | SKIPPED | +---------------------+--------------------+-------------------------+-------------------+----------------------+-------------------+ Ubuntu 20.04 Kernel: 4.19 Compiler: gcc gcc (Ubuntu 9.4.0-1ubuntu1~20.04.2) 9.4.0 FreeBSD 14.2 Kernel: 14.2-RELEASE Compiler: clang 18.1.6 CentOS Stream 9 Kernel: 5.15 Compiler: gcc gcc (GCC) 11.5.0 20240719 (Red Hat 11.5.0-11) Windows Server 2022 Kernel: 10.0.20348.2031 Compiler: clang 15.0.7, gcc 14.1.0 (MinGW), and MSVC VS 19.39.33521 To view detailed results, visit: https://lab.dpdk.org/results/dashboard/patchsets/34232/ UNH-IOL DPDK Community Lab To manage your email subscriptions, visit: https://lab.dpdk.org/results/dashboard/preferences/subscriptions/