From mboxrd@z Thu Jan 1 00:00:00 1970 Return-Path: Received: from mails.dpdk.org (mails.dpdk.org [217.70.189.124]) by inbox.dpdk.org (Postfix) with ESMTP id B7F57488E7 for ; Wed, 8 Oct 2025 22:27:20 +0200 (CEST) Received: from mails.dpdk.org (localhost [127.0.0.1]) by mails.dpdk.org (Postfix) with ESMTP id 9203440267; Wed, 8 Oct 2025 22:27:20 +0200 (CEST) Received: from mail-vs1-f100.google.com (mail-vs1-f100.google.com [209.85.217.100]) by mails.dpdk.org (Postfix) with ESMTP id A971040267 for ; Wed, 8 Oct 2025 22:27:19 +0200 (CEST) Received: by mail-vs1-f100.google.com with SMTP id ada2fe7eead31-5a0d17db499so225475137.3 for ; Wed, 08 Oct 2025 13:27:19 -0700 (PDT) DKIM-Signature: v=1; a=rsa-sha256; c=relaxed/relaxed; d=iol.unh.edu; s=unh-iol; t=1759955239; x=1760560039; darn=dpdk.org; h=references:in-reply-to:cc:to:from:subject:message-id:date:from:to :cc:subject:date:message-id:reply-to; bh=bxgeFyY8czggJX92FqoZu2Zl2ATHLYsL2RZG1ghcs4k=; b=eDc29O+ysGrZd/ppK476tOA0kJCs0ejh1vCHp/U/Gz6NgYROpb4KQixZs25IsCd7eB ExM/B5Bao2bRyrqneZNC0jb85VZOTEayiMBGID+OCLjMivDci7bAHf0RCRuUNVC5Pnt8 BRzLKqDcNgTyXhQVDWsWrW8hhZRonwSELCiYc= X-Google-DKIM-Signature: v=1; a=rsa-sha256; c=relaxed/relaxed; d=1e100.net; s=20230601; t=1759955239; x=1760560039; h=references:in-reply-to:cc:to:from:subject:message-id:date :x-gm-message-state:from:to:cc:subject:date:message-id:reply-to; bh=bxgeFyY8czggJX92FqoZu2Zl2ATHLYsL2RZG1ghcs4k=; b=QrSmMr+FdIFeogZUEYDjV19vOaTgyVI1nhkeTEgvmBBGDDh3lm5/92X0MzrbGFVPMf 01lP978I142xMX7eNFozZ9JVkqLDBbkiTFXKWXx5OuFSHzcUl5pMLH8eqDVuJDRj6bnm jhVOJ4D3khjFR6pULzcAHGVOpQdb2zwk2sPdr8oeRVdlafdNjbaLzwwulr7pap3vlN5G RORdr0BhKXeRIm83Ov/ryELdegs3SLgxLeZjaM7pINa2KulJWlaVPvrbFVvlEWEARpd9 kO+WfwmC58lnp5fW+C9ya98gM/ioXvAb58AMDalrxBK2Z3s/o8a2S8GmaFsOrMq8Bnie xjZw== X-Gm-Message-State: AOJu0YzqMzidPSRZN88+3mdKi36sZBdzlGOGCAIJ8SJ828TnwBHkeR7d zKFZo4n85PMb9HL8wJzACGEkB6xmNpTUb/F4okvERJO43clOD/yDP6YVX5WsBb+lHruzLrqF3Ub KO7fbwaoD/WMUFEWwLhKSHOTP4tlOXEj23YrcfRuBYdFstJsyYytboUMo+zK+ X-Gm-Gg: ASbGncus6pFp3FAhpIuzDVOll+wZm2MAl9nyC8RNRJrGGaRbnTmHTytjPqNcPkP8QVJ T1d7Bwna2P55HSIOoGBFFqjVm8F+bbcFSXZkfVc3vIxgnyBmNm87DPemAkXklJDjbeoKWkxX1xB Mpct6EZLMIWibexS6VhnMWGOKxyaPRUhdMrLfBurgXnFoO3ZHqlmCDYCM2/Np51f6qDzV5Qx2EU YZ7mqB6EB4ufUAakOH+TPFWc68XffTMD4uEOPkCrEC7apGIxUw2cWo/1nmd2e7vsN/nHlD1nrzw QoK0WCUosQ2fcHA5lpYdzbUhWDwIJHFbkTH0IbqYFbDuaiqey7EvpeI= X-Google-Smtp-Source: AGHT+IGGHJWh1RBxylruA1nYlSsxmzmRUDfFbZ3HR4lghA+AqM00t8NtOS72WXG4w3H7o4j/Demuu69P2TEr X-Received: by 2002:a05:6102:dcb:b0:5ca:a978:8a with SMTP id ada2fe7eead31-5d5e239bb3fmr2728754137.33.1759955238957; Wed, 08 Oct 2025 13:27:18 -0700 (PDT) Received: from postal.iol.unh.edu (postal.iol.unh.edu. [2606:4100:3880:1234::84]) by smtp-relay.gmail.com with ESMTPS id ada2fe7eead31-5d5e5d61374sm284218137.5.2025.10.08.13.27.18 (version=TLS1_2 cipher=ECDHE-ECDSA-AES128-GCM-SHA256 bits=128/128); Wed, 08 Oct 2025 13:27:18 -0700 (PDT) X-Relaying-Domain: iol.unh.edu Date: Wed, 08 Oct 2025 13:27:18 -0700 (PDT) Message-ID: <68e6c926.050a0220.3dade.e6edSMTPIN_ADDED_MISSING@mx.google.com> Received: from [172.21.0.3] (unknown [172.18.0.240]) by postal.iol.unh.edu (Postfix) with ESMTP id A0C62604D420; Wed, 8 Oct 2025 16:27:18 -0400 (EDT) Subject: |SUCCESS| pw157315-157319 [PATCH] [v2,5/5] net/dpaa: Fix coverity is From: dpdklab@iol.unh.edu To: Test Report Cc: dpdk-test-reports@iol.unh.edu, Stephen Hemminger In-Reply-To: <20251008043519.2461707-6-g.singh@nxp.com> References: <20251008043519.2461707-6-g.singh@nxp.com> Content-Type: text/plain X-BeenThere: test-report@dpdk.org X-Mailman-Version: 2.1.29 Precedence: list List-Id: automatic DPDK test reports List-Unsubscribe: , List-Archive: List-Post: List-Help: List-Subscribe: , Errors-To: test-report-bounces@dpdk.org Test-Label: iol-compile-amd64-testing Test-Status: SUCCESS http://dpdk.org/patch/157319 _Testing PASS_ Submitter: Gagandeep Singh Date: Wednesday, October 08 2025 04:35:19 DPDK git baseline: Repo:dpdk-next-net Branch: master CommitID:c04bbd131b2c14b3049bf86d3ef367b34e6fdf1e 157315-157319 --> testing pass Upstream job id: Generic-DPDK-Compile-Meson#432467 Test environment and result as below: +---------------------+--------------------+-------------------------+-------------------+----------------------+-------------------+------------------+ | Environment | dpdk_meson_compile | dpdk_llvm_clang_compile | dpdk_msvc_compile | dpdk_mingw64_compile | dpdk_compile_spdk | dpdk_compile_ovs | +=====================+====================+=========================+===================+======================+===================+==================+ | Ubuntu 20.04 | PASS | SKIPPED | SKIPPED | SKIPPED | SKIPPED | SKIPPED | +---------------------+--------------------+-------------------------+-------------------+----------------------+-------------------+------------------+ | FreeBSD 14.2 | PASS | SKIPPED | SKIPPED | SKIPPED | SKIPPED | SKIPPED | +---------------------+--------------------+-------------------------+-------------------+----------------------+-------------------+------------------+ | CentOS Stream 9 | PASS | SKIPPED | SKIPPED | SKIPPED | PASS | SKIPPED | +---------------------+--------------------+-------------------------+-------------------+----------------------+-------------------+------------------+ | CentOS Stream 10 | PASS | SKIPPED | SKIPPED | SKIPPED | SKIPPED | SKIPPED | +---------------------+--------------------+-------------------------+-------------------+----------------------+-------------------+------------------+ | Debian GNU/Linux 12 | PASS | SKIPPED | SKIPPED | SKIPPED | PASS | SKIPPED | +---------------------+--------------------+-------------------------+-------------------+----------------------+-------------------+------------------+ | Fedora Linux 42 | PASS | SKIPPED | SKIPPED | SKIPPED | PASS | PASS | +---------------------+--------------------+-------------------------+-------------------+----------------------+-------------------+------------------+ | Windows Server 2022 | SKIPPED | PASS | PASS | PASS | SKIPPED | SKIPPED | +---------------------+--------------------+-------------------------+-------------------+----------------------+-------------------+------------------+ Ubuntu 20.04 Kernel: 4.19 Compiler: gcc gcc (Ubuntu 9.4.0-1ubuntu1~20.04.2) 9.4.0 FreeBSD 14.2 Kernel: 14.2-RELEASE Compiler: clang 18.1.6 CentOS Stream 9 Kernel: 5.15 Compiler: gcc gcc (GCC) 11.5.0 20240719 (Red Hat 11.5.0-11) CentOS Stream 10 Kernel: 5.15 Compiler: gcc gcc (GCC) 14.2.1 20250110 (Red Hat 14.2.1-8) Debian GNU/Linux 12 Kernel: 5.15 Compiler: gcc gcc (Debian 12.2.0-14+deb12u1) 12.2.0 Fedora Linux 42 Kernel: 5.15 Compiler: clang gcc (GCC) 15.2.1 20250808 (Red Hat 15.2.1-1) Windows Server 2022 Kernel: 10.0.20348.2031 Compiler: clang 15.0.7, gcc 14.1.0 (MinGW), and MSVC VS 19.39.33521 To view detailed results, visit: https://lab.dpdk.org/results/dashboard/patchsets/34232/ UNH-IOL DPDK Community Lab To manage your email subscriptions, visit: https://lab.dpdk.org/results/dashboard/preferences/subscriptions/