From mboxrd@z Thu Jan 1 00:00:00 1970 Return-Path: Received: from mails.dpdk.org (mails.dpdk.org [217.70.189.124]) by inbox.dpdk.org (Postfix) with ESMTP id E71E6488E7 for ; Wed, 8 Oct 2025 22:40:35 +0200 (CEST) Received: from mails.dpdk.org (localhost [127.0.0.1]) by mails.dpdk.org (Postfix) with ESMTP id C165440267; Wed, 8 Oct 2025 22:40:35 +0200 (CEST) Received: from mail-io1-f100.google.com (mail-io1-f100.google.com [209.85.166.100]) by mails.dpdk.org (Postfix) with ESMTP id 0EDBB40267 for ; Wed, 8 Oct 2025 22:40:35 +0200 (CEST) Received: by mail-io1-f100.google.com with SMTP id ca18e2360f4ac-91179e3fe34so19648039f.1 for ; Wed, 08 Oct 2025 13:40:34 -0700 (PDT) DKIM-Signature: v=1; a=rsa-sha256; c=relaxed/relaxed; d=iol.unh.edu; s=unh-iol; t=1759956034; x=1760560834; darn=dpdk.org; h=cc:to:from:subject:message-id:date:from:to:cc:subject:date :message-id:reply-to; bh=puap+7YV98IgpDbnRJ3ycsIWzB2YmPVeUkAjUNcjBIk=; b=Y6ffCx8b1/o3RfTUwScWy9OMQ+67zeYrKGPd0vbYLgDesrH/9NLyJeA8WhYVGdM+so mt3lWaViNHM/mc19s6Qy1lvDPNPwE3lr8zW7dvNf8wg6J3kdj5DWchgrnZYagwfnuIwj jUUv7Jru2TUj+jXR1g7LKbuJzNfEjZMAewOLs= X-Google-DKIM-Signature: v=1; a=rsa-sha256; c=relaxed/relaxed; d=1e100.net; s=20230601; t=1759956034; x=1760560834; h=cc:to:from:subject:message-id:date:x-gm-message-state:from:to:cc :subject:date:message-id:reply-to; bh=puap+7YV98IgpDbnRJ3ycsIWzB2YmPVeUkAjUNcjBIk=; b=FcU28Tvhza+zMTADatynzFE9qSAjhfCdyU55SwSHCowXcRWEunXwgRMPo+pLFWtLg2 CkPRTxN0BPyTnTSC+GDLhTqq0wqZR3Tsjzq1In5eaOdDgAk/lsGCPM+hAWXR7CKojAYt 86Lvry2/09MB3oT+edhJEcZQnHE8/Q1RyPHpgB9eHLi5wPCOl0k4nk9M44M5tnJODU6c tqLqoPQTu3syStWbmDN/utVrnRxT51KritpmoM34j76Q+lsjPeFhkdPBYQ8SywtdbOzY Gl/Qf+c+DjB7Us8c/Oaa10RqggMUqh1r6oRng24WpRqtIMwBUrobOcNnBaQUT4Kf5WyX e06Q== X-Gm-Message-State: AOJu0Yw0STIJtDd4LWuDC7eA2eTjSckPrb1lDaI0xvF2zrGU7wfOuwQd LXZ+kwmcikfJw646n6U0crBpLS8mnXJ4S1FSwsh9Pns5tSOmVkfx63y8k/7xcNssq2booyWcDis UMb8lrRGRzSjxNvT8/0Y9OMqbjy06Ae2ru7KE+XzAjJW6c621g/rH X-Gm-Gg: ASbGnctaOZNS7QjzOT9ylEwOKRJk1avIezQ+uqGD11dcX8SDzde9wTW3GOCDLl1sGH9 N6BTooyEuAn/p9/7wjJR7Xj438RuEy5rXWuRVrZaxbiBNDgM1BGDr/VqN0zYG8ZIHQcv1bXA9/j zjZxKTSn2GmZTpXbNeLkFG2nKIGqc3yJ2Jw5DOMr5r5QokLUsON5YDIcDPu1/g+jxjpoH47+JWK J8abQpAxVoDLGjVkIGbvrxtFdmTAwXFM+R+YD2gOwR4T3b/mF0gwv3w5Km/74XgeRE58pRlZ37H 3NxxPYEnfQ+FkNMfygPVlOVBL9ehK3jGWRIFuUG+DxQX/kGWS10ohQM= X-Google-Smtp-Source: AGHT+IGNmzGLQnGA28RtInJ2c3pD3TpHUc7EfegiCqYnSXrTzkyq+0D6hDLW5lrCNDvvmDUpQCoFjKN34rHU X-Received: by 2002:a05:6e02:1a8b:b0:411:6759:bfad with SMTP id e9e14a558f8ab-42f7c38ea02mr100361425ab.10.1759956033927; Wed, 08 Oct 2025 13:40:33 -0700 (PDT) Received: from postal.iol.unh.edu (postal.iol.unh.edu. [2606:4100:3880:1234::84]) by smtp-relay.gmail.com with ESMTPS id 8926c6da1cb9f-57b5ed6b5fbsm1514458173.40.2025.10.08.13.40.33 (version=TLS1_2 cipher=ECDHE-ECDSA-AES128-GCM-SHA256 bits=128/128); Wed, 08 Oct 2025 13:40:33 -0700 (PDT) X-Relaying-Domain: iol.unh.edu Date: Wed, 08 Oct 2025 13:40:33 -0700 (PDT) Message-ID: <68e6cc41.050a0220.62594.01b0SMTPIN_ADDED_MISSING@mx.google.com> Received: from [172.21.0.2] (unknown [172.18.0.240]) by postal.iol.unh.edu (Postfix) with ESMTP id 2A952604D420; Wed, 8 Oct 2025 16:40:33 -0400 (EDT) Subject: |SUCCESS| [GIT MASTER] b287e404643aeab5bb5db084c142789df187844e From: dpdklab@iol.unh.edu To: Test Report Cc: dpdk-test-reports@iol.unh.edu, Xueming Li , Christian Ehrhardt , Kevin Traynor , Luca Boccassi Content-Type: text/plain X-BeenThere: test-report@dpdk.org X-Mailman-Version: 2.1.29 Precedence: list List-Id: automatic DPDK test reports List-Unsubscribe: , List-Archive: List-Post: List-Help: List-Subscribe: , Errors-To: test-report-bounces@dpdk.org _Testing PASS_ Branch: tags/v24.11 b287e404643aeab5bb5db084c142789df187844e --> testing pass Upstream job id: Generic-Unit-Test-DPDK#379425 Test environment and result as below: +------------------------------+--------------+----------------+---------------------------+------------------------------+ | Environment | lpm_autotest | dpdk_unit_test | cryptodev_sw_zuc_autotest | cryptodev_sw_snow3g_autotest | +==============================+==============+================+===========================+==============================+ | Ubuntu 20.04 | PASS | PASS | SKIPPED | SKIPPED | +------------------------------+--------------+----------------+---------------------------+------------------------------+ | CentOS Stream 10 | SKIPPED | PASS | SKIPPED | SKIPPED | +------------------------------+--------------+----------------+---------------------------+------------------------------+ | CentOS Stream 9 | SKIPPED | PASS | SKIPPED | SKIPPED | +------------------------------+--------------+----------------+---------------------------+------------------------------+ | Debian GNU/Linux 12 | SKIPPED | PASS | SKIPPED | SKIPPED | +------------------------------+--------------+----------------+---------------------------+------------------------------+ | Fedora Linux 41 | SKIPPED | PASS | SKIPPED | SKIPPED | +------------------------------+--------------+----------------+---------------------------+------------------------------+ | Fedora Linux 40 | SKIPPED | PASS | SKIPPED | SKIPPED | +------------------------------+--------------+----------------+---------------------------+------------------------------+ | Fedora Linux 42 | SKIPPED | PASS | SKIPPED | SKIPPED | +------------------------------+--------------+----------------+---------------------------+------------------------------+ | Ubuntu 22.04 | SKIPPED | PASS | SKIPPED | SKIPPED | +------------------------------+--------------+----------------+---------------------------+------------------------------+ | Red Hat Enterprise Linux 9.5 | SKIPPED | PASS | SKIPPED | SKIPPED | +------------------------------+--------------+----------------+---------------------------+------------------------------+ | Ubuntu 24.04 | SKIPPED | PASS | SKIPPED | SKIPPED | +------------------------------+--------------+----------------+---------------------------+------------------------------+ | Debian 12 (arm) | SKIPPED | SKIPPED | PASS | PASS | +------------------------------+--------------+----------------+---------------------------+------------------------------+ Ubuntu 20.04 Kernel: 5.4 Compiler: gcc gcc (Ubuntu 9.4.0-1ubuntu1~20.04.2) 9.4.0 CentOS Stream 10 Kernel: 5.4 Compiler: gcc gcc (GCC) 14.2.1 20250110 (Red Hat 14.2.1-8) CentOS Stream 9 Kernel: 5.4 Compiler: gcc gcc (GCC) 11.5.0 20240719 (Red Hat 11.5.0-11) Debian GNU/Linux 12 Kernel: 5.4 Compiler: gcc gcc (Debian 12.2.0-14+deb12u1) 12.2.0 Fedora Linux 41 Kernel: 5.4 Compiler: gcc gcc (GCC) 14.3.1 20250523 (Red Hat 14.3.1-1) Fedora Linux 40 Kernel: 5.4 Compiler: gcc gcc (GCC) 14.2.1 20240912 (Red Hat 14.2.1-3) Fedora Linux 42 Kernel: 5.4 Compiler: gcc gcc (GCC) 15.2.1 20250808 (Red Hat 15.2.1-1) Ubuntu 22.04 Kernel: 5.4 Compiler: gcc gcc (Ubuntu 11.4.0-1ubuntu1~22.04) 11.4.0 Red Hat Enterprise Linux 9.5 Kernel: 5.4 Compiler: gcc gcc (GCC) 11.5.0 20240719 (Red Hat 11.5.0-2) Ubuntu 24.04 Kernel: 5.4 Compiler: gcc gcc (Ubuntu 13.3.0-6ubuntu2~24.04) 13.3.0 Debian 12 (arm) Kernel: Depends on container host Compiler: gcc (Debian 12.2.0-14) 12.2.0 To view detailed results, visit: https://lab.dpdk.org/results/dashboard/tarballs/35138/ UNH-IOL DPDK Community Lab To manage your email subscriptions, visit: https://lab.dpdk.org/results/dashboard/preferences/subscriptions/