From mboxrd@z Thu Jan 1 00:00:00 1970 Return-Path: Received: from mails.dpdk.org (mails.dpdk.org [217.70.189.124]) by inbox.dpdk.org (Postfix) with ESMTP id 050A0488E7 for ; Wed, 8 Oct 2025 22:57:46 +0200 (CEST) Received: from mails.dpdk.org (localhost [127.0.0.1]) by mails.dpdk.org (Postfix) with ESMTP id C6B5C4026F; Wed, 8 Oct 2025 22:57:46 +0200 (CEST) Received: from mail-pj1-f99.google.com (mail-pj1-f99.google.com [209.85.216.99]) by mails.dpdk.org (Postfix) with ESMTP id 85C0D4026F for ; Wed, 8 Oct 2025 22:57:45 +0200 (CEST) Received: by mail-pj1-f99.google.com with SMTP id 98e67ed59e1d1-3324523dfb2so335001a91.0 for ; Wed, 08 Oct 2025 13:57:45 -0700 (PDT) DKIM-Signature: v=1; a=rsa-sha256; c=relaxed/relaxed; d=iol.unh.edu; s=unh-iol; t=1759957065; x=1760561865; darn=dpdk.org; h=references:in-reply-to:cc:to:from:subject:message-id:date:from:to :cc:subject:date:message-id:reply-to; bh=puPmYrXUIorxFSge2DvmawWs9hM3BJsQZ/ka+0CNxYg=; b=IIk/cjkr+4UWFTj1nDOVt/Ye7gz8GIpFzPKKHIL4yAmgivgUF4ECfYwBVwGgb9PqUO dRJfh5/5pQ+YNbZ6/oqIIoBVb65aObzFZ0T0K0ip1DmCDCsCVdeO7WZoJpiPPcXMKBfR gMi5l2BisSV3Za/4uEdM7noakVgLdSXSCRz4Q= X-Google-DKIM-Signature: v=1; a=rsa-sha256; c=relaxed/relaxed; d=1e100.net; s=20230601; t=1759957065; x=1760561865; h=references:in-reply-to:cc:to:from:subject:message-id:date :x-gm-message-state:from:to:cc:subject:date:message-id:reply-to; bh=puPmYrXUIorxFSge2DvmawWs9hM3BJsQZ/ka+0CNxYg=; b=AseHCEb5b2G6teoY1rRANnP5couwst6lSGPayg5PjVVipazcfQ/GYisPFuSm8ebsMA y5Jpk8cG5t65/sNsgiLQPHolin1NlO/1euLYQkG4CXF3YkDWt2BBeTFjc4v2dBhLmly/ mlSz/VF3VhkbL2E1vvmHC8ax1dvlfZlag4XXhCgYwxYC/hjqd4L9JhqZ+77YqBlVc6wR wlhGVHflBqnNQuluHTMVfxkN6jLpz7DesvwnOI7bEMTwOiNAiMsnA+GpcQzNNm0VFnBx 6pY0/rtTFfhsRE8kBJgRgFW6+xfrQZ2kxXeCFyAJy7/MpbbkXpcUwhSVNZ+mpLOsRu6G 7W7g== X-Gm-Message-State: AOJu0Yz+b2ub3zgHDQOsTuMqTHOcVkUt9+NnNfHs6RJ16cB8+YIQVq88 FjQCuMrg0T1G3zA1BvIdLBr0y1ZKR67fizoVriOtyjmu9cjwuzFgC4ORp/9qmkSJeieOvnFRWS9 RYM7U3xpAUgWy5Bq/odZeKymPwevX4M08ra8e9pWRCRjKvVQyxzLCCj4AkrTM X-Gm-Gg: ASbGncurwweUbhnUBWuviCqojx1HzdVP0cbMxEF9qHbFqw43WCQwwduMcZ1RX827WBj Bai0p0FYDL7xlpMx69AjrqmEFb94rhvAJ68abDjqtU1LD/A43epnJh/+KVdjCMoI0saRYsBWM+D s8HC9KqsEE3Ju7Z2xQOkwgzzSk+IENR7do6gMDeK0Rq8aQ86Sj2ArdyJFQtwKDnb2ORtKPTpaFt KUP372JXbMbcLFlOQaSK5j5YHYFq+ovkLAi0fqPsEkQllyC+mipGgy03fAAA10/WYCe0okDS9AX /u7VLGY2lUhRL1hwmZ637whAnRjvsKYUy3BIjY8c1psyUv117XgSW24= X-Google-Smtp-Source: AGHT+IHHs4xJr/CS32qS956IOE6pXKzprzW19wSASQn5DSFj+P7aEkd59aHoPOomw6iglHapzC6wn3us9Jwz X-Received: by 2002:a17:902:f64f:b0:28e:a70f:e882 with SMTP id d9443c01a7336-29027215bc9mr64699575ad.11.1759957064653; Wed, 08 Oct 2025 13:57:44 -0700 (PDT) Received: from postal.iol.unh.edu (postal.iol.unh.edu. [2606:4100:3880:1234::84]) by smtp-relay.gmail.com with ESMTPS id d9443c01a7336-29034e2b480sm622605ad.27.2025.10.08.13.57.44 (version=TLS1_2 cipher=ECDHE-ECDSA-AES128-GCM-SHA256 bits=128/128); Wed, 08 Oct 2025 13:57:44 -0700 (PDT) X-Relaying-Domain: iol.unh.edu Date: Wed, 08 Oct 2025 13:57:44 -0700 (PDT) Message-ID: <68e6d048.170a0220.1d086c.39dbSMTPIN_ADDED_MISSING@mx.google.com> Received: from [172.21.0.2] (unknown [172.18.0.240]) by postal.iol.unh.edu (Postfix) with ESMTP id E2DC16051830; Wed, 8 Oct 2025 16:57:43 -0400 (EDT) Subject: |SUCCESS| pw157315-157319 [PATCH] [v2,5/5] net/dpaa: Fix coverity is From: dpdklab@iol.unh.edu To: Test Report Cc: dpdk-test-reports@iol.unh.edu, Stephen Hemminger In-Reply-To: <20251008043519.2461707-6-g.singh@nxp.com> References: <20251008043519.2461707-6-g.singh@nxp.com> Content-Type: text/plain X-BeenThere: test-report@dpdk.org X-Mailman-Version: 2.1.29 Precedence: list List-Id: automatic DPDK test reports List-Unsubscribe: , List-Archive: List-Post: List-Help: List-Subscribe: , Errors-To: test-report-bounces@dpdk.org Test-Label: iol-compile-amd64-testing Test-Status: SUCCESS http://dpdk.org/patch/157319 _Testing PASS_ Submitter: Gagandeep Singh Date: Wednesday, October 08 2025 04:35:19 DPDK git baseline: Repo:dpdk-next-net Branch: master CommitID:c04bbd131b2c14b3049bf86d3ef367b34e6fdf1e 157315-157319 --> testing pass Upstream job id: Generic-DPDK-Compile-Meson#432469 Test environment and result as below: +---------------------+--------------------+-------------------------+-------------------+----------------------+-------------------+------------------+ | Environment | dpdk_meson_compile | dpdk_llvm_clang_compile | dpdk_msvc_compile | dpdk_mingw64_compile | dpdk_compile_spdk | dpdk_compile_ovs | +=====================+====================+=========================+===================+======================+===================+==================+ | Ubuntu 20.04 | PASS | SKIPPED | SKIPPED | SKIPPED | SKIPPED | SKIPPED | +---------------------+--------------------+-------------------------+-------------------+----------------------+-------------------+------------------+ | FreeBSD 14.2 | PASS | SKIPPED | SKIPPED | SKIPPED | SKIPPED | SKIPPED | +---------------------+--------------------+-------------------------+-------------------+----------------------+-------------------+------------------+ | CentOS Stream 9 | PASS | SKIPPED | SKIPPED | SKIPPED | PASS | SKIPPED | +---------------------+--------------------+-------------------------+-------------------+----------------------+-------------------+------------------+ | CentOS Stream 10 | PASS | SKIPPED | SKIPPED | SKIPPED | SKIPPED | SKIPPED | +---------------------+--------------------+-------------------------+-------------------+----------------------+-------------------+------------------+ | Debian GNU/Linux 12 | PASS | SKIPPED | SKIPPED | SKIPPED | PASS | SKIPPED | +---------------------+--------------------+-------------------------+-------------------+----------------------+-------------------+------------------+ | Fedora Linux 42 | PASS | SKIPPED | SKIPPED | SKIPPED | PASS | PASS | +---------------------+--------------------+-------------------------+-------------------+----------------------+-------------------+------------------+ | Windows Server 2022 | SKIPPED | PASS | PASS | PASS | SKIPPED | SKIPPED | +---------------------+--------------------+-------------------------+-------------------+----------------------+-------------------+------------------+ Ubuntu 20.04 Kernel: 4.19 Compiler: gcc gcc (Ubuntu 9.4.0-1ubuntu1~20.04.2) 9.4.0 FreeBSD 14.2 Kernel: 14.2-RELEASE Compiler: clang 18.1.6 CentOS Stream 9 Kernel: 5.15 Compiler: gcc gcc (GCC) 11.5.0 20240719 (Red Hat 11.5.0-11) CentOS Stream 10 Kernel: 5.15 Compiler: gcc gcc (GCC) 14.2.1 20250110 (Red Hat 14.2.1-8) Debian GNU/Linux 12 Kernel: 5.15 Compiler: gcc gcc (Debian 12.2.0-14+deb12u1) 12.2.0 Fedora Linux 42 Kernel: 5.15 Compiler: clang gcc (GCC) 15.2.1 20250808 (Red Hat 15.2.1-1) Windows Server 2022 Kernel: 10.0.20348.2031 Compiler: clang 15.0.7, gcc 14.1.0 (MinGW), and MSVC VS 19.39.33521 To view detailed results, visit: https://lab.dpdk.org/results/dashboard/patchsets/34232/ UNH-IOL DPDK Community Lab To manage your email subscriptions, visit: https://lab.dpdk.org/results/dashboard/preferences/subscriptions/