From mboxrd@z Thu Jan 1 00:00:00 1970 Return-Path: Received: from mails.dpdk.org (mails.dpdk.org [217.70.189.124]) by inbox.dpdk.org (Postfix) with ESMTP id 1FC0F488E7 for ; Wed, 8 Oct 2025 23:11:39 +0200 (CEST) Received: from mails.dpdk.org (localhost [127.0.0.1]) by mails.dpdk.org (Postfix) with ESMTP id 0E1D840267; Wed, 8 Oct 2025 23:11:39 +0200 (CEST) Received: from mail-pj1-f98.google.com (mail-pj1-f98.google.com [209.85.216.98]) by mails.dpdk.org (Postfix) with ESMTP id D64E640267 for ; Wed, 8 Oct 2025 23:11:37 +0200 (CEST) Received: by mail-pj1-f98.google.com with SMTP id 98e67ed59e1d1-3327f8ed081so399565a91.1 for ; Wed, 08 Oct 2025 14:11:37 -0700 (PDT) DKIM-Signature: v=1; a=rsa-sha256; c=relaxed/relaxed; d=iol.unh.edu; s=unh-iol; t=1759957897; x=1760562697; darn=dpdk.org; h=references:in-reply-to:cc:to:from:subject:message-id:date:from:to :cc:subject:date:message-id:reply-to; bh=rmjWR/QAlZSCX3YF/nITvHNGl8wBgwwUOdyHacBZ3b4=; b=MIoUbU7GQqGBEBiQs3pR7OPWFyLLpxtN2HVdwHtKDQhJ2284keE3Zr3MhgH224pYML iDcmFnL0+39vL2Cy9MggT8t3lpDlgRiYmVTOr/wcJzqYPzJl4vdokUtnLWjVWunB6K98 8QfgmTcrHvWDCNeDnJUOvylslnjRUdMuV9Duc= X-Google-DKIM-Signature: v=1; a=rsa-sha256; c=relaxed/relaxed; d=1e100.net; s=20230601; t=1759957897; x=1760562697; h=references:in-reply-to:cc:to:from:subject:message-id:date :x-gm-message-state:from:to:cc:subject:date:message-id:reply-to; bh=rmjWR/QAlZSCX3YF/nITvHNGl8wBgwwUOdyHacBZ3b4=; b=d5Zn/7fEWIth1JzgmOrddpdhv03UN0S9j7nV7JLCDnR5FrWrUf13Ede3GB92PThUSB Nzagpwat4YxVsxk41tlFO5S4h//THjvCAYev92KJ4j/CooRlTzDwNT3nj3esxfxUc0ZF Ku1m18cUl4PUflPqr1tv1JwJqMFWstuqCGcoFqR+1uPnTBTXRn3tEWcH5LJ5HXvsl/SS V+9q7myPl1SHlqUZ62Nxd6NsEGVo0T4tL031113dlsIJu9sun6SaXgiKrwhoWj6MFhJc AImQ4cwMvSD2L0ctigqwbFLlmdKeLEtv7rBCoYrI22yzd7Nw775Ql3I6FI2GiW51AaZE 9AbA== X-Gm-Message-State: AOJu0YwRcb8crmvEts+QejSRsBffnOy0MMzCNEoHW4IT9/sltvFxij6A SQ8Jo1JXR10IyJDvgSgNS0WPtB2BWhwo2aKyt0QzwsuKruyRvpTD5z15NrwcqbGqTRc5oGNYAJe miCat4mA23gNvzZObc3LO5VGq3CeSznQYfT5ApyKtlk9lDLmw8/EYjNGeFq56 X-Gm-Gg: ASbGncuznzF50W5+iRxCBa1DKcdjY8fjVys42sDxzyIhMYZd8Uuo2abFJVwkxwuar9k sI/8uwjYS1rjoSe17dS9oZ0/IOOsCw2jJd04iDqHcripcoqefAg4uWWysdbxUM3kyPLlQ5b6YaN l3sdpp1HlfM5Y3JSBGUVGdUcjzCLB1tX+gBoaGC2tH7xI1RTHSVR9ZI4NECB0KC2zxbPeJaMbqI ZB5E9+uK0b3HTuFXI3TvizTTYvWVK2WTUeL7xgYouhEOZu6IBqNUil/vlkMWox+GtejVLBXHF2K y219gV5ZZSXOkJuDqjbFYiwvYAUgbNbPb8ekeaO1K2CG/honTCjSl0o= X-Google-Smtp-Source: AGHT+IE24VgCvVQ5OHOm+ayesJlWD54VWx1at+kagXRgo0qy1rBwtEBz+gbW+3cbmbQ0/A2nopgEvqx858KD X-Received: by 2002:a17:90b:1648:b0:32e:e18a:368c with SMTP id 98e67ed59e1d1-33b51106a8emr6780371a91.7.1759957896973; Wed, 08 Oct 2025 14:11:36 -0700 (PDT) Received: from postal.iol.unh.edu (postal.iol.unh.edu. [2606:4100:3880:1234::84]) by smtp-relay.gmail.com with ESMTPS id 98e67ed59e1d1-33b510e1598sm303414a91.2.2025.10.08.14.11.36 (version=TLS1_2 cipher=ECDHE-ECDSA-AES128-GCM-SHA256 bits=128/128); Wed, 08 Oct 2025 14:11:36 -0700 (PDT) X-Relaying-Domain: iol.unh.edu Date: Wed, 08 Oct 2025 14:11:36 -0700 (PDT) Message-ID: <68e6d388.170a0220.d1039.0deeSMTPIN_ADDED_MISSING@mx.google.com> Received: from [172.21.0.3] (unknown [172.18.0.240]) by postal.iol.unh.edu (Postfix) with ESMTP id 44267604D420; Wed, 8 Oct 2025 17:11:36 -0400 (EDT) Subject: |SUCCESS| pw157314 [PATCH] [v2] vhost: always lock all QPs if handle From: dpdklab@iol.unh.edu To: Test Report Cc: dpdk-test-reports@iol.unh.edu, Chenbo Xia , Maxime Coquelin In-Reply-To: <20251007150630.2895365-1-sil-plv@napatech.com> References: <20251007150630.2895365-1-sil-plv@napatech.com> Content-Type: text/plain X-BeenThere: test-report@dpdk.org X-Mailman-Version: 2.1.29 Precedence: list List-Id: automatic DPDK test reports List-Unsubscribe: , List-Archive: List-Post: List-Help: List-Subscribe: , Errors-To: test-report-bounces@dpdk.org Test-Label: iol-compile-arm64-testing Test-Status: SUCCESS http://dpdk.org/patch/157314 _Testing PASS_ Submitter: Serhii Iliushyk Date: Tuesday, October 07 2025 15:06:30 DPDK git baseline: Repo:dpdk-next-virtio Branch: master CommitID:4159ea62922ce41566c7bab44655ad78bee85458 157314 --> testing pass Upstream job id: Generic-DPDK-Compile-Meson#432303 Test environment and result as below: +------------------------------+--------------------+ | Environment | dpdk_meson_compile | +==============================+====================+ | Red Hat Enterprise Linux 9.5 | PASS | +------------------------------+--------------------+ | Ubuntu 20.04 | PASS | +------------------------------+--------------------+ | Debian GNU/Linux 12 | PASS | +------------------------------+--------------------+ | Fedora Linux 42 | PASS | +------------------------------+--------------------+ | Ubuntu 22.04 | PASS | +------------------------------+--------------------+ | Ubuntu 24.04 | PASS | +------------------------------+--------------------+ | CentOS Stream 9 | PASS | +------------------------------+--------------------+ | CentOS Stream 10 | PASS | +------------------------------+--------------------+ Red Hat Enterprise Linux 9.5 Kernel: 5.4 Compiler: gcc gcc (GCC) 11.5.0 20240719 (Red Hat 11.5.0-2) Ubuntu 20.04 Kernel: 5.15 Compiler: aarch64-linux-gnu-gcc gcc (Ubuntu 9.4.0-1ubuntu1~20.04.2) 9.4.0 Debian GNU/Linux 12 Kernel: 5.4 Compiler: gcc gcc (Debian 12.2.0-14+deb12u1) 12.2.0 Fedora Linux 42 Kernel: 5.4 Compiler: gcc gcc (GCC) 15.2.1 20250808 (Red Hat 15.2.1-1) Ubuntu 22.04 Kernel: 5.4 Compiler: gcc gcc (Ubuntu 11.4.0-1ubuntu1~22.04) 11.4.0 Ubuntu 24.04 Kernel: 5.4 Compiler: gcc gcc (Ubuntu 13.3.0-6ubuntu2~24.04) 13.3.0 CentOS Stream 9 Kernel: 5.4 Compiler: gcc gcc (GCC) 11.5.0 20240719 (Red Hat 11.5.0-11) CentOS Stream 10 Kernel: 5.4 Compiler: gcc gcc (GCC) 14.2.1 20250110 (Red Hat 14.2.1-8) To view detailed results, visit: https://lab.dpdk.org/results/dashboard/patchsets/34231/ UNH-IOL DPDK Community Lab To manage your email subscriptions, visit: https://lab.dpdk.org/results/dashboard/preferences/subscriptions/