From mboxrd@z Thu Jan 1 00:00:00 1970 Return-Path: Received: from mails.dpdk.org (mails.dpdk.org [217.70.189.124]) by inbox.dpdk.org (Postfix) with ESMTP id 529A3488E7 for ; Wed, 8 Oct 2025 23:33:16 +0200 (CEST) Received: from mails.dpdk.org (localhost [127.0.0.1]) by mails.dpdk.org (Postfix) with ESMTP id 4BDB740267; Wed, 8 Oct 2025 23:33:16 +0200 (CEST) Received: from mail-qk1-f228.google.com (mail-qk1-f228.google.com [209.85.222.228]) by mails.dpdk.org (Postfix) with ESMTP id 6EE2E40267 for ; Wed, 8 Oct 2025 23:33:14 +0200 (CEST) Received: by mail-qk1-f228.google.com with SMTP id af79cd13be357-87808473c3bso34611585a.1 for ; Wed, 08 Oct 2025 14:33:14 -0700 (PDT) DKIM-Signature: v=1; a=rsa-sha256; c=relaxed/relaxed; d=iol.unh.edu; s=unh-iol; t=1759959194; x=1760563994; darn=dpdk.org; h=references:in-reply-to:cc:to:from:subject:message-id:date:from:to :cc:subject:date:message-id:reply-to; bh=KeBVCf29eh96I+s1aPQjQtQdxkbUmLH79tdKMxCc8jo=; b=Oom6zHo+pgIrYhwVtBfyc6cdmQfFfGuOfLLDhmahSEvMyk7t6vqqyy37XYYtR7ppsA hwfTSWTCNqDx/ucHS62RZJWh+Ttvl68pp3IaJUfSNfMuEOy/uz+v2nLEv1fvmduPC9Lg oYACQm2dWbSt2DDTKvLhUAg/3QjQK5hKVpT+c= X-Google-DKIM-Signature: v=1; a=rsa-sha256; c=relaxed/relaxed; d=1e100.net; s=20230601; t=1759959194; x=1760563994; h=references:in-reply-to:cc:to:from:subject:message-id:date :x-gm-message-state:from:to:cc:subject:date:message-id:reply-to; bh=KeBVCf29eh96I+s1aPQjQtQdxkbUmLH79tdKMxCc8jo=; b=r+xFAyn973uS2z/6HID1iS+eWKP8Vat2tJeUQMfHBxTC/LfTqk5jo3tGKAwD2HHmAZ j118goX/+hDrWey62Vy5r3bsxpHS0dLh4ZQufyruuJKsgzmlzDHMUGIU8FMZw/1Jxrao HcSw3Bwp6m7vU7vs/vNttQdwgJSQLrLz0au6oTcM2P2b58a8hMZNkyXCMnJvGZEU98Ze QcOf3eFYP3xceOwXmQxzLKZ8PhWqnR5TKQj7jgjREHRl/GRXzYRDk0Wzc7yi8EzFAq+p K6XrOQUYtWI3y+zTJRHUFf/isLgmYYulM1GELdFv4OwFqeYrK6tc18pWPwBp6XUVAtiV FPuA== X-Gm-Message-State: AOJu0Yxu3fO+jSUB9gDdwRIC+FkCoiRnJ8Olpa3F4cNy66MB4AWU+Mo8 1C9hJRXEkyuhyN76RffSo4TMfn2WVmBPsP3GhcplzgpHXDUzreqFmCRnPdH3GPFcrCRA4oUYjus +Abyv1fyniElKYVdCYOpdcG5Rvxs3hfivqwdHgEuq4ban X-Gm-Gg: ASbGnctmXLqQDv3JXnd0mEvfInbN4daYQrQGB8+84YUQVJoJ04tJ15rxcpPbU9kzhbz RHAzER3sPB7pILDxwQoSwmJwvpC2YE6s728Rnp8n8u74tdfuoa3z4SwNbaUvIK/SwUWx+Yk7FEc ZLNCcdF3TMRn/Y7diMqzPokGd0g6UuRqShg75VAzfqX5Qc3RAoPpvQUyvjxrJ/8ze6hlw0YNAy/ J+hK9ahvxrHc+sZJgH25pQRSt/m1j4vfEp7S1gJkEqixey6tqEfst4T6m6WFrIVKXFOVjXpfocf zqXq/uQjWwa78WDu6bOWV6DmGrRBP9Nu+sxWyOF30tBQib0AhZNajJXaSOTB4Jir7iRH2KhMuuD 86Q== X-Google-Smtp-Source: AGHT+IHfB9pH/+CX5/kwZCYkmsh+J3rHhYvDSDdS/MapNLpvak7GNydp4tWfYJm1SC9prvgdUPBHK29gZQWS X-Received: by 2002:a05:620a:7116:b0:7fe:a9cf:7c1a with SMTP id af79cd13be357-883523d6db7mr772910985a.20.1759959193766; Wed, 08 Oct 2025 14:33:13 -0700 (PDT) Received: from postal.iol.unh.edu (postal.iol.unh.edu. [132.177.123.84]) by smtp-relay.gmail.com with ESMTPS id af79cd13be357-884a1ab59ebsm7241985a.7.2025.10.08.14.33.13 (version=TLS1_2 cipher=ECDHE-ECDSA-AES128-GCM-SHA256 bits=128/128); Wed, 08 Oct 2025 14:33:13 -0700 (PDT) X-Relaying-Domain: iol.unh.edu Date: Wed, 08 Oct 2025 14:33:13 -0700 (PDT) Message-ID: <68e6d899.050a0220.2af0b5.4178SMTPIN_ADDED_MISSING@mx.google.com> Received: from [172.21.0.2] (unknown [172.18.0.240]) by postal.iol.unh.edu (Postfix) with ESMTP id 4881D604D420; Wed, 8 Oct 2025 17:33:13 -0400 (EDT) Subject: |SUCCESS| pw157315-157319 [PATCH] [v2,5/5] net/dpaa: Fix coverity is From: dpdklab@iol.unh.edu To: Test Report Cc: dpdk-test-reports@iol.unh.edu, Stephen Hemminger In-Reply-To: <20251008043519.2461707-6-g.singh@nxp.com> References: <20251008043519.2461707-6-g.singh@nxp.com> Content-Type: text/plain X-BeenThere: test-report@dpdk.org X-Mailman-Version: 2.1.29 Precedence: list List-Id: automatic DPDK test reports List-Unsubscribe: , List-Archive: List-Post: List-Help: List-Subscribe: , Errors-To: test-report-bounces@dpdk.org Test-Label: iol-compile-amd64-testing Test-Status: SUCCESS http://dpdk.org/patch/157319 _Testing PASS_ Submitter: Gagandeep Singh Date: Wednesday, October 08 2025 04:35:19 DPDK git baseline: Repo:dpdk-next-net Branch: master CommitID:c04bbd131b2c14b3049bf86d3ef367b34e6fdf1e 157315-157319 --> testing pass Upstream job id: Generic-DPDK-Compile-Meson#432471 Test environment and result as below: +-------------------------------+--------------------+-------------------------+-------------------+----------------------+-------------------+------------------+ | Environment | dpdk_meson_compile | dpdk_llvm_clang_compile | dpdk_msvc_compile | dpdk_mingw64_compile | dpdk_compile_spdk | dpdk_compile_ovs | +===============================+====================+=========================+===================+======================+===================+==================+ | Ubuntu 20.04 | PASS | SKIPPED | SKIPPED | SKIPPED | SKIPPED | SKIPPED | +-------------------------------+--------------------+-------------------------+-------------------+----------------------+-------------------+------------------+ | FreeBSD 14.2 | PASS | SKIPPED | SKIPPED | SKIPPED | SKIPPED | SKIPPED | +-------------------------------+--------------------+-------------------------+-------------------+----------------------+-------------------+------------------+ | CentOS Stream 9 | PASS | SKIPPED | SKIPPED | SKIPPED | PASS | SKIPPED | +-------------------------------+--------------------+-------------------------+-------------------+----------------------+-------------------+------------------+ | CentOS Stream 10 | PASS | SKIPPED | SKIPPED | SKIPPED | SKIPPED | SKIPPED | +-------------------------------+--------------------+-------------------------+-------------------+----------------------+-------------------+------------------+ | Debian GNU/Linux 12 | PASS | SKIPPED | SKIPPED | SKIPPED | PASS | SKIPPED | +-------------------------------+--------------------+-------------------------+-------------------+----------------------+-------------------+------------------+ | Fedora Linux 42 | PASS | SKIPPED | SKIPPED | SKIPPED | PASS | PASS | +-------------------------------+--------------------+-------------------------+-------------------+----------------------+-------------------+------------------+ | openSUSE Leap 15.6 | PASS | SKIPPED | SKIPPED | SKIPPED | SKIPPED | SKIPPED | +-------------------------------+--------------------+-------------------------+-------------------+----------------------+-------------------+------------------+ | Red Hat Enterprise Linux 8.10 | PASS | SKIPPED | SKIPPED | SKIPPED | SKIPPED | SKIPPED | +-------------------------------+--------------------+-------------------------+-------------------+----------------------+-------------------+------------------+ | Red Hat Enterprise Linux 9.5 | PASS | SKIPPED | SKIPPED | SKIPPED | SKIPPED | SKIPPED | +-------------------------------+--------------------+-------------------------+-------------------+----------------------+-------------------+------------------+ | Ubuntu 22.04 | PASS | SKIPPED | SKIPPED | SKIPPED | PASS | SKIPPED | +-------------------------------+--------------------+-------------------------+-------------------+----------------------+-------------------+------------------+ | Ubuntu 24.04 | PASS | SKIPPED | SKIPPED | SKIPPED | PASS | PASS | +-------------------------------+--------------------+-------------------------+-------------------+----------------------+-------------------+------------------+ | Windows Server 2022 | SKIPPED | PASS | PASS | PASS | SKIPPED | SKIPPED | +-------------------------------+--------------------+-------------------------+-------------------+----------------------+-------------------+------------------+ Ubuntu 20.04 Kernel: 4.19 Compiler: gcc gcc (Ubuntu 9.4.0-1ubuntu1~20.04.2) 9.4.0 FreeBSD 14.2 Kernel: 14.2-RELEASE Compiler: clang 18.1.6 CentOS Stream 9 Kernel: 5.15 Compiler: gcc gcc (GCC) 11.5.0 20240719 (Red Hat 11.5.0-11) CentOS Stream 10 Kernel: 5.15 Compiler: gcc gcc (GCC) 14.2.1 20250110 (Red Hat 14.2.1-8) Debian GNU/Linux 12 Kernel: 5.15 Compiler: gcc gcc (Debian 12.2.0-14+deb12u1) 12.2.0 Fedora Linux 42 Kernel: 5.15 Compiler: clang gcc (GCC) 15.2.1 20250808 (Red Hat 15.2.1-1) openSUSE Leap 15.6 Kernel: 5.15 Compiler: gcc gcc (SUSE Linux) 7.5.0 Red Hat Enterprise Linux 8.10 Kernel: 5.15 Compiler: gcc gcc (GCC) 8.5.0 20210514 (Red Hat 8.5.0-22) Red Hat Enterprise Linux 9.5 Kernel: 5.15 Compiler: gcc gcc (GCC) 11.5.0 20240719 (Red Hat 11.5.0-2) Ubuntu 22.04 Kernel: 5.15 Compiler: gcc gcc (Ubuntu 11.4.0-1ubuntu1~22.04) 11.4.0 Ubuntu 24.04 Kernel: 5.15 Compiler: gcc gcc (Ubuntu 13.3.0-6ubuntu2~24.04) 13.3.0 Windows Server 2022 Kernel: 10.0.20348.2031 Compiler: clang 15.0.7, gcc 14.1.0 (MinGW), and MSVC VS 19.39.33521 To view detailed results, visit: https://lab.dpdk.org/results/dashboard/patchsets/34232/ UNH-IOL DPDK Community Lab To manage your email subscriptions, visit: https://lab.dpdk.org/results/dashboard/preferences/subscriptions/