From mboxrd@z Thu Jan 1 00:00:00 1970 Return-Path: Received: from mails.dpdk.org (mails.dpdk.org [217.70.189.124]) by inbox.dpdk.org (Postfix) with ESMTP id 20660488D0 for ; Wed, 8 Oct 2025 23:58:44 +0200 (CEST) Received: from mails.dpdk.org (localhost [127.0.0.1]) by mails.dpdk.org (Postfix) with ESMTP id DD2E640267; Wed, 8 Oct 2025 23:58:43 +0200 (CEST) Received: from mail-oa1-f98.google.com (mail-oa1-f98.google.com [209.85.160.98]) by mails.dpdk.org (Postfix) with ESMTP id 1A26340267 for ; Wed, 8 Oct 2025 23:58:43 +0200 (CEST) Received: by mail-oa1-f98.google.com with SMTP id 586e51a60fabf-3729f8eaa10so98087fac.3 for ; Wed, 08 Oct 2025 14:58:43 -0700 (PDT) DKIM-Signature: v=1; a=rsa-sha256; c=relaxed/relaxed; d=iol.unh.edu; s=unh-iol; t=1759960722; x=1760565522; darn=dpdk.org; h=references:in-reply-to:cc:to:from:subject:message-id:date:from:to :cc:subject:date:message-id:reply-to; bh=GYEe+MLgK9tgeHDcQXu5ow44iVPRKrz023+CAsW5rAo=; b=Hg15EosuRjT45iVuHaADUjjN4ZMVNh5PcmPcYDbEYZQUfFhTVEoFGiyfl/ioZ/NkhW htA9tKOUwThmz9Ip4hAi578VK3rJeVgExQ1a70/vn6fO9tz88J4haCfkKeh3nfBOu2ap +i+ikmvTJhcUdoGu0FgAcQVgvq7rDmRoxd9M0= X-Google-DKIM-Signature: v=1; a=rsa-sha256; c=relaxed/relaxed; d=1e100.net; s=20230601; t=1759960722; x=1760565522; h=references:in-reply-to:cc:to:from:subject:message-id:date :x-gm-message-state:from:to:cc:subject:date:message-id:reply-to; bh=GYEe+MLgK9tgeHDcQXu5ow44iVPRKrz023+CAsW5rAo=; b=YpFLlxUJscQyqi4sKSpJPZPj+BlXV5FFqvJ+YmPOt+Oe3JuzqZ5y7rlE9RMt3OS98J nl6ej1ER4e2ZLyIR9+LUuPS9LZiRF/p4bXogdumRLrLJpvQHNnsDN3CVcZNjonq4nZow SglQuoJn8+XzQI8IXFiKNe0BbnM6OElh5kgp/4DgZzPMi31VTHvzWiLNZ5V2bIO8OhgS xam9LoYB6+ynup4AysbjOTNGM74I2d5r5kS3cLqA/BlaIVKwQR5btXdKXSjjW3LeWZTa /UxFIpzLhX2GkV7peZsr5gNxU4Am5NJkJG8LDVN54ukp/eQ0nrYPwISmKQ+lDDnAx8Oe 1mlw== X-Gm-Message-State: AOJu0YzpkkfbUQHdKjFFx5VnbjCwW0WEOn8XtzkIVOTbSR8tEW/iiMv5 bwBatuuBM70dwCBCkMmXPF8i4Z4U4wrZzBulqE025pztk2SLwAQVx0HVwQ6alFkO4kUKvShMuwz k/Tat56DA3pBBl26gZrlMEAzKrowxJ8N2b7Z0AG+Qe+J9 X-Gm-Gg: ASbGncvMjz7m/p5Q54SaZKA1URTu1+ClOFoyVwGmYoJQe40E4CgV9lydyhL/7N9F09x LwtuhX6h4qh7OzOhnfuFoqDeBrRntK2m6oRinsBUy0y75SorLGsOon7tYDZGd7eCqw6okOXPp/u w4R1TAebZpgSJ6PfkE0gvD8QvsDLqQ8sD1E2BtKoqzLH+Xcvv+p7/Oxq7IpaG0YyupBTvDCqjSd GhRMO2g4n7Abdk9Zg25ajdnBHNnYRuid++5qUhUYtNpc0HYqxHh5RDtE4r4mXrQSIxvPnvF00se xX1eQ6PT5Nt12PCnMPB4b9D7qR7G83iDpbVQ7h1gNRQMuH+Dd8sP5FG2q+nqkyNxhmi8h8eNWoV 7vg== X-Google-Smtp-Source: AGHT+IFveA6JUe8AeezZs89pPgd7peXHx0kIFHIDRtjHa2Pd6pFbmPBBvn/u6isogqQwy4nON83XbbmKPTLK X-Received: by 2002:a05:6870:c195:b0:30c:839:bb78 with SMTP id 586e51a60fabf-3c0ee875665mr2925295fac.0.1759960722351; Wed, 08 Oct 2025 14:58:42 -0700 (PDT) Received: from postal.iol.unh.edu (postal.iol.unh.edu. [132.177.123.84]) by smtp-relay.gmail.com with ESMTPS id 586e51a60fabf-3ab7dbcc4f7sm1626100fac.8.2025.10.08.14.58.42 (version=TLS1_2 cipher=ECDHE-ECDSA-AES128-GCM-SHA256 bits=128/128); Wed, 08 Oct 2025 14:58:42 -0700 (PDT) X-Relaying-Domain: iol.unh.edu Date: Wed, 08 Oct 2025 14:58:42 -0700 (PDT) Message-ID: <68e6de92.050a0220.23b79.76c9SMTPIN_ADDED_MISSING@mx.google.com> Received: from [172.21.0.2] (unknown [172.18.0.240]) by postal.iol.unh.edu (Postfix) with ESMTP id CAC4E6051830; Wed, 8 Oct 2025 17:58:41 -0400 (EDT) Subject: |SUCCESS| pw157331-157351 [PATCH] [v10,21/21] eal: allow lcore remap From: dpdklab@iol.unh.edu To: Test Report Cc: dpdk-test-reports@iol.unh.edu In-Reply-To: <20251008204244.2288583-22-bruce.richardson@intel.com> References: <20251008204244.2288583-22-bruce.richardson@intel.com> Content-Type: text/plain X-BeenThere: test-report@dpdk.org X-Mailman-Version: 2.1.29 Precedence: list List-Id: automatic DPDK test reports List-Unsubscribe: , List-Archive: List-Post: List-Help: List-Subscribe: , Errors-To: test-report-bounces@dpdk.org Test-Label: iol-compile-amd64-testing Test-Status: SUCCESS http://dpdk.org/patch/157351 _Testing PASS_ Submitter: Bruce Richardson Date: Wednesday, October 08 2025 20:42:44 DPDK git baseline: Repo:dpdk Branch: master CommitID:2b403dd8fb37d0ba13723e44ffc7ee2c2795f838 157331-157351 --> testing pass Upstream job id: Windows-Compile-DPDK-Native#31502 Test environment and result as below: +---------------------+--------------------+-------------------------+-------------------+----------------------+ | Environment | dpdk_meson_compile | dpdk_llvm_clang_compile | dpdk_msvc_compile | dpdk_mingw64_compile | +=====================+====================+=========================+===================+======================+ | Ubuntu 20.04 | PASS | SKIPPED | SKIPPED | SKIPPED | +---------------------+--------------------+-------------------------+-------------------+----------------------+ | FreeBSD 14.2 | PASS | SKIPPED | SKIPPED | SKIPPED | +---------------------+--------------------+-------------------------+-------------------+----------------------+ | Windows Server 2022 | SKIPPED | PASS | PASS | PASS | +---------------------+--------------------+-------------------------+-------------------+----------------------+ Ubuntu 20.04 Kernel: 4.19 Compiler: gcc gcc (Ubuntu 9.4.0-1ubuntu1~20.04.2) 9.4.0 FreeBSD 14.2 Kernel: 14.2-RELEASE Compiler: clang 18.1.6 Windows Server 2022 Kernel: 10.0.20348.2031 Compiler: clang 15.0.7, gcc 14.1.0 (MinGW), and MSVC VS 19.39.33521 To view detailed results, visit: https://lab.dpdk.org/results/dashboard/patchsets/34239/ UNH-IOL DPDK Community Lab To manage your email subscriptions, visit: https://lab.dpdk.org/results/dashboard/preferences/subscriptions/