From mboxrd@z Thu Jan 1 00:00:00 1970 Return-Path: Received: from mails.dpdk.org (mails.dpdk.org [217.70.189.124]) by inbox.dpdk.org (Postfix) with ESMTP id AFB7C488EC for ; Thu, 9 Oct 2025 00:00:18 +0200 (CEST) Received: from mails.dpdk.org (localhost [127.0.0.1]) by mails.dpdk.org (Postfix) with ESMTP id A8C3140267; Thu, 9 Oct 2025 00:00:18 +0200 (CEST) Received: from mail-pl1-f226.google.com (mail-pl1-f226.google.com [209.85.214.226]) by mails.dpdk.org (Postfix) with ESMTP id B8DE1402AE for ; Thu, 9 Oct 2025 00:00:16 +0200 (CEST) Received: by mail-pl1-f226.google.com with SMTP id d9443c01a7336-28832ad6f64so3578935ad.1 for ; Wed, 08 Oct 2025 15:00:16 -0700 (PDT) DKIM-Signature: v=1; a=rsa-sha256; c=relaxed/relaxed; d=iol.unh.edu; s=unh-iol; t=1759960816; x=1760565616; darn=dpdk.org; h=cc:to:from:subject:message-id:date:from:to:cc:subject:date :message-id:reply-to; bh=7gb2U0HooSFyARqK1iCENjdiuP3ibWm4Mdz4B4pzmYc=; b=WA9fyxE2pMhEQ9Z/QzpiLnxzk01Mz3x9RA7wm+FgX8m0zu5l/sa7gxmNylqlbCf3e8 c605A33Qqbdwxv1GUakSDJ0M6RkW7/1UhLUggcKer0guhbz+/xiuBlWKhfYbewP84rO9 +SHSlLZmrkDecVjzfmiKVOG3LbRO0NcbnlOF0= X-Google-DKIM-Signature: v=1; a=rsa-sha256; c=relaxed/relaxed; d=1e100.net; s=20230601; t=1759960816; x=1760565616; h=cc:to:from:subject:message-id:date:x-gm-message-state:from:to:cc :subject:date:message-id:reply-to; bh=7gb2U0HooSFyARqK1iCENjdiuP3ibWm4Mdz4B4pzmYc=; b=vvIFQSi0aGuFcWujLPj1O/c7YyimGgRGr0iD9slAE6WJrY7mamhwo4cqxDbT7rlSPq R+ARBl/gDUayO03XyYfppHQlrHhVTyd5jc4EDJIWMsNrRE7cmVJWHFbyJC1tc4EkBjqL YuOplNdLoXOuxKcsHROgo4WMF7sX4BPcqsiXVq78rKOryjeAKLAmZ2nExGNJvqAasKDn 40jxYogxZsWtbp/X92oAojigd9xo3byGHpWqNfxMgasoNUWrSfcd8Y16JW7O6CsUxroK UlKYSUuhA8VcDWtlkBFJmkjwZLCXQG3w/jDQhGVAgRNFcTA/0MvJSwSyiUfv5PNKZYm+ ZN1Q== X-Gm-Message-State: AOJu0YwK2jFTSmXtS0fIO10cEB9funUgwos0W5LD9PEHAPsjEqo6VwOC RP8HJIo4H1OX+8dzJBnPimxFOCzj1Q7o9AVm4WSTFXOSQ183qOTMr2/zMHZOtMazxPK/8CdzSIG lQsZukdxIr6Lngx9WPjYtSV/5FBIifGFNr0XIhzh7ntKoONdvdMJdIc0xQTQv X-Gm-Gg: ASbGnctV6g93X+mhuk0kC2kkGaX0thIUcHKvLWI0yf5P0ivB92YzAjNeDaSJ/tkciwJ AIgGZ/2ytc1iCLn6eA3L+qSz5BEJXIJKRF8eGFXDVU4ZTk7dzHRURCPdIuZTB+EiuNxTX+FExY3 19cf6ktEUGUmCYB/bTYphmgNnL+1b0IQI4ce8l1zkyq1wv8E+gXypgwP9aIA+7BtU6oGJ8rYdnm NX52ZZyJXLSso7lQnqQqdvI8aw1fgFAmjOnQGc7telNOkQcBfBjhpZd5pKKIMtqB0sEn5cCFfG7 nWt1niA1+NGibkQkFOYY1chcC9c6WT9Tju0QNhJOgBJqu7d5RmWQRU8= X-Google-Smtp-Source: AGHT+IHvk83CkxQ8qc95LgFX31YNbxOXkQ7vlF5kIwXdD3ackPv9noGqKKEsZ4o49hzXrf5VG8A5kupB8sBj X-Received: by 2002:a17:903:2ecf:b0:263:3e96:8c1b with SMTP id d9443c01a7336-290272c259bmr67429575ad.33.1759960815703; Wed, 08 Oct 2025 15:00:15 -0700 (PDT) Received: from postal.iol.unh.edu (postal.iol.unh.edu. [2606:4100:3880:1234::84]) by smtp-relay.gmail.com with ESMTPS id d9443c01a7336-29034ef019asm683235ad.40.2025.10.08.15.00.15 (version=TLS1_2 cipher=ECDHE-ECDSA-AES128-GCM-SHA256 bits=128/128); Wed, 08 Oct 2025 15:00:15 -0700 (PDT) X-Relaying-Domain: iol.unh.edu Date: Wed, 08 Oct 2025 15:00:15 -0700 (PDT) Message-ID: <68e6deef.170a0220.367829.3e8dSMTPIN_ADDED_MISSING@mx.google.com> Received: from [172.21.0.5] (unknown [172.18.0.240]) by postal.iol.unh.edu (Postfix) with ESMTP id BAC036051830; Wed, 8 Oct 2025 18:00:14 -0400 (EDT) Subject: |SUCCESS| [GIT MASTER] 2b403dd8fb37d0ba13723e44ffc7ee2c2795f838 From: dpdklab@iol.unh.edu To: Test Report Cc: dpdk-test-reports@iol.unh.edu Content-Type: text/plain X-BeenThere: test-report@dpdk.org X-Mailman-Version: 2.1.29 Precedence: list List-Id: automatic DPDK test reports List-Unsubscribe: , List-Archive: List-Post: List-Help: List-Subscribe: , Errors-To: test-report-bounces@dpdk.org _Testing PASS_ Branch: dpdk 2b403dd8fb37d0ba13723e44ffc7ee2c2795f838 --> testing pass Upstream job id: Generic-DPDK-Compile-Meson#432382 Test environment and result as below: +------------------------------+--------------------+ | Environment | dpdk_meson_compile | +==============================+====================+ | Red Hat Enterprise Linux 9.5 | PASS | +------------------------------+--------------------+ | Ubuntu 20.04 | PASS | +------------------------------+--------------------+ | Debian GNU/Linux 12 | PASS | +------------------------------+--------------------+ | Fedora Linux 42 | PASS | +------------------------------+--------------------+ | Ubuntu 22.04 | PASS | +------------------------------+--------------------+ | Ubuntu 24.04 | PASS | +------------------------------+--------------------+ | CentOS Stream 9 | PASS | +------------------------------+--------------------+ | CentOS Stream 10 | PASS | +------------------------------+--------------------+ Red Hat Enterprise Linux 9.5 Kernel: 5.4 Compiler: gcc gcc (GCC) 11.5.0 20240719 (Red Hat 11.5.0-2) Ubuntu 20.04 Kernel: 5.15 Compiler: aarch64-linux-gnu-gcc gcc (Ubuntu 9.4.0-1ubuntu1~20.04.2) 9.4.0 Debian GNU/Linux 12 Kernel: 5.4 Compiler: gcc gcc (Debian 12.2.0-14+deb12u1) 12.2.0 Fedora Linux 42 Kernel: 5.4 Compiler: gcc gcc (GCC) 15.2.1 20250808 (Red Hat 15.2.1-1) Ubuntu 22.04 Kernel: 5.4 Compiler: gcc gcc (Ubuntu 11.4.0-1ubuntu1~22.04) 11.4.0 Ubuntu 24.04 Kernel: 5.4 Compiler: gcc gcc (Ubuntu 13.3.0-6ubuntu2~24.04) 13.3.0 CentOS Stream 9 Kernel: 5.4 Compiler: gcc gcc (GCC) 11.5.0 20240719 (Red Hat 11.5.0-11) CentOS Stream 10 Kernel: 5.4 Compiler: gcc gcc (GCC) 14.2.1 20250110 (Red Hat 14.2.1-8) To view detailed results, visit: https://lab.dpdk.org/results/dashboard/tarballs/35136/ UNH-IOL DPDK Community Lab To manage your email subscriptions, visit: https://lab.dpdk.org/results/dashboard/preferences/subscriptions/