From mboxrd@z Thu Jan 1 00:00:00 1970 Return-Path: Received: from mails.dpdk.org (mails.dpdk.org [217.70.189.124]) by inbox.dpdk.org (Postfix) with ESMTP id 64192488E7 for ; Thu, 9 Oct 2025 00:16:24 +0200 (CEST) Received: from mails.dpdk.org (localhost [127.0.0.1]) by mails.dpdk.org (Postfix) with ESMTP id 439AC40267; Thu, 9 Oct 2025 00:16:24 +0200 (CEST) Received: from mail-pl1-f227.google.com (mail-pl1-f227.google.com [209.85.214.227]) by mails.dpdk.org (Postfix) with ESMTP id A766840267 for ; Thu, 9 Oct 2025 00:16:23 +0200 (CEST) Received: by mail-pl1-f227.google.com with SMTP id d9443c01a7336-269639879c3so2806515ad.2 for ; Wed, 08 Oct 2025 15:16:23 -0700 (PDT) DKIM-Signature: v=1; a=rsa-sha256; c=relaxed/relaxed; d=iol.unh.edu; s=unh-iol; t=1759961783; x=1760566583; darn=dpdk.org; h=references:in-reply-to:cc:to:from:subject:message-id:date:from:to :cc:subject:date:message-id:reply-to; bh=Qk6QQ8VZPGPxC2qEukYoKjsP7bxpyhha5CMZySWj7Is=; b=NTm4bG1+71hGrGMI+J2S0GwLjKDgucrWwkUaNW2B/4wP8vDIN0UtgZChkHglUuhOKY 9Q1rI/Nn3LcGyKVfAQ99MIaFqm4ZXUMZLS6LMWnvq6kl686Da5T3lBXZazG8UW7kLa3x svGCtagGlTMDDedyN0ZZpRDKfhKE4xZePn7yg= X-Google-DKIM-Signature: v=1; a=rsa-sha256; c=relaxed/relaxed; d=1e100.net; s=20230601; t=1759961783; x=1760566583; h=references:in-reply-to:cc:to:from:subject:message-id:date :x-gm-message-state:from:to:cc:subject:date:message-id:reply-to; bh=Qk6QQ8VZPGPxC2qEukYoKjsP7bxpyhha5CMZySWj7Is=; b=HW0EzRnbxzJRzk1ZLUDBgOP5AGjQEYKA7okTaPfSobmcvdymbZqhO7YidUmAQ4cA7s eBZpYsT0Sr61rnA76+nvtOaFVb+kdLnEfwEjgnls6zTGuGVF04rcmCBSqkRmCLMT1Dcc t4dg7RIW3XeS8jPGTV/d0TNWqYBiNV/0iFEkHksLRSnmqqYH55il9nhr8zo0NjsIAzA2 rHqFVhiVnk3FJKJ5p8MstlnL/1fK4/lCcFsu69+Prm94GnGdjYN+osEqZ3MjcVl1EQ/O zDr3vQKN8EtaX0m15uiWNqyOWm7gehxyQGx0/jnddEColTEHKZnDWy3FLOSNM+POXkaK JWfA== X-Gm-Message-State: AOJu0Yytr6a+AKAFj4XZq6R0fRnpDWBz/pCu7dNgK4D4GwZuUDNkuk4X LCS8zc7rsO7XHwrIYUCkwdAEIQvd9dm7r1xjVfatVVWLHjz7SRAr3apFyzBljW7uCAZ4UAKMqvq vBoIOy1lFqeMxlV3xFvFUy4vBRPCtiw9nDmmn8G32IX1aOwti8au9c6owoAxw X-Gm-Gg: ASbGncvNTaF+yu7dVx8QUttJhccfJt84nJaHkBe9riD/4QGal3qMP0eqeJLH+0r19U3 wx6GFGq2cf3fKYYFmYmkc78bwU1S3hNUlKbTS4+xt9op1Gxp2zEN71D55pMC/RE9yuNs9vE7jEv TpgRaS+hNYEDJd8HeJS6n9LRQw4KXYh4BXzXPqwSnthDZaty3AoyCmWgQ9bVhkI72tinzXvMfQW 0JK1BPLMzpJ2rKBckYvTDQGEis1kn7qBLCvOiOt34m6FpZB5FAz9+PlJDW0lYU0SQ79JjgCWA+P 863LLg3PeRNXzOQvLAeA6ChAKCAAlHowl9GLHwRwmcw2K3vJCEWovKU= X-Google-Smtp-Source: AGHT+IEGWIeiGYea8RG6vFHQQseyHRY4RDL0t7ZROJ/Xn7+56SkTTZfg8/fgGn8VanmdpLI8Utfzaf/woe0b X-Received: by 2002:a17:902:ea04:b0:270:ea84:3242 with SMTP id d9443c01a7336-29027373b53mr73683125ad.15.1759961782742; Wed, 08 Oct 2025 15:16:22 -0700 (PDT) Received: from postal.iol.unh.edu (postal.iol.unh.edu. [2606:4100:3880:1234::84]) by smtp-relay.gmail.com with ESMTPS id 98e67ed59e1d1-33b510e47dasm383515a91.2.2025.10.08.15.16.22 (version=TLS1_2 cipher=ECDHE-ECDSA-AES128-GCM-SHA256 bits=128/128); Wed, 08 Oct 2025 15:16:22 -0700 (PDT) X-Relaying-Domain: iol.unh.edu Date: Wed, 08 Oct 2025 15:16:22 -0700 (PDT) Message-ID: <68e6e2b6.170a0220.1e75ab.4a17SMTPIN_ADDED_MISSING@mx.google.com> Received: from [172.21.0.2] (unknown [172.18.0.240]) by postal.iol.unh.edu (Postfix) with ESMTP id F1CED604D420; Wed, 8 Oct 2025 18:16:21 -0400 (EDT) Subject: |SUCCESS| pw157331-157351 [PATCH] [v10,21/21] eal: allow lcore remap From: dpdklab@iol.unh.edu To: Test Report Cc: dpdk-test-reports@iol.unh.edu In-Reply-To: <20251008204244.2288583-22-bruce.richardson@intel.com> References: <20251008204244.2288583-22-bruce.richardson@intel.com> Content-Type: text/plain X-BeenThere: test-report@dpdk.org X-Mailman-Version: 2.1.29 Precedence: list List-Id: automatic DPDK test reports List-Unsubscribe: , List-Archive: List-Post: List-Help: List-Subscribe: , Errors-To: test-report-bounces@dpdk.org Test-Label: iol-unit-amd64-testing Test-Status: SUCCESS http://dpdk.org/patch/157351 _Testing PASS_ Submitter: Bruce Richardson Date: Wednesday, October 08 2025 20:42:44 DPDK git baseline: Repo:dpdk Branch: master CommitID:2b403dd8fb37d0ba13723e44ffc7ee2c2795f838 157331-157351 --> testing pass Upstream job id: Generic-Unit-Test-DPDK#379700 Test environment and result as below: +-------------------------------+----------------+ | Environment | dpdk_unit_test | +===============================+================+ | CentOS Stream 10 | PASS | +-------------------------------+----------------+ | CentOS Stream 9 | PASS | +-------------------------------+----------------+ | Debian GNU/Linux 12 | PASS | +-------------------------------+----------------+ | Ubuntu 20.04 | PASS | +-------------------------------+----------------+ | Fedora Linux 40 | PASS | +-------------------------------+----------------+ | Fedora Linux 41 | PASS | +-------------------------------+----------------+ | Red Hat Enterprise Linux 8.10 | PASS | +-------------------------------+----------------+ | Ubuntu 22.04 | PASS | +-------------------------------+----------------+ | Fedora Linux 42 | PASS | +-------------------------------+----------------+ | Red Hat Enterprise Linux 9.5 | PASS | +-------------------------------+----------------+ | Ubuntu 24.04 | PASS | +-------------------------------+----------------+ | Windows Server 2022 | PASS | +-------------------------------+----------------+ CentOS Stream 10 Kernel: 5.15 Compiler: gcc gcc (GCC) 14.2.1 20250110 (Red Hat 14.2.1-8) CentOS Stream 9 Kernel: 5.15 Compiler: gcc gcc (GCC) 11.5.0 20240719 (Red Hat 11.5.0-11) Debian GNU/Linux 12 Kernel: 5.15 Compiler: gcc gcc (Debian 12.2.0-14+deb12u1) 12.2.0 Ubuntu 20.04 Kernel: 5.15 Compiler: gcc gcc (Ubuntu 9.4.0-1ubuntu1~20.04.2) 9.4.0 Fedora Linux 40 Kernel: 5.15 Compiler: gcc gcc (GCC) 14.2.1 20240912 (Red Hat 14.2.1-3) Fedora Linux 41 Kernel: 5.15 Compiler: gcc gcc (GCC) 14.3.1 20250523 (Red Hat 14.3.1-1) Red Hat Enterprise Linux 8.10 Kernel: 5.15 Compiler: gcc gcc (GCC) 8.5.0 20210514 (Red Hat 8.5.0-22) Ubuntu 22.04 Kernel: 5.15 Compiler: gcc gcc (Ubuntu 11.4.0-1ubuntu1~22.04) 11.4.0 Fedora Linux 42 Kernel: 5.15 Compiler: clang gcc (GCC) 15.2.1 20250808 (Red Hat 15.2.1-1) Red Hat Enterprise Linux 9.5 Kernel: 5.15 Compiler: gcc gcc (GCC) 11.5.0 20240719 (Red Hat 11.5.0-2) Ubuntu 24.04 Kernel: 5.15 Compiler: gcc gcc (Ubuntu 13.3.0-6ubuntu2~24.04) 13.3.0 Windows Server 2022 Kernel: 10.0.20348.2031 Compiler: clang 15.0.7, gcc 14.1.0 (MinGW), and MSVC VS 19.39.33521 To view detailed results, visit: https://lab.dpdk.org/results/dashboard/patchsets/34239/ UNH-IOL DPDK Community Lab To manage your email subscriptions, visit: https://lab.dpdk.org/results/dashboard/preferences/subscriptions/