From mboxrd@z Thu Jan 1 00:00:00 1970 Return-Path: Received: from mails.dpdk.org (mails.dpdk.org [217.70.189.124]) by inbox.dpdk.org (Postfix) with ESMTP id 64233488E7 for ; Thu, 9 Oct 2025 00:17:20 +0200 (CEST) Received: from mails.dpdk.org (localhost [127.0.0.1]) by mails.dpdk.org (Postfix) with ESMTP id 5CA3640267; Thu, 9 Oct 2025 00:17:20 +0200 (CEST) Received: from mail-qv1-f98.google.com (mail-qv1-f98.google.com [209.85.219.98]) by mails.dpdk.org (Postfix) with ESMTP id 956C440267 for ; Thu, 9 Oct 2025 00:17:19 +0200 (CEST) Received: by mail-qv1-f98.google.com with SMTP id 6a1803df08f44-795be3a3644so2384946d6.0 for ; Wed, 08 Oct 2025 15:17:19 -0700 (PDT) DKIM-Signature: v=1; a=rsa-sha256; c=relaxed/relaxed; d=iol.unh.edu; s=unh-iol; t=1759961839; x=1760566639; darn=dpdk.org; h=references:in-reply-to:cc:to:from:subject:message-id:date:from:to :cc:subject:date:message-id:reply-to; bh=ODO8+cO7+Yiv/uEvJ3doSH3wqAleU1Qe4uTnca136LU=; b=hSue36vEKyHaw1Juco2p4WWBea4yHYqEmhGzSLX+iKa3fY0sloeaFKt0gfA8/XtkmA Uj2hoDXKgl/Ugbg5ROgyXqKPBJHPxmza+IQhvyaBjjkcSgPD0vHLarFYt0P4kZIm4wWV 2p9hjdLvmEHyK1pq7TRPjWRVg5o3XPLR8peB8= X-Google-DKIM-Signature: v=1; a=rsa-sha256; c=relaxed/relaxed; d=1e100.net; s=20230601; t=1759961839; x=1760566639; h=references:in-reply-to:cc:to:from:subject:message-id:date :x-gm-message-state:from:to:cc:subject:date:message-id:reply-to; bh=ODO8+cO7+Yiv/uEvJ3doSH3wqAleU1Qe4uTnca136LU=; b=LjUk0unpW5aBcEj0LS9av/2XQJf8owSPOqEujcbSVbRfzFYOY/iwdWSucEouuIZc1z XwJ8P+xGpuYVnbirqQzZfp3q6QsuDudz+06/G6q2hdtXsVu7v6H8kYzUnmRXzwNzMB+g 5ZZbcSZVNJcAK05BScLtszy6SMEabsUdP0/dZh/R/hknf5FEcdxohzpBFamomQVzWqxS wCaYTH7KZynw329eOr/K5c1Tjq8qZ1K+COpentSo4McKvd2Qx8iLP+qdxQ2KD7zkSNVH szcEJzdmqX04c4gEtF/8nELqpwC11zpsWxXeQIdeskXAbXUxxEQyOenmR0QKszZ1hgUe DcOg== X-Gm-Message-State: AOJu0YyhHy1e0I3d9srLWrJBB9akLgZZ0k+kStryPI8ZxXlZl0IQzTrJ vPX4vgcjfN+ewLJfNQ5QrEe6xTYuZhuOfKrOVtEoW9pXnqmQxkFlgDc0hZqbgSi8PlESIRnhFVy bu8RHj58Bb2HlmVPwqXBvINrTY/NMLZc3LaT5vbnyRsNOiKCufBGMPpeMf/9T X-Gm-Gg: ASbGncvN3M2ldPV0sF/riEyKl/20N5mNVfFgLD/W7WyajSFNnmvZzcUvsA5zQTFmqNH sXvPOARKzC/iypduXz7yESfJEPHSzhnCaC9XWX73tRpO2qLSlb02iPSu5jGZzehLd+WNPPV3FG8 DbssayK0k7PvxSr/PjVOWtXP3lBIgey7PeRGPIunfE6a0xdaD614HuGGt7j2x3PrOQC3jA1cXG1 3PpHt3dY3xm3B0ubxl2OAov1CDzPdGqImpTsw/KAVa7gKZWuLtnYRrqq5By0y+q67jxv4hfxT2J 05NEKnXarMpqynC4Z0IP02+aUFE8vlMG6svsGeKghrbX7b1jq+QIBW4= X-Google-Smtp-Source: AGHT+IHEUzZ2X5X+BzCTvaUFP8D5bFlkMdf7syGNSa28O36R8VI40ZZSaWU7Dtn++E9m+jVMDfk8Oo8Zi5UZ X-Received: by 2002:a05:6214:f01:b0:817:2871:ae7 with SMTP id 6a1803df08f44-87b2102654bmr86223296d6.23.1759961838762; Wed, 08 Oct 2025 15:17:18 -0700 (PDT) Received: from postal.iol.unh.edu (postal.iol.unh.edu. [2606:4100:3880:1234::84]) by smtp-relay.gmail.com with ESMTPS id 6a1803df08f44-878bb43e04asm16682796d6.11.2025.10.08.15.17.18 (version=TLS1_2 cipher=ECDHE-ECDSA-AES128-GCM-SHA256 bits=128/128); Wed, 08 Oct 2025 15:17:18 -0700 (PDT) X-Relaying-Domain: iol.unh.edu Date: Wed, 08 Oct 2025 15:17:18 -0700 (PDT) Message-ID: <68e6e2ee.050a0220.3afa59.8875SMTPIN_ADDED_MISSING@mx.google.com> Received: from [172.21.0.2] (unknown [172.18.0.240]) by postal.iol.unh.edu (Postfix) with ESMTP id 7A364604D420; Wed, 8 Oct 2025 18:17:18 -0400 (EDT) Subject: |SUCCESS| pw157315-157319 [PATCH] [v2,5/5] net/dpaa: Fix coverity is From: dpdklab@iol.unh.edu To: Test Report Cc: dpdk-test-reports@iol.unh.edu, Stephen Hemminger In-Reply-To: <20251008043519.2461707-6-g.singh@nxp.com> References: <20251008043519.2461707-6-g.singh@nxp.com> Content-Type: text/plain X-BeenThere: test-report@dpdk.org X-Mailman-Version: 2.1.29 Precedence: list List-Id: automatic DPDK test reports List-Unsubscribe: , List-Archive: List-Post: List-Help: List-Subscribe: , Errors-To: test-report-bounces@dpdk.org Test-Label: iol-compile-amd64-testing Test-Status: SUCCESS http://dpdk.org/patch/157319 _Testing PASS_ Submitter: Gagandeep Singh Date: Wednesday, October 08 2025 04:35:19 DPDK git baseline: Repo:dpdk-next-net Branch: master CommitID:c04bbd131b2c14b3049bf86d3ef367b34e6fdf1e 157315-157319 --> testing pass Upstream job id: Generic-DPDK-Compile-Meson#432488 Test environment and result as below: +-------------------------------+--------------------+-------------------------+-------------------+----------------------+-------------------+------------------+ | Environment | dpdk_meson_compile | dpdk_llvm_clang_compile | dpdk_msvc_compile | dpdk_mingw64_compile | dpdk_compile_spdk | dpdk_compile_ovs | +===============================+====================+=========================+===================+======================+===================+==================+ | Ubuntu 20.04 | PASS | SKIPPED | SKIPPED | SKIPPED | SKIPPED | SKIPPED | +-------------------------------+--------------------+-------------------------+-------------------+----------------------+-------------------+------------------+ | FreeBSD 14.2 | PASS | SKIPPED | SKIPPED | SKIPPED | SKIPPED | SKIPPED | +-------------------------------+--------------------+-------------------------+-------------------+----------------------+-------------------+------------------+ | CentOS Stream 9 | PASS | SKIPPED | SKIPPED | SKIPPED | PASS | SKIPPED | +-------------------------------+--------------------+-------------------------+-------------------+----------------------+-------------------+------------------+ | CentOS Stream 10 | PASS | SKIPPED | SKIPPED | SKIPPED | SKIPPED | SKIPPED | +-------------------------------+--------------------+-------------------------+-------------------+----------------------+-------------------+------------------+ | Debian GNU/Linux 12 | PASS | SKIPPED | SKIPPED | SKIPPED | PASS | SKIPPED | +-------------------------------+--------------------+-------------------------+-------------------+----------------------+-------------------+------------------+ | Fedora Linux 42 | PASS | SKIPPED | SKIPPED | SKIPPED | PASS | PASS | +-------------------------------+--------------------+-------------------------+-------------------+----------------------+-------------------+------------------+ | openSUSE Leap 15.6 | PASS | SKIPPED | SKIPPED | SKIPPED | SKIPPED | SKIPPED | +-------------------------------+--------------------+-------------------------+-------------------+----------------------+-------------------+------------------+ | Red Hat Enterprise Linux 8.10 | PASS | SKIPPED | SKIPPED | SKIPPED | SKIPPED | SKIPPED | +-------------------------------+--------------------+-------------------------+-------------------+----------------------+-------------------+------------------+ | Red Hat Enterprise Linux 9.5 | PASS | SKIPPED | SKIPPED | SKIPPED | SKIPPED | SKIPPED | +-------------------------------+--------------------+-------------------------+-------------------+----------------------+-------------------+------------------+ | Ubuntu 22.04 | PASS | SKIPPED | SKIPPED | SKIPPED | PASS | SKIPPED | +-------------------------------+--------------------+-------------------------+-------------------+----------------------+-------------------+------------------+ | Ubuntu 24.04 | PASS | SKIPPED | SKIPPED | SKIPPED | PASS | PASS | +-------------------------------+--------------------+-------------------------+-------------------+----------------------+-------------------+------------------+ | Alpine Linux 3.22.0 | PASS | SKIPPED | SKIPPED | SKIPPED | SKIPPED | SKIPPED | +-------------------------------+--------------------+-------------------------+-------------------+----------------------+-------------------+------------------+ | Windows Server 2022 | SKIPPED | PASS | PASS | PASS | SKIPPED | SKIPPED | +-------------------------------+--------------------+-------------------------+-------------------+----------------------+-------------------+------------------+ Ubuntu 20.04 Kernel: 4.19 Compiler: gcc gcc (Ubuntu 9.4.0-1ubuntu1~20.04.2) 9.4.0 FreeBSD 14.2 Kernel: 14.2-RELEASE Compiler: clang 18.1.6 CentOS Stream 9 Kernel: 5.15 Compiler: gcc gcc (GCC) 11.5.0 20240719 (Red Hat 11.5.0-11) CentOS Stream 10 Kernel: 5.15 Compiler: gcc gcc (GCC) 14.2.1 20250110 (Red Hat 14.2.1-8) Debian GNU/Linux 12 Kernel: 5.15 Compiler: gcc gcc (Debian 12.2.0-14+deb12u1) 12.2.0 Fedora Linux 42 Kernel: 5.15 Compiler: clang gcc (GCC) 15.2.1 20250808 (Red Hat 15.2.1-1) openSUSE Leap 15.6 Kernel: 5.15 Compiler: gcc gcc (SUSE Linux) 7.5.0 Red Hat Enterprise Linux 8.10 Kernel: 5.15 Compiler: gcc gcc (GCC) 8.5.0 20210514 (Red Hat 8.5.0-22) Red Hat Enterprise Linux 9.5 Kernel: 5.15 Compiler: gcc gcc (GCC) 11.5.0 20240719 (Red Hat 11.5.0-2) Ubuntu 22.04 Kernel: 5.15 Compiler: gcc gcc (Ubuntu 11.4.0-1ubuntu1~22.04) 11.4.0 Ubuntu 24.04 Kernel: 5.15 Compiler: gcc gcc (Ubuntu 13.3.0-6ubuntu2~24.04) 13.3.0 Alpine Linux 3.22.0 Kernel: 5.15 Compiler: gcc gcc (Alpine 14.2.0) 14.2.0 Windows Server 2022 Kernel: 10.0.20348.2031 Compiler: clang 15.0.7, gcc 14.1.0 (MinGW), and MSVC VS 19.39.33521 To view detailed results, visit: https://lab.dpdk.org/results/dashboard/patchsets/34232/ UNH-IOL DPDK Community Lab To manage your email subscriptions, visit: https://lab.dpdk.org/results/dashboard/preferences/subscriptions/