From mboxrd@z Thu Jan 1 00:00:00 1970 Return-Path: Received: from mails.dpdk.org (mails.dpdk.org [217.70.189.124]) by inbox.dpdk.org (Postfix) with ESMTP id 3EC83488E7 for ; Thu, 9 Oct 2025 00:36:32 +0200 (CEST) Received: from mails.dpdk.org (localhost [127.0.0.1]) by mails.dpdk.org (Postfix) with ESMTP id 1735C40267; Thu, 9 Oct 2025 00:36:32 +0200 (CEST) Received: from mail-ot1-f98.google.com (mail-ot1-f98.google.com [209.85.210.98]) by mails.dpdk.org (Postfix) with ESMTP id 8847A40267 for ; Thu, 9 Oct 2025 00:36:30 +0200 (CEST) Received: by mail-ot1-f98.google.com with SMTP id 46e09a7af769-7b6d6a1e4e4so228450a34.2 for ; Wed, 08 Oct 2025 15:36:30 -0700 (PDT) DKIM-Signature: v=1; a=rsa-sha256; c=relaxed/relaxed; d=iol.unh.edu; s=unh-iol; t=1759962990; x=1760567790; darn=dpdk.org; h=references:in-reply-to:cc:to:from:subject:message-id:date:from:to :cc:subject:date:message-id:reply-to; bh=PLi2MjwUNrQoFq3UxejMM/YfWYZJlpdSEBOT83XXhsM=; b=eJStjVBTS2P2C8G62/6RzOu2TNtj7Wz8rw/ofYq9q8G3lpaEEIv8yW2qOv9Rgjmyde hq/b7WrdrsYU4+I+a7ydLQUUpqNZQh0kOm35Fms6wS1rhOreFdI4w5UW8txF7OIP249f oSN2qFRpbAVwXs0ZESiAhkDWw7E2pXZkr5A9c= X-Google-DKIM-Signature: v=1; a=rsa-sha256; c=relaxed/relaxed; d=1e100.net; s=20230601; t=1759962990; x=1760567790; h=references:in-reply-to:cc:to:from:subject:message-id:date :x-gm-message-state:from:to:cc:subject:date:message-id:reply-to; bh=PLi2MjwUNrQoFq3UxejMM/YfWYZJlpdSEBOT83XXhsM=; b=OLtWj8+e5moItWsLG+BKvcEGGCxsW0TbdwK7DogI/apJ7qbbEZMNCUYumTL8iYowRh OyPCvIQM+oxhlFWR1y1PURM4yCispvv5/6EWwvrVE3PS3acuhZIkbDTiVoFh33W7X1wr RfZCb39qzyrx6eh/13m7l7qVR0Y+GaqlWNgFYshTdUysyhjZD/1zSkzKV/VaQQicAKJ4 VNsO//keofrpVLfhFV887ngfQ8HgdEbd8j2kK7X37ybzFez3KLZp/LhW15eHh3jyJTvd PCxiS3GabVj7QeD1tNLTES6c5DBi4Kh4v/beWq+PKyRDiTpPfSeZaPDBkz4wbE+dRmWt kGmQ== X-Gm-Message-State: AOJu0Yw013j5N6TBzSmaMKtLghEBfLj/TaGGlDZgHAjk9eDMEgxY6nhk QbB3TuJtuDvg2fMGquO0GJhJEDyrg26L4V1FSBPvC3VAUs+LTuzBnKeytwlVmBaRcunNG+oBK/E NC/qLb3ByehAF2QwbrTlptf0Kbs/H2HVSOnnD3dxtLOgQ X-Gm-Gg: ASbGnctCXrAfQd5TI4w2H7GScP1Zhmj6FDbMr6xDznNPU2x6a6lQp1EigpkL91bAVTu E2+97hETtP3EgZeNTuaAX+hUMnF6wnGycnQ3CnJCKLiR3RtEvkA18iQZWtrzAjy9Euyx563pRyl K2YGgSaA/78NH0gNa9B7rA1LxKmWdanmeb60ywjbil7kZ4oZ0PnsBWc6JNhj5WEHBSNhJKQJeBa 2oV0T2hLcKqiVazlj2uQnoYlSnxRkTvPwJtsUePm1SJd0J6LJasbxhq/MRAICObuEcXknIMYfvl BRIwW7QN0JpYfktaE/i1vmOGpic9iCVi/bTOFsWdoDVM/Uh9KKqFRZhIUo/MkdY+E+q/kJxq2r0 1pg== X-Google-Smtp-Source: AGHT+IH2qXmPIxI3o29GSo8QoT6fLt8CiuHvfEe2AmQwzkJGLfAYf6KayIQLMTr3LwrMJS5+Nm8N6hbFFXxz X-Received: by 2002:a05:6830:71a7:b0:7bb:9743:ce7b with SMTP id 46e09a7af769-7c0df70e3cemr3625305a34.28.1759962989746; Wed, 08 Oct 2025 15:36:29 -0700 (PDT) Received: from postal.iol.unh.edu (postal.iol.unh.edu. [132.177.123.84]) by smtp-relay.gmail.com with ESMTPS id 46e09a7af769-7bf419f56c0sm1292364a34.6.2025.10.08.15.36.29 (version=TLS1_2 cipher=ECDHE-ECDSA-AES128-GCM-SHA256 bits=128/128); Wed, 08 Oct 2025 15:36:29 -0700 (PDT) X-Relaying-Domain: iol.unh.edu Date: Wed, 08 Oct 2025 15:36:29 -0700 (PDT) Message-ID: <68e6e76d.050a0220.3484aa.5acbSMTPIN_ADDED_MISSING@mx.google.com> Received: from [172.21.0.2] (unknown [172.18.0.240]) by postal.iol.unh.edu (Postfix) with ESMTP id 3635C604D420; Wed, 8 Oct 2025 18:36:29 -0400 (EDT) Subject: |SUCCESS| pw157320 [PATCH] app/crypto-perf: add ECDSA P192/P224/P521 From: dpdklab@iol.unh.edu To: Test Report Cc: dpdk-test-reports@iol.unh.edu, Akhil Goyal In-Reply-To: <20251008054059.3934959-1-rchiluka@marvell.com> References: <20251008054059.3934959-1-rchiluka@marvell.com> Content-Type: text/plain X-BeenThere: test-report@dpdk.org X-Mailman-Version: 2.1.29 Precedence: list List-Id: automatic DPDK test reports List-Unsubscribe: , List-Archive: List-Post: List-Help: List-Subscribe: , Errors-To: test-report-bounces@dpdk.org Test-Label: iol-compile-amd64-testing Test-Status: SUCCESS http://dpdk.org/patch/157320 _Testing PASS_ Submitter: Rupesh Chiluka Date: Wednesday, October 08 2025 05:40:59 DPDK git baseline: Repo:dpdk-next-crypto Branch: master CommitID:2aa7141a4e2c78e3cce03dbd613532a2166123c1 157320 --> testing pass Upstream job id: Generic-DPDK-Compile-Meson#432500 Test environment and result as below: +-------------------------------+--------------------+-------------------------+-------------------+----------------------+-------------------+------------------+ | Environment | dpdk_meson_compile | dpdk_llvm_clang_compile | dpdk_msvc_compile | dpdk_mingw64_compile | dpdk_compile_spdk | dpdk_compile_ovs | +===============================+====================+=========================+===================+======================+===================+==================+ | Ubuntu 20.04 | PASS | SKIPPED | SKIPPED | SKIPPED | SKIPPED | SKIPPED | +-------------------------------+--------------------+-------------------------+-------------------+----------------------+-------------------+------------------+ | FreeBSD 14.2 | PASS | SKIPPED | SKIPPED | SKIPPED | SKIPPED | SKIPPED | +-------------------------------+--------------------+-------------------------+-------------------+----------------------+-------------------+------------------+ | CentOS Stream 9 | PASS | SKIPPED | SKIPPED | SKIPPED | PASS | SKIPPED | +-------------------------------+--------------------+-------------------------+-------------------+----------------------+-------------------+------------------+ | CentOS Stream 10 | PASS | SKIPPED | SKIPPED | SKIPPED | SKIPPED | SKIPPED | +-------------------------------+--------------------+-------------------------+-------------------+----------------------+-------------------+------------------+ | Debian GNU/Linux 12 | PASS | SKIPPED | SKIPPED | SKIPPED | PASS | SKIPPED | +-------------------------------+--------------------+-------------------------+-------------------+----------------------+-------------------+------------------+ | Fedora Linux 42 | PASS | SKIPPED | SKIPPED | SKIPPED | PASS | PASS | +-------------------------------+--------------------+-------------------------+-------------------+----------------------+-------------------+------------------+ | openSUSE Leap 15.6 | PASS | SKIPPED | SKIPPED | SKIPPED | SKIPPED | SKIPPED | +-------------------------------+--------------------+-------------------------+-------------------+----------------------+-------------------+------------------+ | Red Hat Enterprise Linux 8.10 | PASS | SKIPPED | SKIPPED | SKIPPED | SKIPPED | SKIPPED | +-------------------------------+--------------------+-------------------------+-------------------+----------------------+-------------------+------------------+ | Red Hat Enterprise Linux 9.5 | PASS | SKIPPED | SKIPPED | SKIPPED | SKIPPED | SKIPPED | +-------------------------------+--------------------+-------------------------+-------------------+----------------------+-------------------+------------------+ | Ubuntu 22.04 | PASS | SKIPPED | SKIPPED | SKIPPED | PASS | SKIPPED | +-------------------------------+--------------------+-------------------------+-------------------+----------------------+-------------------+------------------+ | Windows Server 2022 | SKIPPED | PASS | PASS | PASS | SKIPPED | SKIPPED | +-------------------------------+--------------------+-------------------------+-------------------+----------------------+-------------------+------------------+ Ubuntu 20.04 Kernel: 4.19 Compiler: gcc gcc (Ubuntu 9.4.0-1ubuntu1~20.04.2) 9.4.0 FreeBSD 14.2 Kernel: 14.2-RELEASE Compiler: clang 18.1.6 CentOS Stream 9 Kernel: 5.15 Compiler: gcc gcc (GCC) 11.5.0 20240719 (Red Hat 11.5.0-11) CentOS Stream 10 Kernel: 5.15 Compiler: gcc gcc (GCC) 14.2.1 20250110 (Red Hat 14.2.1-8) Debian GNU/Linux 12 Kernel: 5.15 Compiler: gcc gcc (Debian 12.2.0-14+deb12u1) 12.2.0 Fedora Linux 42 Kernel: 5.15 Compiler: clang gcc (GCC) 15.2.1 20250808 (Red Hat 15.2.1-1) openSUSE Leap 15.6 Kernel: 5.15 Compiler: gcc gcc (SUSE Linux) 7.5.0 Red Hat Enterprise Linux 8.10 Kernel: 5.15 Compiler: gcc gcc (GCC) 8.5.0 20210514 (Red Hat 8.5.0-22) Red Hat Enterprise Linux 9.5 Kernel: 5.15 Compiler: gcc gcc (GCC) 11.5.0 20240719 (Red Hat 11.5.0-2) Ubuntu 22.04 Kernel: 5.15 Compiler: gcc gcc (Ubuntu 11.4.0-1ubuntu1~22.04) 11.4.0 Windows Server 2022 Kernel: 10.0.20348.2031 Compiler: clang 15.0.7, gcc 14.1.0 (MinGW), and MSVC VS 19.39.33521 To view detailed results, visit: https://lab.dpdk.org/results/dashboard/patchsets/34233/ UNH-IOL DPDK Community Lab To manage your email subscriptions, visit: https://lab.dpdk.org/results/dashboard/preferences/subscriptions/